BEGIN:VCALENDAR
VERSION:2.0
PRODID:-//Nemzeti Lovas Színház - ECPv6.14.2//NONSGML v1.0//EN
CALSCALE:GREGORIAN
METHOD:PUBLISH
X-ORIGINAL-URL:https://nemzetilovasszinhaz.hu
X-WR-CALDESC:Események Nemzeti Lovas Színház
REFRESH-INTERVAL;VALUE=DURATION:PT1H
X-Robots-Tag:noindex
X-PUBLISHED-TTL:PT1H
BEGIN:VTIMEZONE
TZID:UTC
BEGIN:STANDARD
TZOFFSETFROM:+0000
TZOFFSETTO:+0000
TZNAME:UTC
DTSTART:20160101T000000
END:STANDARD
END:VTIMEZONE
BEGIN:VEVENT
DTSTART;VALUE=DATE:20160611
DTEND;VALUE=DATE:20160612
DTSTAMP:20260425T112929
CREATED:20160602T122456Z
LAST-MODIFIED:20160602T122456Z
UID:1258-1465603200-1465689599@nemzetilovasszinhaz.hu
SUMMARY:Lovas István ker.metszet
DESCRIPTION:
URL:https://nemzetilovasszinhaz.hu/esemeny/lovas-istvan-ker-metszet/
LOCATION:Névtelen helyszín\, Császártöltés
END:VEVENT
END:VCALENDAR