BEGIN:VCALENDAR
VERSION:2.0
PRODID:-//Nemzeti Lovas Színház - ECPv6.14.2//NONSGML v1.0//EN
CALSCALE:GREGORIAN
METHOD:PUBLISH
X-WR-CALNAME:Nemzeti Lovas Színház
X-ORIGINAL-URL:https://nemzetilovasszinhaz.hu
X-WR-CALDESC:Események Nemzeti Lovas Színház
REFRESH-INTERVAL;VALUE=DURATION:PT1H
X-Robots-Tag:noindex
X-PUBLISHED-TTL:PT1H
BEGIN:VTIMEZONE
TZID:UTC
BEGIN:STANDARD
TZOFFSETFROM:+0000
TZOFFSETTO:+0000
TZNAME:UTC
DTSTART:20160101T000000
END:STANDARD
END:VTIMEZONE
BEGIN:VEVENT
DTSTART;TZID=UTC:20161014T190000
DTEND;TZID=UTC:20161014T210000
DTSTAMP:20260423T201738
CREATED:20161011T185154Z
LAST-MODIFIED:20161011T185154Z
UID:1572-1476471600-1476478800@nemzetilovasszinhaz.hu
SUMMARY:Padlás
DESCRIPTION:2 felvonásos musical.
URL:https://nemzetilovasszinhaz.hu/esemeny/padlas/
LOCATION:Városi Könyvtár és Közösségi Ház\, Tököli út 19.\, Szigetszentmiklós\, 2310\, Magyarország
END:VEVENT
END:VCALENDAR