BEGIN:VCALENDAR
VERSION:2.0
PRODID:-//Nemzeti Lovas Színház - ECPv6.14.2//NONSGML v1.0//EN
CALSCALE:GREGORIAN
METHOD:PUBLISH
X-WR-CALNAME:Nemzeti Lovas Színház
X-ORIGINAL-URL:https://nemzetilovasszinhaz.hu
X-WR-CALDESC:Események Nemzeti Lovas Színház
REFRESH-INTERVAL;VALUE=DURATION:PT1H
X-Robots-Tag:noindex
X-PUBLISHED-TTL:PT1H
BEGIN:VTIMEZONE
TZID:UTC
BEGIN:STANDARD
TZOFFSETFROM:+0000
TZOFFSETTO:+0000
TZNAME:UTC
DTSTART:20160101T000000
END:STANDARD
END:VTIMEZONE
BEGIN:VEVENT
DTSTART;TZID=UTC:20161028T193000
DTEND;TZID=UTC:20161030T220000
DTSTAMP:20260423T201738
CREATED:20160905T151626Z
LAST-MODIFIED:20161025T120239Z
UID:1460-1477683000-1477864800@nemzetilovasszinhaz.hu
SUMMARY:Hungalórum - Kincsem park
DESCRIPTION:Hungalórum \nKincsem Park \n1101 Budapest\, Albertirsai út 2-4. \nA Nemzeti Lovas Színház októberben avatja fel az új játszóhelyét\, a 600 férőhelyes\, télen- \nnyáron előadásokra alkalmas rendezvénysátrát Budapesten\, a Kincsem Parkban! \nSzínházunk küldetése\, hogy a világszerte egyedülálló színházi műfajjal visszarepítse a ma \nemberét abba a csodálatos világba\, ahol az ember egyedüli igaz barátja a ló. \nCélunk\, hogy fiataljainknak új hősöket\, új példaképeket állítsunk\, akiket az új generáció \nméltón követhet! \nA Hungalórum című produkciónk egy igazi hungarikum\, mivel előadásunk nem csak \nhazánkban\, hanem egész Európában és világszerte is egyedülálló. Világhírű\, népszerű\, főként \nmagyar operettek\, musicalek és rock musicalek elevenednek meg lóhátról. Az est folyamán \nnemcsak kiváló énekes lovas színészeink kapnak helyet a porondon\, kaszkadőreink parádés \nlovas elemekkel színesítik az előadást\, így emelve hidat a színház- és a cirkuszművészet \nközött. A huszárok\, a betyárok\, a magyar nemzeti lobogó\, a szívünkre ható nemzeti érzelmek \nés a gyönyörű lovak mellett a Nemzeti Lovas Színház művészei sok más meglepetéssel is \nvárják a közönséget. \nA produkcióban felcsendülnek részletek a Csárdáskirálynő\, a Mágnás Miska\, a Marica grófnő \ncímű magyar operettekből\, az István a király\, a Honfoglalás című magyar\, valamint a világ \nlegnépszerűbb Az Operaház fantomja\, a Rómeó és Júlia és a Don Quijote című közismert \nrock musicalekből is. \nA 2×1 órás egy 20 perces szünettel megtartott estén a Nemzeti Lovas Színház tehetséges \nművészei varázsolják el Önöket a színház világába. \n&quot;Hisszük\, hogy mi magyarok lovas nemzetként is elismert és megbecsült nép lehetünk nem \ncsak Európában\, hanem az egész világon.&quot; (Pintér Tibor) \nElőadásaink: \n2016. október 28. péntek 19.30 \n2016. október 29. szombat 19.30 \n2016. október 30. vasárnap 18.00 \nA 2 féle jegytípus (5500/ 6500 forint) a www.jegy.hu weboldalon illetve a színház \nközönségszervezőjénél Miskovits Katinál a 30/422 3851-es telefonszámon vásárolható meg. \nA parkolás és ingyenes. \n[button style=”big filled arrow-right” icon=”” title=”Kattints ide és vedd meg a jegyed a Jegy.hu rendszerében” url=”https://www.jegy.hu/program/hungalorum-72521″] \n„Hisszük\, hogy mi magyarok lovas nemzetként is elismert és megbecsült nép lehetünk nem csak Európában\, hanem az egész világon.” (Pintér Tibor)
URL:https://nemzetilovasszinhaz.hu/esemeny/hungalorum-kincsem-park/
LOCATION:Kincsem Park\, Albertirsai út 2-4.\, Budapest\, 1101\, Magyarország
ATTACH;FMTTYPE=image/jpeg:https://nemzetilovasszinhaz.hu/wp-content/uploads/2016/09/image1-1-e1710355161312.jpg
END:VEVENT
END:VCALENDAR