BEGIN:VCALENDAR
VERSION:2.0
PRODID:-//Nemzeti Lovas Színház - ECPv6.14.2//NONSGML v1.0//EN
CALSCALE:GREGORIAN
METHOD:PUBLISH
X-WR-CALNAME:Nemzeti Lovas Színház
X-ORIGINAL-URL:https://nemzetilovasszinhaz.hu
X-WR-CALDESC:Események Nemzeti Lovas Színház
REFRESH-INTERVAL;VALUE=DURATION:PT1H
X-Robots-Tag:noindex
X-PUBLISHED-TTL:PT1H
BEGIN:VTIMEZONE
TZID:UTC
BEGIN:STANDARD
TZOFFSETFROM:+0000
TZOFFSETTO:+0000
TZNAME:UTC
DTSTART:20160101T000000
END:STANDARD
END:VTIMEZONE
BEGIN:VEVENT
DTSTART;TZID=UTC:20161119T193000
DTEND;TZID=UTC:20161119T213000
DTSTAMP:20260423T185010
CREATED:20161016T102100Z
LAST-MODIFIED:20161104T150156Z
UID:1607-1479583800-1479591000@nemzetilovasszinhaz.hu
SUMMARY:Lovas Honfoglalás - Kincsem Park
DESCRIPTION:A Honfoglalás című magyar rockopera feltárja magyar honfoglalással kapcsolatos legújabb történelmi információkat\, üzenve a mai fiataloknak és a Kárpát-medencében élő összes magyarnak\, hogy alaposabban megismerkedhessenek a magyarok valódi történelmével. A produkció a legigényesebb zenei és prózai adaptáción keresztül látványos jelenetekkel\, minőségi szereposztással mutatja be a 7 vezér hazatérését. \n„A szállj\, szállj sólyom szárnyán” című dal szerzői és Pintér Tibor\, a darab rendezője\, gondoskodnak arról\, hogy az előadás egy feledhetetlen élmény legyen a nézőknek\, akik ellátogatnak előadásunkra! \nZeneszerzők: Szűts István és Koltay Gergely \nRendező: Pintér Tibor \nKoreográfus: Nádasdy András és Patuzzi Mónika \nDíszlet és látvány: Domján Gábor \nTechnikai vezető: Csukay Zoltán \n[button style=”big arrow-right” icon=”” title=”MEGVÁSÁROLOM A JEGYEM A JEGY.HU RENDSZERÉBEN!” url=”https://www.jegy.hu/program/honfoglalas-73922″]
URL:https://nemzetilovasszinhaz.hu/esemeny/lovas-honfoglalas-kincsem-park-2/
LOCATION:Kincsem Park\, Albertirsai út 2-4.\, Budapest\, 1101\, Magyarország
END:VEVENT
END:VCALENDAR