BEGIN:VCALENDAR
VERSION:2.0
PRODID:-//Nemzeti Lovas Színház - ECPv6.14.2//NONSGML v1.0//EN
CALSCALE:GREGORIAN
METHOD:PUBLISH
X-ORIGINAL-URL:https://nemzetilovasszinhaz.hu
X-WR-CALDESC:Események Nemzeti Lovas Színház
REFRESH-INTERVAL;VALUE=DURATION:PT1H
X-Robots-Tag:noindex
X-PUBLISHED-TTL:PT1H
BEGIN:VTIMEZONE
TZID:UTC
BEGIN:STANDARD
TZOFFSETFROM:+0000
TZOFFSETTO:+0000
TZNAME:UTC
DTSTART:20160101T000000
END:STANDARD
END:VTIMEZONE
BEGIN:VEVENT
DTSTART;TZID=UTC:20161125T190000
DTEND;TZID=UTC:20161125T210000
DTSTAMP:20260423T185049
CREATED:20161016T103419Z
LAST-MODIFIED:20161016T103419Z
UID:1621-1480100400-1480107600@nemzetilovasszinhaz.hu
SUMMARY:Erzsébet-Katalin napi gála
DESCRIPTION:
URL:https://nemzetilovasszinhaz.hu/esemeny/erzsebet-katalin-napi-gala/
LOCATION:József Attila Általános Iskola előadóterem\, Szebeni utca 12505 hrsz.\, Szigetszentmiklós
END:VEVENT
END:VCALENDAR