BEGIN:VCALENDAR
VERSION:2.0
PRODID:-//Nemzeti Lovas Színház - ECPv6.14.2//NONSGML v1.0//EN
CALSCALE:GREGORIAN
METHOD:PUBLISH
X-ORIGINAL-URL:https://nemzetilovasszinhaz.hu
X-WR-CALDESC:Események Nemzeti Lovas Színház
REFRESH-INTERVAL;VALUE=DURATION:PT1H
X-Robots-Tag:noindex
X-PUBLISHED-TTL:PT1H
BEGIN:VTIMEZONE
TZID:UTC
BEGIN:STANDARD
TZOFFSETFROM:+0000
TZOFFSETTO:+0000
TZNAME:UTC
DTSTART:20160101T000000
END:STANDARD
END:VTIMEZONE
BEGIN:VEVENT
DTSTART;VALUE=DATE:20161231
DTEND;VALUE=DATE:20170101
DTSTAMP:20260423T160759
CREATED:20161016T104402Z
LAST-MODIFIED:20161016T104402Z
UID:1642-1483142400-1483228799@nemzetilovasszinhaz.hu
SUMMARY:Pintér Tibor és Pápai Kíra
DESCRIPTION:
URL:https://nemzetilovasszinhaz.hu/esemeny/pinter-tibor-es-papai-kira/
LOCATION:SunGarden Wellness és Konferencia Hotel\, Batthyány Lajos u. 24.\, Siófok
END:VEVENT
BEGIN:VEVENT
DTSTART;VALUE=DATE:20161231
DTEND;VALUE=DATE:20170101
DTSTAMP:20260423T160759
CREATED:20161016T104458Z
LAST-MODIFIED:20161016T104458Z
UID:1646-1483142400-1483228799@nemzetilovasszinhaz.hu
SUMMARY:Pintér Tibor és Pápai Kíra
DESCRIPTION:Részletek hamarosan.
URL:https://nemzetilovasszinhaz.hu/esemeny/pinter-tibor-es-papai-kira-2/
LOCATION:Hotel Helikon Keszthely\, Balaton-part 5\, Keszthely
END:VEVENT
END:VCALENDAR