BEGIN:VCALENDAR
VERSION:2.0
PRODID:-//Nemzeti Lovas Színház - ECPv6.14.2//NONSGML v1.0//EN
CALSCALE:GREGORIAN
METHOD:PUBLISH
X-WR-CALNAME:Nemzeti Lovas Színház
X-ORIGINAL-URL:https://nemzetilovasszinhaz.hu
X-WR-CALDESC:Események Nemzeti Lovas Színház
REFRESH-INTERVAL;VALUE=DURATION:PT1H
X-Robots-Tag:noindex
X-PUBLISHED-TTL:PT1H
BEGIN:VTIMEZONE
TZID:UTC
BEGIN:STANDARD
TZOFFSETFROM:+0000
TZOFFSETTO:+0000
TZNAME:UTC
DTSTART:20170101T000000
END:STANDARD
END:VTIMEZONE
BEGIN:VEVENT
DTSTART;TZID=UTC:20170127T190000
DTEND;TZID=UTC:20170127T210000
DTSTAMP:20260423T160649
CREATED:20170110T090149Z
LAST-MODIFIED:20170110T094406Z
UID:1737-1485543600-1485550800@nemzetilovasszinhaz.hu
SUMMARY:János Vitéz
DESCRIPTION:DALJÁTÉK\n\n\n\n\nA János vitéz című családi előadás a paraszt úból huszárrá vált Jancsi mesés kalandjait mutatja be lovas\nüldözésekkel\, nagy harcokkal\, illetve fergeteges látványelemekkel\, különleges zenei virtuozitással\, amelyekkel együtt egyedülálló élményt szeretnénk nyújtani a közönség számára. A szórakozás garantált\, kiváló énekeseink és lovasaink közreműködésével minőségi költészet\, magas színvonalú muzsika és szemet gyönyörködtető látvány várja majd a nézőket. Minden generációnak bátran ajánljuk\, hiszen a veretes huszárruhába öltöztetett János vitéz gurája megdobogtatja az ember szívét\, mert valahol\, mély gyökerekből fakadva a belénk kódolt történelmünk tör a felszínre. \n\n\n\n\n\n\n\n\n\n\n\n\nSzereposztás:\nJános vitéz – Pintér Tibor Iluska – Becz Bernadett Mostoha – Lőrincz Andrea / Papadimitriu Athina Bagó – Buch Tibor / Dancs János Strázsamester – Mohácsi Márk Francia király – Bencze Sándor Francia királylány – Pápai Kíra Csősz – Hábentius György Bartolo – Mohácsi Márk Kisfiú – Biró Bálint/Sipos Balázs Továbbá a Szigetszentmiklósi Sziget Színház musical stúdiósai és táncművészei\, a Nemzeti Lovas Színház lovasai lovasíjász – Katrics Tamás fogathajtó – Borsos Zoltán\nAlkotók:\nÍró – Pető Sándor Zene – Kacsóh Pongrácz Rendező – Pintér Tibor Koreográfus – Bakti Zoltán Díszlet és látvány – Domján Gábor Technikai vezető – Csukay Zoltán
URL:https://nemzetilovasszinhaz.hu/esemeny/janos-vitez/
LOCATION:Kincsem Park\, Albertirsai út 2-4.\, Budapest\, 1101\, Magyarország
ATTACH;FMTTYPE=image/jpeg:https://nemzetilovasszinhaz.hu/wp-content/uploads/2017/01/15732012_1199116880177246_3605804929948996888_o.jpg
END:VEVENT
END:VCALENDAR