BEGIN:VCALENDAR
VERSION:2.0
PRODID:-//Nemzeti Lovas Színház - ECPv6.14.2//NONSGML v1.0//EN
CALSCALE:GREGORIAN
METHOD:PUBLISH
X-WR-CALNAME:Nemzeti Lovas Színház
X-ORIGINAL-URL:https://nemzetilovasszinhaz.hu
X-WR-CALDESC:Események Nemzeti Lovas Színház
REFRESH-INTERVAL;VALUE=DURATION:PT1H
X-Robots-Tag:noindex
X-PUBLISHED-TTL:PT1H
BEGIN:VTIMEZONE
TZID:UTC
BEGIN:STANDARD
TZOFFSETFROM:+0000
TZOFFSETTO:+0000
TZNAME:UTC
DTSTART:20180101T000000
END:STANDARD
END:VTIMEZONE
BEGIN:VEVENT
DTSTART;TZID=UTC:20180622T190000
DTEND;TZID=UTC:20180622T220000
DTSTAMP:20260422T145018
CREATED:20180514T195943Z
LAST-MODIFIED:20180514T195943Z
UID:3006-1529694000-1529704800@nemzetilovasszinhaz.hu
SUMMARY:János vitéz - Dunaharaszti
DESCRIPTION:Igazi tündérmese csodákkal\, próbatételekkel\, amelyben az árva juhász\, Tündérország királyává válik.
URL:https://nemzetilovasszinhaz.hu/esemeny/janos-vitez-dunaharaszti/
LOCATION:Dunaharaszti
ATTACH;FMTTYPE=image/jpeg:https://nemzetilovasszinhaz.hu/wp-content/uploads/2017/11/jánosvitéz.jpg
END:VEVENT
END:VCALENDAR