BEGIN:VCALENDAR
VERSION:2.0
PRODID:-//Nemzeti Lovas Színház - ECPv6.14.2//NONSGML v1.0//EN
CALSCALE:GREGORIAN
METHOD:PUBLISH
X-WR-CALNAME:Nemzeti Lovas Színház
X-ORIGINAL-URL:https://nemzetilovasszinhaz.hu
X-WR-CALDESC:Események Nemzeti Lovas Színház
REFRESH-INTERVAL;VALUE=DURATION:PT1H
X-Robots-Tag:noindex
X-PUBLISHED-TTL:PT1H
BEGIN:VTIMEZONE
TZID:UTC
BEGIN:STANDARD
TZOFFSETFROM:+0000
TZOFFSETTO:+0000
TZNAME:UTC
DTSTART:20180101T000000
END:STANDARD
END:VTIMEZONE
BEGIN:VEVENT
DTSTART;TZID=UTC:20180817T200000
DTEND;TZID=UTC:20180817T230000
DTSTAMP:20260422T113114
CREATED:20180515T065628Z
LAST-MODIFIED:20180515T065628Z
UID:3051-1534536000-1534546800@nemzetilovasszinhaz.hu
SUMMARY:Trója - Kalocsa
DESCRIPTION:Egy szerelemből robban ki a világtörténelem egyik legismertebb háborúja\, ami egy egész civilizációt elpusztít.
URL:https://nemzetilovasszinhaz.hu/esemeny/troja-kalocsa/
LOCATION:Kalocsa\, Kalocsa\, Magyarország
ATTACH;FMTTYPE=image/jpeg:https://nemzetilovasszinhaz.hu/wp-content/uploads/2018/05/troja-közép-1024x678.jpg
END:VEVENT
END:VCALENDAR