BEGIN:VCALENDAR
VERSION:2.0
PRODID:-//Nemzeti Lovas Színház - ECPv6.14.2//NONSGML v1.0//EN
CALSCALE:GREGORIAN
METHOD:PUBLISH
X-WR-CALNAME:Nemzeti Lovas Színház
X-ORIGINAL-URL:https://nemzetilovasszinhaz.hu
X-WR-CALDESC:Események Nemzeti Lovas Színház
REFRESH-INTERVAL;VALUE=DURATION:PT1H
X-Robots-Tag:noindex
X-PUBLISHED-TTL:PT1H
BEGIN:VTIMEZONE
TZID:UTC
BEGIN:STANDARD
TZOFFSETFROM:+0000
TZOFFSETTO:+0000
TZNAME:UTC
DTSTART:20180101T000000
END:STANDARD
END:VTIMEZONE
BEGIN:VEVENT
DTSTART;TZID=UTC:20180825T193000
DTEND;TZID=UTC:20180825T230000
DTSTAMP:20260422T113139
CREATED:20180515T071021Z
LAST-MODIFIED:20180515T074227Z
UID:3059-1535225400-1535238000@nemzetilovasszinhaz.hu
SUMMARY:Csárdáskirálynő - Mórahalom
DESCRIPTION:Edvin herceg rajong Szilviáért\, a Pesti Orfeum csillagáért\, de arisztokrata családja ellenzi a rangon aluli kapcsolatot. Edvin szülei mindent elkövetnek\, hogy visszacsalják fiukat Bécsbe\, hogy ott eljegyezze unokahúgát Stázi grófnőt. A cselekményt a kedves\, bolondos Bóni gróf és Feri bácsi\, az orfeum törzsvendégei bonyolítják. A végén persze mindenki boldog lesz szíve választottjával. \n \nA világhírű dallamok\, mint a “Te rongyos élet”\, “Hajmási Péter”\, “Emlékszel még”\, valamint eredeti humora tette ezt az operettet a Nemzeti Lovas Színház egyik legnépszerűbb produkciójává is.
URL:https://nemzetilovasszinhaz.hu/esemeny/csardaskiralyno-morahalom/
LOCATION:Mórahalom – Patkó Lovas Színház\, Patkó Lovas Színház\, Mórahalom\, Csongrád\, Magyarország
ATTACH;FMTTYPE=image/jpeg:https://nemzetilovasszinhaz.hu/wp-content/uploads/2017/08/DSC_1002.jpg
END:VEVENT
END:VCALENDAR