BEGIN:VCALENDAR
VERSION:2.0
PRODID:-//Nemzeti Lovas Színház - ECPv6.14.2//NONSGML v1.0//EN
CALSCALE:GREGORIAN
METHOD:PUBLISH
X-ORIGINAL-URL:https://nemzetilovasszinhaz.hu
X-WR-CALDESC:Események Nemzeti Lovas Színház
REFRESH-INTERVAL;VALUE=DURATION:PT1H
X-Robots-Tag:noindex
X-PUBLISHED-TTL:PT1H
BEGIN:VTIMEZONE
TZID:UTC
BEGIN:STANDARD
TZOFFSETFROM:+0000
TZOFFSETTO:+0000
TZNAME:UTC
DTSTART:20180101T000000
END:STANDARD
END:VTIMEZONE
BEGIN:VEVENT
DTSTART;VALUE=DATE:20180826
DTEND;VALUE=DATE:20180827
DTSTAMP:20260422T113300
CREATED:20180515T071219Z
LAST-MODIFIED:20180717T094443Z
UID:3061-1535241600-1535327999@nemzetilovasszinhaz.hu
SUMMARY:Honfoglalás - Mihályháza/színpadi
DESCRIPTION:A magyaság történelme elevenedik meg a vándorlástól a vérszerződésig – a Hét vezér hazatérése.
URL:https://nemzetilovasszinhaz.hu/esemeny/honfoglalas-mihalyhaza/
LOCATION:Mihályháza
ATTACH;FMTTYPE=image/jpeg:https://nemzetilovasszinhaz.hu/wp-content/uploads/2017/11/honfoglalás.jpg
END:VEVENT
END:VCALENDAR