BEGIN:VCALENDAR
VERSION:2.0
PRODID:-//Nemzeti Lovas Színház - ECPv6.14.2//NONSGML v1.0//EN
CALSCALE:GREGORIAN
METHOD:PUBLISH
X-WR-CALNAME:Nemzeti Lovas Színház
X-ORIGINAL-URL:https://nemzetilovasszinhaz.hu
X-WR-CALDESC:Események Nemzeti Lovas Színház
REFRESH-INTERVAL;VALUE=DURATION:PT1H
X-Robots-Tag:noindex
X-PUBLISHED-TTL:PT1H
BEGIN:VTIMEZONE
TZID:UTC
BEGIN:STANDARD
TZOFFSETFROM:+0000
TZOFFSETTO:+0000
TZNAME:UTC
DTSTART:20190101T000000
END:STANDARD
END:VTIMEZONE
BEGIN:VEVENT
DTSTART;TZID=UTC:20190119T190000
DTEND;TZID=UTC:20190119T220000
DTSTAMP:20260422T015013
CREATED:20181126T095006Z
LAST-MODIFIED:20181126T095722Z
UID:3252-1547924400-1547935200@nemzetilovasszinhaz.hu
SUMMARY:Újévi gála
DESCRIPTION:Bárhol is lépjen fel a Nemzeti Lovas Színház\, a közönségünk minden egyes alkalommal igazi varázslatra számíthat\, különösen igaz ez az Újévi Gálánkra: különleges andalúz lovak és fríz paripák\, fülbemászó dallamok\, magyaros motívumokkal hímzett huszár jelmezek\, meseszép hintók és persze remek hangú és emellett kiválóan lovagló színészeink teszik teljessé a csodálatos estét. A Gálán sztárvendégeket is köszönthet majd a nagyérdemű. Pintér Tibor\, a Nemzeti Lovas Színház igazgatója már többször hangoztatta\, hogy a társulatával cirkusz és a színház között épít hidat\, olyan varászlatos estékkel\, amelyeken a színészeik a vágtató lovakon fakadnak dalra – egy ilyen varázslatnak lehetnek részesei azok\, akik jegyet váltanak az előadásunkra.
URL:https://nemzetilovasszinhaz.hu/esemeny/ujevi-gala-2019-01-19/
LOCATION:Kincsem Park\, Albertirsai út 2-4.\, Budapest\, 1101\, Magyarország
ATTACH;FMTTYPE=image/jpeg:https://nemzetilovasszinhaz.hu/wp-content/uploads/2018/11/DSC_0895.jpg
END:VEVENT
END:VCALENDAR