BEGIN:VCALENDAR
VERSION:2.0
PRODID:-//Nemzeti Lovas Színház - ECPv6.14.2//NONSGML v1.0//EN
CALSCALE:GREGORIAN
METHOD:PUBLISH
X-ORIGINAL-URL:https://nemzetilovasszinhaz.hu
X-WR-CALDESC:Események Nemzeti Lovas Színház
REFRESH-INTERVAL;VALUE=DURATION:PT1H
X-Robots-Tag:noindex
X-PUBLISHED-TTL:PT1H
BEGIN:VTIMEZONE
TZID:UTC
BEGIN:STANDARD
TZOFFSETFROM:+0000
TZOFFSETTO:+0000
TZNAME:UTC
DTSTART:20190101T000000
END:STANDARD
END:VTIMEZONE
BEGIN:VEVENT
DTSTART;TZID=UTC:20190208T190000
DTEND;TZID=UTC:20190208T220000
DTSTAMP:20260422T001715
CREATED:20181126T101004Z
LAST-MODIFIED:20181126T123254Z
UID:3256-1549652400-1549663200@nemzetilovasszinhaz.hu
SUMMARY:Honfoglalás
DESCRIPTION:„A szállj\, szállj sólyom szárnyán” című dal szerzői és Pintér Tibor a darab rendezője\, gondoskodnak arról\, hogy az előadás egy feledhetetlen élmény legyen a nézőknek\, akik ellátogatnak előadásunkra! A Honfoglalás című magyar rockopera feltárja magyar honfoglalással kapcsolatos legújabb történelmi információkat\, üzenve a mai fiataloknak és a Kárpát-medencében élő összes magyarnak\, hogy alaposabban megismerkedhessenek a magyarok valódi történelmével. A produkció a legigényesebb zenei és prózai adaptáción keresztül látványos jelenetekkel\, minőségi szereposztással mutatja be a 7 vezér hazatérését.
URL:https://nemzetilovasszinhaz.hu/esemeny/honfoglalas-5-2019-02-08/
LOCATION:Kincsem Park\, Albertirsai út 2-4.\, Budapest\, 1101\, Magyarország
ATTACH;FMTTYPE=image/jpeg:https://nemzetilovasszinhaz.hu/wp-content/uploads/2018/11/DSC_0174.jpg
END:VEVENT
END:VCALENDAR