BEGIN:VCALENDAR
VERSION:2.0
PRODID:-//Nemzeti Lovas Színház - ECPv6.14.2//NONSGML v1.0//EN
CALSCALE:GREGORIAN
METHOD:PUBLISH
X-ORIGINAL-URL:https://nemzetilovasszinhaz.hu
X-WR-CALDESC:Események Nemzeti Lovas Színház
REFRESH-INTERVAL;VALUE=DURATION:PT1H
X-Robots-Tag:noindex
X-PUBLISHED-TTL:PT1H
BEGIN:VTIMEZONE
TZID:UTC
BEGIN:STANDARD
TZOFFSETFROM:+0000
TZOFFSETTO:+0000
TZNAME:UTC
DTSTART:20190101T000000
END:STANDARD
END:VTIMEZONE
BEGIN:VEVENT
DTSTART;TZID=UTC:20190629T210000
DTEND;TZID=UTC:20190629T230000
DTSTAMP:20260421T175120
CREATED:20190531T075600Z
LAST-MODIFIED:20190531T075650Z
UID:3396-1561842000-1561849200@nemzetilovasszinhaz.hu
SUMMARY:Kincsem - Sepsiszentgyörgy
DESCRIPTION:Ki ne hallott volna a “csodakancáról”\, aki minden versenyét megnyerte\, és veretlenül vonult vissza. Az 1800-as évek vége felé járunk\, egy elbukott szabadságharc után Magyarországon\, ahol még mindig puskaporos a hangulat. A szerelem\, ármány és bosszú mind megtalálható ebben a darabban\, amit fantasztikus\, mindenki számára ismerős dalokkal írtak meg\, hogy megismerje Kincsem történetét és korát.
URL:https://nemzetilovasszinhaz.hu/esemeny/kincsem-sepsiszentgyorgy/
LOCATION:Sepsiszentgyörgy
ATTACH;FMTTYPE=image/jpeg:https://nemzetilovasszinhaz.hu/wp-content/uploads/2018/11/DSC_0164-1.jpg
END:VEVENT
END:VCALENDAR