BEGIN:VCALENDAR
VERSION:2.0
PRODID:-//Nemzeti Lovas Színház - ECPv6.14.2//NONSGML v1.0//EN
CALSCALE:GREGORIAN
METHOD:PUBLISH
X-WR-CALNAME:Nemzeti Lovas Színház
X-ORIGINAL-URL:https://nemzetilovasszinhaz.hu
X-WR-CALDESC:Események Nemzeti Lovas Színház
REFRESH-INTERVAL;VALUE=DURATION:PT1H
X-Robots-Tag:noindex
X-PUBLISHED-TTL:PT1H
BEGIN:VTIMEZONE
TZID:UTC
BEGIN:STANDARD
TZOFFSETFROM:+0000
TZOFFSETTO:+0000
TZNAME:UTC
DTSTART:20200101T000000
END:STANDARD
END:VTIMEZONE
BEGIN:VEVENT
DTSTART;TZID=UTC:20201107T190000
DTEND;TZID=UTC:20201107T210000
DTSTAMP:20260422T231454
CREATED:20200621T070925Z
LAST-MODIFIED:20200621T085635Z
UID:4048-1604775600-1604782800@nemzetilovasszinhaz.hu
SUMMARY:Kincsem 2020. november 7. - Kincsem Park
DESCRIPTION:Az elmaradt 2020. április 18-i előadás pótlása! Az ide megváltott jegyek érvényesek! További jegyek vásárolhatók a szabad helyek függvényében! \nKi ne hallott volna a “csodakancáról”\, aki minden versenyét megnyerte\, és veretlenül vonult vissza… \nAz 1800-as évek vége felé járunk\, egy elbukott szabadságharc után Magyarországon\, ahol még mindig puskaporos a hangulat. A szerelem\, ármány és bosszú mind megtalálható ebben a darabban\, amit fantasztikus\, mindenki számára ismerős dalokkal írtak meg\, hogy megismerje Kincsem történetét és korát. \n\nSzereposztás:\nBlaskovits Ernő: Pintér Tibor\nHesp Róbert: Mohácsi Márk\nSztáray grófnő: Pápai Kíra\nMara: Papadimitriu Athina\nElisabeth\, Kincsem: Bányavölgyi Donáta\nApa\, Rikkancs\, Géza: Bencze Sándor\nKisfiú: Surányi Döme\nÉnekesnő: Ilyés Jeni \ntánckarvezető: Kárai Borbála\ntechnikai vezető: Bódi Csaba
URL:https://nemzetilovasszinhaz.hu/esemeny/kincsem-2020-november-7-kincsem-park/
LOCATION:Kincsem Park\, Albertirsai út 2-4.\, Budapest\, 1101\, Magyarország
CATEGORIES:jegyeladás
ATTACH;FMTTYPE=image/jpeg:https://nemzetilovasszinhaz.hu/wp-content/uploads/2020/06/297-x-420-kincsem-2020-potlas2.jpg
END:VEVENT
END:VCALENDAR