BEGIN:VCALENDAR
VERSION:2.0
PRODID:-//Nemzeti Lovas Színház - ECPv6.14.2//NONSGML v1.0//EN
CALSCALE:GREGORIAN
METHOD:PUBLISH
X-ORIGINAL-URL:https://nemzetilovasszinhaz.hu
X-WR-CALDESC:Események Nemzeti Lovas Színház
REFRESH-INTERVAL;VALUE=DURATION:PT1H
X-Robots-Tag:noindex
X-PUBLISHED-TTL:PT1H
BEGIN:VTIMEZONE
TZID:UTC
BEGIN:STANDARD
TZOFFSETFROM:+0000
TZOFFSETTO:+0000
TZNAME:UTC
DTSTART:20200101T000000
END:STANDARD
END:VTIMEZONE
BEGIN:VEVENT
DTSTART;TZID=UTC:20201212T180000
DTEND;TZID=UTC:20201212T200000
DTSTAMP:20260423T004813
CREATED:20200621T071731Z
LAST-MODIFIED:20200621T085746Z
UID:4054-1607796000-1607803200@nemzetilovasszinhaz.hu
SUMMARY:Szilaj - 2020. december 12. - Kincsem Park
DESCRIPTION:Világpremiert jelent\, hogy először lesz látható együtt a klasszikus stílus és szabad idomítás művészete a lovas színházak történetében. A darab végén Szilaj teljesíti a lehetetlennel felérő küldetését: megmenti szülőföldjét\, ám ehhez hihetetlen bátorságra és elszántságra lesz szüksége. \n\n\n\n\n\nSzilaj\, a betörhetetlen vadló kalandjairól mesél a Nemzeti Lovas Színház legújabb családi musical-e.  A történet a messzi Vadnyugatra kalauzol\, ahol dúl a háború a lovasság és az indiánok között. Soha nem lehet béke a két világ találkozásakor\, ám Szilaj varázslatos lényével mégis hidat épít ember és ember között. Világpremiert jelent\, hogy először lesz látható együtt a klasszikus stílus és szabad idomítás művészete a lovas színházak történetében. A darab végén Szilaj teljesíti a lehetetlennel felérő küldetését: megmenti szülőföldjét\, ám ehhez hihetetlen bátorságra és elszántságra lesz szüksége. \nSzereposztás: \nIndián fiú\, Kenai: Mohácsi Márk\nEzredes\, James Cooper : Pintér Tibor\nEzredes felesége\, Jenna: Ilyés Jenifer\nIndián lány\, Naira: Pápai Kíra\nApacs törzsfőnök : Varga Viktor\nŐsanya: Papadimitriu Athina\nGügye indiánok : Bányavölgyi Donáta \, Bíró Bálint\nAmerikai katonák : Bencze Sándor\, Gazdik Dávid\nIndián lányok: Ambrus Izabella\, Poór Vivien
URL:https://nemzetilovasszinhaz.hu/esemeny/szilaj-2020-december-12-kincsem-park/
LOCATION:Kincsem Park\, Albertirsai út 2-4.\, Budapest\, 1101\, Magyarország
CATEGORIES:jegyeladás
ATTACH;FMTTYPE=image/jpeg:https://nemzetilovasszinhaz.hu/wp-content/uploads/2020/02/szilaj-szereposztas.jpg
END:VEVENT
END:VCALENDAR