BEGIN:VCALENDAR
VERSION:2.0
PRODID:-//Nemzeti Lovas Színház - ECPv6.14.2//NONSGML v1.0//EN
CALSCALE:GREGORIAN
METHOD:PUBLISH
X-WR-CALNAME:Nemzeti Lovas Színház
X-ORIGINAL-URL:https://nemzetilovasszinhaz.hu
X-WR-CALDESC:Események Nemzeti Lovas Színház
REFRESH-INTERVAL;VALUE=DURATION:PT1H
X-Robots-Tag:noindex
X-PUBLISHED-TTL:PT1H
BEGIN:VTIMEZONE
TZID:UTC
BEGIN:STANDARD
TZOFFSETFROM:+0000
TZOFFSETTO:+0000
TZNAME:UTC
DTSTART:20240101T000000
END:STANDARD
END:VTIMEZONE
BEGIN:VEVENT
DTSTART;TZID=UTC:20240413T180000
DTEND;TZID=UTC:20240413T210000
DTSTAMP:20260422T181947
CREATED:20231119T102243Z
LAST-MODIFIED:20240207T113303Z
UID:5842-1713031200-1713042000@nemzetilovasszinhaz.hu
SUMMARY:Csárdáskirálynő 2024.04.13. 18:00
DESCRIPTION:Titkokkal teli játék az Orfeumban\, ahol mindenkinek van veszítenivalója\, de mindenkire boldog vég vár. \nEdvin herceg rajong Szilviáért\, a Pesti Orfeum csillagáért\, de arisztokrata családja ellenzi a rangon aluli kapcsolatot. Edvin szülei mindent elkövetnek\, hogy viszszacsalják fiukat Bécsbe\, hogy ott eljegyezze unokahúgát Stázi grófnőt. A cselekményt a kedves\, bolondos Bóni gróf és Feri bácsi\, az orfeum törzsvendégei bonyolítják. A végén persze mindenki boldog lesz szíve választottjával. \nA világhírű dallamok\, mint a “Te rongyos élet”\, “Hajmási Péter”\, “Emlékszel még”\, valamint eredeti humora tette ezt az operettet a Nemzeti Lovas Színház egyik legnépszerűbb produkciójává is.
URL:https://nemzetilovasszinhaz.hu/esemeny/csardaskiralyno-2024-04-13-1800/
LOCATION:Kincsem Park\, Albertirsai út 2-4.\, Budapest\, 1101\, Magyarország
CATEGORIES:jegyeladás
ATTACH;FMTTYPE=image/jpeg:https://nemzetilovasszinhaz.hu/wp-content/uploads/2023/11/csardaskiralyno-20242.jpg
END:VEVENT
END:VCALENDAR