BEGIN:VCALENDAR
VERSION:2.0
PRODID:-//Nemzeti Lovas Színház - ECPv6.14.2//NONSGML v1.0//EN
CALSCALE:GREGORIAN
METHOD:PUBLISH
X-ORIGINAL-URL:https://nemzetilovasszinhaz.hu
X-WR-CALDESC:Események Nemzeti Lovas Színház
REFRESH-INTERVAL;VALUE=DURATION:PT1H
X-Robots-Tag:noindex
X-PUBLISHED-TTL:PT1H
BEGIN:VTIMEZONE
TZID:UTC
BEGIN:STANDARD
TZOFFSETFROM:+0000
TZOFFSETTO:+0000
TZNAME:UTC
DTSTART:20170101T000000
END:STANDARD
END:VTIMEZONE
BEGIN:VEVENT
DTSTART;TZID=UTC:20170408T190000
DTEND;TZID=UTC:20170408T210000
DTSTAMP:20260421T055228
CREATED:20170324T093235Z
LAST-MODIFIED:20170501T064556Z
UID:2226-1491678000-1491685200@nemzetilovasszinhaz.hu
SUMMARY:Dózsa György\, a nép fia - Kapuvár
DESCRIPTION:CSALÁDI MUSICAL\n\n\n\n\n“De szellemét a tűz nem égeté meg\, Mert az maga tűz… úgy vigyázzatok: Ismét pusztíthat e láng rajtatok!” \nAz előadás rengeteg izgalmat\, látványt és élményt tartogat a közönség számára\, akik egy újabb egyedülálló produkciónak lehetnek tanúi. Hősiesség\, bátorság és lovagi erények keltik életre a történelem egy újabb nagy alakját. Dózsa György személyisége\, parasztokból álló kaszákkal\, kapákkal harcoló „katonái”\, a táncosok színes forgataga lélegzetelállító show műsorral és látványos csatajelenetekkel ejtenek minket ámulatba. A történelem egy újabb részlete\, melyben fülbemászó dallamok\, valamint kacagtató és csöppet sem vicces csatajelenetek váltják egymást. Egy kicsik és nagyok számára is üzenetet hordozó történet. \nDózsa György – Pintér Tibor \nBáthory – Buch Tibor \nDózsa Gergely – Bencze Sándor Dózsa György felesége – Lőrincz Andrea  Dózsa György fia – Bíró Bálint \nUlászló király – Berecz György Halálasszony – Papadimitriu Athina Báthory felesége – Illyés Jennifer Bíboros – Kaszás Géza / Bencze Sándor Lőrincz barát – Várfi Sándor \nLovas futár – Mohácsi Márk \nCsáky Miklós – Dancs János \nTovábbá a Szigetszentmiklósi  Sziget Színház musical stúdiósai  és táncművészei\, a Nemzeti  Lovas Színház lovasai
URL:https://nemzetilovasszinhaz.hu/esemeny/dozsa-gyorgy-a-nep-fia-kapuvar/
LOCATION:Kapuvár\, Győr-Moson-Sopron megye\, Magyarország
ATTACH;FMTTYPE=image/png:https://nemzetilovasszinhaz.hu/wp-content/uploads/2017/03/dozsa-gyorgy-a-nep-fia.png
END:VEVENT
BEGIN:VEVENT
DTSTART;TZID=UTC:20170409T170000
DTEND;TZID=UTC:20170409T190000
DTSTAMP:20260421T055228
CREATED:20170324T095040Z
LAST-MODIFIED:20170501T064625Z
UID:2232-1491757200-1491764400@nemzetilovasszinhaz.hu
SUMMARY:Hófehér és a hét törpe - Szigetszentmiklós
DESCRIPTION:Valamikor réges-régen egy királynő ült az ablakánál\, varrogatott és közben nézte\, hogy hullik a hó. Megszúrta az ujját\, és pár csepp vére az ablakpárkányon gyűlt hóra esett. Míg a vért nézte a havon\, azt kívánta\, hogy bárcsak olyan gyermeke születne\, akinek bőre fehér\, mint a hó\, az ajkai pirosak\, mint a vér\, és a haja fekete\, akár az ében. Nemsokára aztán a királynő világra is hozott egy leányt\, akinek a bőre fehér volt\, az ajkai vörösek s a haja ébenfekete. A kis hercegnőt Hófehérkének nevezték el. A világhírű Grimm-mese kel életre musical formájában\, kicsit új köntöst kapva a nagy Hollywood-i sikerprodukciók mintáját követve. Részesei lehetünk egy mesés történetnek\, ahol a jó méltán nyeri el a boldog befejezést\, a lélek tisztasága és a belső értékek győzedelmeskednek. \nHófehérke – Pápai Kíra \nHerceg – Pintér Tibor \nMostoha – Szabó Dorottya/Papadimitriu Athina \nTükör – Lőrincz Andrea \nVadász – Bencze Sándor \nBányafőnök – Várfi Sándor \nTudor – Mohácsi Márk \nVidor – Biró Bálint \nSzende – Henczi Emma \nSzundi – Ambrus Izabella \nMorgó – Becz Bernadett \nHapci – Bányavölgyi Donáta \nKuka – Wieszt Mercédesz/Sipos Balázs \nFarkasok – Katrics Tamás\, Bakos Attila \nKirály – Katrics Tamás \nKirályné – Kristóf Cintiai
URL:https://nemzetilovasszinhaz.hu/esemeny/hofeher-es-a-het-torpe-szigetszentmiklos/
LOCATION:Szebeni út\, Szigetszentmiklós\, Magyarország
END:VEVENT
END:VCALENDAR