BEGIN:VCALENDAR
VERSION:2.0
PRODID:-//Nemzeti Lovas Színház - ECPv6.14.2//NONSGML v1.0//EN
CALSCALE:GREGORIAN
METHOD:PUBLISH
X-WR-CALNAME:Nemzeti Lovas Színház
X-ORIGINAL-URL:https://nemzetilovasszinhaz.hu
X-WR-CALDESC:Események Nemzeti Lovas Színház
REFRESH-INTERVAL;VALUE=DURATION:PT1H
X-Robots-Tag:noindex
X-PUBLISHED-TTL:PT1H
BEGIN:VTIMEZONE
TZID:UTC
BEGIN:STANDARD
TZOFFSETFROM:+0000
TZOFFSETTO:+0000
TZNAME:UTC
DTSTART:20160101T000000
END:STANDARD
END:VTIMEZONE
BEGIN:VEVENT
DTSTART;TZID=UTC:20160814T190000
DTEND;TZID=UTC:20160814T220000
DTSTAMP:20260423T214040
CREATED:20160709T165112Z
LAST-MODIFIED:20160709T165112Z
UID:1342-1471201200-1471212000@nemzetilovasszinhaz.hu
SUMMARY:Nemzeti Lovas Színház: János vitéz
DESCRIPTION:A János vitéz című családi előadás a paraszt fiúból huszárrá vált Jancsi mesés kalandjait mutatja be lovas üldözésekkel\, fergeteges harcokkal\, egyedülálló zenei virtuozitással\, amelyekkel együtt felejthetetlen élményt szeretnénk nyújtani a közönség számára. A szórakozás garantált\, kiváló énekeseink és lovasaink közreműködésével minőségi költészet\, magas színvonalú muzsika és szemet gyönyörködtető látvány várja majd a nézőket. Minden generációnak bátran ajánljuk\, hiszen a veretes huszárruhába öltöztetett János vitéz figurája megdobogtatja az ember szívét\, mert valahol\, mély gyökerekből fakadva a belénk kódolt történelmünk tör a felszínre. \nA műsor 2 x 50 perc izgalmat és lenyűgöző látványt ígér\, rengeteg meglepetéssel. \nEsőnap: 2016. augusztus 15. 19 óra\, Lovagi Tornák Tere \nÍró: Petőfi Sándor\nZene: Kacsóh Pongrác\nRendező: Pintér Tibor\nKoreográfus: Nádasdy András\nDíszlet és látvány: Domján Gábor\nTechnikai vezető: Csukay Zoltán \nFelnőtt belépőjegy: 5500 Ft\nGyermekjegy (5-14 éves korig): 4000 Ft\nRegisztrációs jegy (0-5 éves korig): ingyenes \n[button style=”big filled arrow-right” icon=”” title=”Kattints ide és vedd meg a jegyed a Jegy.hu rendszerében” url=”https://www.jegy.hu/program/nemzeti-lovas-szinhaz-janos-vitez-70786″]
URL:https://nemzetilovasszinhaz.hu/esemeny/nemzeti-lovas-szinhaz-janos-vitez/
LOCATION:Diósgyőri vár\, Lovagi tornák helye\, Vár utca 24.\, Miskolc\, 3534
ATTACH;FMTTYPE=image/jpeg:https://nemzetilovasszinhaz.hu/wp-content/uploads/2016/07/nemzeti-lovas-szinhaz-janos-vitez-474-279-80446.jpg
END:VEVENT
BEGIN:VEVENT
DTSTART;TZID=UTC:20160819T210000
DTEND;TZID=UTC:20160819T210000
DTSTAMP:20260423T214040
CREATED:20160709T164010Z
LAST-MODIFIED:20160709T164010Z
UID:1337-1471640400-1471640400@nemzetilovasszinhaz.hu
SUMMARY:Nemzeti Lovas Színház : Gladiátor
DESCRIPTION:  \n  \n[button style=”big filled arrow-right” icon=”” title=”Kattints ide és vedd meg a jegyed a Jegy.hu rendszerében” url=”https://www.jegy.hu/program/nemzeti-lovas-szinhaz-gladiator-71098″]
URL:https://nemzetilovasszinhaz.hu/esemeny/nemzeti-lovas-szinhaz-gladiator/
LOCATION:Siklósi Várkert\, Vajda János tér 8.\, Siklós\, Baranya\, 7800\, Magyarország
ATTACH;FMTTYPE=image/jpeg:https://nemzetilovasszinhaz.hu/wp-content/uploads/2016/07/nemzeti-lovas-szinhaz-gladiator-474-279-81119.jpg
END:VEVENT
END:VCALENDAR