BEGIN:VCALENDAR
VERSION:2.0
PRODID:-//Nemzeti Lovas Színház - ECPv6.14.2//NONSGML v1.0//EN
CALSCALE:GREGORIAN
METHOD:PUBLISH
X-ORIGINAL-URL:https://nemzetilovasszinhaz.hu
X-WR-CALDESC:Események Nemzeti Lovas Színház
REFRESH-INTERVAL;VALUE=DURATION:PT1H
X-Robots-Tag:noindex
X-PUBLISHED-TTL:PT1H
BEGIN:VTIMEZONE
TZID:UTC
BEGIN:STANDARD
TZOFFSETFROM:+0000
TZOFFSETTO:+0000
TZNAME:UTC
DTSTART:20160101T000000
END:STANDARD
END:VTIMEZONE
BEGIN:VEVENT
DTSTART;TZID=UTC:20161202T180000
DTEND;TZID=UTC:20161202T190000
DTSTAMP:20260423T160756
CREATED:20161016T103522Z
LAST-MODIFIED:20161113T202121Z
UID:1625-1480701600-1480705200@nemzetilovasszinhaz.hu
SUMMARY:Ludas Matyi
DESCRIPTION:
URL:https://nemzetilovasszinhaz.hu/esemeny/gyerekeloadas/
LOCATION:Városi Könyvtár és Közösségi Ház\, Tököli út 19.\, Szigetszentmiklós\, 2310\, Magyarország
END:VEVENT
BEGIN:VEVENT
DTSTART;TZID=UTC:20161203T200000
DTEND;TZID=UTC:20161203T220000
DTSTAMP:20260423T160756
CREATED:20161016T103719Z
LAST-MODIFIED:20161016T103719Z
UID:1627-1480795200-1480802400@nemzetilovasszinhaz.hu
SUMMARY:EDDA Musical - A KÖR
DESCRIPTION:
URL:https://nemzetilovasszinhaz.hu/esemeny/edda-musical-a-kor-2/
LOCATION:Gál József Sportcsarnok\, Rákóczi út 33.\, Cegléd\, 2700
ATTACH;FMTTYPE=image/jpeg:https://nemzetilovasszinhaz.hu/wp-content/uploads/2016/10/SzigSzin_kat_2016-2017.compressed-page-010.jpg
END:VEVENT
BEGIN:VEVENT
DTSTART;TZID=UTC:20161209T193000
DTEND;TZID=UTC:20161209T213000
DTSTAMP:20260423T160756
CREATED:20161016T103933Z
LAST-MODIFIED:20161016T103933Z
UID:1631-1481311800-1481319000@nemzetilovasszinhaz.hu
SUMMARY:lovas Hófehér és hét törpe - Kincsem park
DESCRIPTION:
URL:https://nemzetilovasszinhaz.hu/esemeny/lovas-hofeher-es-het-torpe-kincsem-park/
LOCATION:Kincsem Park\, Albertirsai út 2-4.\, Budapest\, 1101\, Magyarország
ATTACH;FMTTYPE=image/jpeg:https://nemzetilovasszinhaz.hu/wp-content/uploads/2016/10/SzigSzin_kat_2016-2017.compressed-page-004-e1710355433495.jpg
END:VEVENT
BEGIN:VEVENT
DTSTART;TZID=UTC:20161210T193000
DTEND;TZID=UTC:20161210T213000
DTSTAMP:20260423T160756
CREATED:20161016T104013Z
LAST-MODIFIED:20161016T104013Z
UID:1634-1481398200-1481405400@nemzetilovasszinhaz.hu
SUMMARY:lovas Hófehér és hét törpe - Kincsem park
DESCRIPTION:
URL:https://nemzetilovasszinhaz.hu/esemeny/lovas-hofeher-es-het-torpe-kincsem-park-2/
LOCATION:Kincsem Park\, Albertirsai út 2-4.\, Budapest\, 1101\, Magyarország
ATTACH;FMTTYPE=image/jpeg:https://nemzetilovasszinhaz.hu/wp-content/uploads/2016/10/SzigSzin_kat_2016-2017.compressed-page-004-e1710355433495.jpg
END:VEVENT
BEGIN:VEVENT
DTSTART;TZID=UTC:20161211T163000
DTEND;TZID=UTC:20161211T193000
DTSTAMP:20260423T160756
CREATED:20161016T104119Z
LAST-MODIFIED:20161103T114411Z
UID:1636-1481473800-1481484600@nemzetilovasszinhaz.hu
SUMMARY:lovas Hófehér és hét törpe - Kincsem park
DESCRIPTION:
URL:https://nemzetilovasszinhaz.hu/esemeny/lovas-hofeher-es-het-torpe-kincsem-park-3/
LOCATION:Kincsem Park\, Albertirsai út 2-4.\, Budapest\, 1101\, Magyarország
ATTACH;FMTTYPE=image/jpeg:https://nemzetilovasszinhaz.hu/wp-content/uploads/2016/10/SzigSzin_kat_2016-2017.compressed-page-004-e1710355433495.jpg
END:VEVENT
BEGIN:VEVENT
DTSTART;TZID=UTC:20161229T190000
DTEND;TZID=UTC:20161229T210000
DTSTAMP:20260423T160756
CREATED:20161016T104220Z
LAST-MODIFIED:20161016T104220Z
UID:1638-1483038000-1483045200@nemzetilovasszinhaz.hu
SUMMARY:Előszilveszteri Gála
DESCRIPTION:
URL:https://nemzetilovasszinhaz.hu/esemeny/eloszilveszteri-gala/
LOCATION:Városi Könyvtár és Közösségi Ház\, Tököli út 19.\, Szigetszentmiklós\, 2310\, Magyarország
END:VEVENT
BEGIN:VEVENT
DTSTART;TZID=UTC:20161230T190000
DTEND;TZID=UTC:20161230T210000
DTSTAMP:20260423T160756
CREATED:20161016T104304Z
LAST-MODIFIED:20161016T104304Z
UID:1640-1483124400-1483131600@nemzetilovasszinhaz.hu
SUMMARY:Előszilveszteri Gála
DESCRIPTION:
URL:https://nemzetilovasszinhaz.hu/esemeny/eloszilveszteri-gala-2/
LOCATION:Városi Könyvtár és Közösségi Ház\, Tököli út 19.\, Szigetszentmiklós\, 2310\, Magyarország
END:VEVENT
BEGIN:VEVENT
DTSTART;VALUE=DATE:20161231
DTEND;VALUE=DATE:20170101
DTSTAMP:20260423T160756
CREATED:20161016T104402Z
LAST-MODIFIED:20161016T104402Z
UID:1642-1483142400-1483228799@nemzetilovasszinhaz.hu
SUMMARY:Pintér Tibor és Pápai Kíra
DESCRIPTION:
URL:https://nemzetilovasszinhaz.hu/esemeny/pinter-tibor-es-papai-kira/
LOCATION:SunGarden Wellness és Konferencia Hotel\, Batthyány Lajos u. 24.\, Siófok
END:VEVENT
BEGIN:VEVENT
DTSTART;VALUE=DATE:20161231
DTEND;VALUE=DATE:20170101
DTSTAMP:20260423T160756
CREATED:20161016T104458Z
LAST-MODIFIED:20161016T104458Z
UID:1646-1483142400-1483228799@nemzetilovasszinhaz.hu
SUMMARY:Pintér Tibor és Pápai Kíra
DESCRIPTION:Részletek hamarosan.
URL:https://nemzetilovasszinhaz.hu/esemeny/pinter-tibor-es-papai-kira-2/
LOCATION:Hotel Helikon Keszthely\, Balaton-part 5\, Keszthely
END:VEVENT
END:VCALENDAR