BEGIN:VCALENDAR
VERSION:2.0
PRODID:-//Nemzeti Lovas Színház - ECPv6.14.2//NONSGML v1.0//EN
CALSCALE:GREGORIAN
METHOD:PUBLISH
X-ORIGINAL-URL:https://nemzetilovasszinhaz.hu
X-WR-CALDESC:Események Nemzeti Lovas Színház
REFRESH-INTERVAL;VALUE=DURATION:PT1H
X-Robots-Tag:noindex
X-PUBLISHED-TTL:PT1H
BEGIN:VTIMEZONE
TZID:UTC
BEGIN:STANDARD
TZOFFSETFROM:+0000
TZOFFSETTO:+0000
TZNAME:UTC
DTSTART:20170101T000000
END:STANDARD
END:VTIMEZONE
BEGIN:VEVENT
DTSTART;TZID=UTC:20171013T190000
DTEND;TZID=UTC:20171013T210000
DTSTAMP:20260423T004709
CREATED:20170809T103545Z
LAST-MODIFIED:20171002T185832Z
UID:2703-1507921200-1507928400@nemzetilovasszinhaz.hu
SUMMARY:A fekete álarcos lovas - Kincsem park/lovas előadás
DESCRIPTION:Megannyi történet\, szerelem és kaland. Ki ne ismerné az álarcos jótevőt? Aki elvesz a zsarnokoktól és ad a szegényeknek. A Nemzeti Lovas Színház mindenki által ismert slágerek segítségével kelti életre a feketébe öltözött\, fekete lovon vágtató hőst\, hogy mindenkit elvarázsoljon\, és az egész családnak kellemes és izgalmas kikapcsolódást nyújtson.
URL:https://nemzetilovasszinhaz.hu/esemeny/a-fekete-alarcos-lovag-kincsem-parklovas-eloadas/
LOCATION:Kincsem Park\, Albertirsai út 2-4.\, Budapest\, 1101\, Magyarország
END:VEVENT
BEGIN:VEVENT
DTSTART;TZID=UTC:20171014T190000
DTEND;TZID=UTC:20171014T210000
DTSTAMP:20260423T004709
CREATED:20170809T103545Z
LAST-MODIFIED:20171002T190022Z
UID:2705-1508007600-1508014800@nemzetilovasszinhaz.hu
SUMMARY:A fekete álarcos lovas - Kincsem park/lovas előadás
DESCRIPTION:Megannyi történet\, szerelem és kaland. Ki ne ismerné az álarcos jótevőt? Aki elvesz a zsarnokoktól és ad a szegényeknek. A Nemzeti Lovas Színház mindenki által ismert slágerek segítségével kelti életre a feketébe öltözött\, fekete lovon vágtató hőst\, hogy mindenkit elvarázsoljon\, és az egész családnak kellemes és izgalmas kikapcsolódást nyújtson.
URL:https://nemzetilovasszinhaz.hu/esemeny/a-fekete-alarcos-lovag-kincsem-parklovas-eloadas-2017-10-14/
LOCATION:Kincsem Park\, Albertirsai út 2-4.\, Budapest\, 1101\, Magyarország
END:VEVENT
BEGIN:VEVENT
DTSTART;TZID=UTC:20171015T190000
DTEND;TZID=UTC:20171015T210000
DTSTAMP:20260423T004709
CREATED:20170809T103545Z
LAST-MODIFIED:20171002T190102Z
UID:2706-1508094000-1508101200@nemzetilovasszinhaz.hu
SUMMARY:A fekete álarcos lovas - Kincsem park/lovas előadás
DESCRIPTION:Megannyi történet\, szerelem és kaland. Ki ne ismerné az álarcos jótevőt? Aki elvesz a zsarnokoktól és ad a szegényeknek. A Nemzeti Lovas Színház mindenki által ismert slágerek segítségével kelti életre a feketébe öltözött\, fekete lovon vágtató hőst\, hogy mindenkit elvarázsoljon\, és az egész családnak kellemes és izgalmas kikapcsolódást nyújtson.
URL:https://nemzetilovasszinhaz.hu/esemeny/a-fekete-alarcos-lovag-kincsem-parklovas-eloadas-2017-10-15/
LOCATION:Kincsem Park\, Albertirsai út 2-4.\, Budapest\, 1101\, Magyarország
END:VEVENT
BEGIN:VEVENT
DTSTART;TZID=UTC:20171031T190000
DTEND;TZID=UTC:20171031T210000
DTSTAMP:20260423T004709
CREATED:20170907T110602Z
LAST-MODIFIED:20170907T110706Z
UID:2774-1509476400-1509483600@nemzetilovasszinhaz.hu
SUMMARY:Hair - Kincsem Park/musical
DESCRIPTION:A musical a hatvannyolcas életérzést tükrözte\, a hippik\, a „virággyermekek” életstílusát vitte színpadra. Lázadásukat a szexuális szabadságért\, tiltakozásukat a vietnami háború és harcukat a társadalmi kötöttségek ellen. Mindez ma már történelem\, azonban a musical azóta klasszikussá és világsikerré lett. A zseniális zene átmentette a Hair-t az utókornak\, és a darab napi aktualitása sem szűnik meg soha.
URL:https://nemzetilovasszinhaz.hu/esemeny/hair/
LOCATION:Kincsem Park\, Albertirsai út 2-4.\, Budapest\, 1101\, Magyarország
END:VEVENT
END:VCALENDAR