BEGIN:VCALENDAR
VERSION:2.0
PRODID:-//Nemzeti Lovas Színház - ECPv6.14.2//NONSGML v1.0//EN
CALSCALE:GREGORIAN
METHOD:PUBLISH
X-ORIGINAL-URL:https://nemzetilovasszinhaz.hu
X-WR-CALDESC:Események Nemzeti Lovas Színház
REFRESH-INTERVAL;VALUE=DURATION:PT1H
X-Robots-Tag:noindex
X-PUBLISHED-TTL:PT1H
BEGIN:VTIMEZONE
TZID:UTC
BEGIN:STANDARD
TZOFFSETFROM:+0000
TZOFFSETTO:+0000
TZNAME:UTC
DTSTART:20170101T000000
END:STANDARD
END:VTIMEZONE
BEGIN:VEVENT
DTSTART;TZID=UTC:20171202T180000
DTEND;TZID=UTC:20171202T200000
DTSTAMP:20260422T214859
CREATED:20171124T190958Z
LAST-MODIFIED:20171124T190958Z
UID:2920-1512237600-1512244800@nemzetilovasszinhaz.hu
SUMMARY:Mikulásváró musicalek\, operettek lóhátról
DESCRIPTION: Látogassatok el Hozzánk egy mesebeli birodalomba\, ahol hercegnők\, tündérek\, manók szorgoskodnak és énekelnek. A Mikulás ezúttal “rénlovas” szánnal érkezik vágtató paripák kíséretében\, miközben sűrűn hull a fehér hó. A világhírű operett- és musical slágerek mellett felcsendül a száncsengő és Jégország közismert Disney dallamai!
URL:https://nemzetilovasszinhaz.hu/esemeny/mikulasvaro-musicalek-operettek-lohatrol/
LOCATION:Kincsem Park\, Albertirsai út 2-4.\, Budapest\, 1101\, Magyarország
ATTACH;FMTTYPE=image/jpeg:https://nemzetilovasszinhaz.hu/wp-content/uploads/2017/11/face-cover-828-x-315-miki1.jpg
END:VEVENT
BEGIN:VEVENT
DTSTART;TZID=UTC:20171210T110000
DTEND;TZID=UTC:20171210T140000
DTSTAMP:20260422T214859
CREATED:20171124T184809Z
LAST-MODIFIED:20171124T184809Z
UID:2903-1512903600-1512914400@nemzetilovasszinhaz.hu
SUMMARY:A dzsungel könyve - musical
DESCRIPTION:Ugyan ki tudná összefoglalni\, mi mindenről szól a farkasok közt nevelkedett Maugli\, az emberek ketrecéből szabadult Bagira\, a törvényt bölcsen oktató Balu\, a titokzatos Ká\, a bosszúra és embervérre szomjas Sír Kán története? Szól a születésről és a halálról\, a befogadásról és a kitaszításról\, a csapatról és a magányról\, a gyerekkor és a kamaszkor varázslatos időszakáról – vagyis mindarról\, ami egy „kölyökkel” megeshet\, akár farkasok\, akár emberek között nevelkedik.
URL:https://nemzetilovasszinhaz.hu/esemeny/a-dzsungel-konyve-musical/
LOCATION:Szigetszentmiklós\, VK
END:VEVENT
BEGIN:VEVENT
DTSTART;TZID=UTC:20171210T170000
DTEND;TZID=UTC:20171210T200000
DTSTAMP:20260422T214859
CREATED:20171124T185250Z
LAST-MODIFIED:20171124T185250Z
UID:2905-1512925200-1512936000@nemzetilovasszinhaz.hu
SUMMARY:A dzsungel könyve - musical
DESCRIPTION:Ugyan ki tudná összefoglalni\, mi mindenről szól a farkasok közt nevelkedett Maugli\, az emberek ketrecéből szabadult Bagira\, a törvényt bölcsen oktató Balu\, a titokzatos Ká\, a bosszúra és embervérre szomjas Sír Kán története? Szól a születésről és a halálról\, a befogadásról és a kitaszításról\, a csapatról és a magányról\, a gyerekkor és a kamaszkor varázslatos időszakáról – vagyis mindarról\, ami egy „kölyökkel” megeshet\, akár farkasok\, akár emberek között nevelkedik.
URL:https://nemzetilovasszinhaz.hu/esemeny/a-dzsungel-konyve-musical-2/
LOCATION:Szigetszentmiklós\, VK
END:VEVENT
BEGIN:VEVENT
DTSTART;TZID=UTC:20171212T150000
DTEND;TZID=UTC:20171212T170000
DTSTAMP:20260422T214859
CREATED:20171124T185701Z
LAST-MODIFIED:20171124T185701Z
UID:2908-1513090800-1513098000@nemzetilovasszinhaz.hu
SUMMARY:A padlás
DESCRIPTION:A Padlás sokak számára ismerős lehet. Aki már látta\, azt megragadta a különleges világ\, a mesékből kimaradt szellemek\, az emberi jószívűség tökéletes példázata\, mondhatni az a könnyfakasztó boldogság és idill.
URL:https://nemzetilovasszinhaz.hu/esemeny/a-padlas/
LOCATION:Szigetszentmiklós\, VK
ATTACH;FMTTYPE=image/jpeg:https://nemzetilovasszinhaz.hu/wp-content/uploads/2017/11/padlás.jpg
END:VEVENT
BEGIN:VEVENT
DTSTART;TZID=UTC:20171216T150000
DTEND;TZID=UTC:20171216T163000
DTSTAMP:20260422T214859
CREATED:20171124T190701Z
LAST-MODIFIED:20171124T190701Z
UID:2917-1513436400-1513441800@nemzetilovasszinhaz.hu
SUMMARY:Panka és az Álommanó
DESCRIPTION:
URL:https://nemzetilovasszinhaz.hu/esemeny/panka-es-az-alommano/
LOCATION:Újpet\, Szent István tér – Karácsonyi vásár
END:VEVENT
BEGIN:VEVENT
DTSTART;TZID=UTC:20171227T170000
DTEND;TZID=UTC:20171227T193000
DTSTAMP:20260422T214859
CREATED:20171124T191345Z
LAST-MODIFIED:20171124T191345Z
UID:2923-1514394000-1514403000@nemzetilovasszinhaz.hu
SUMMARY:Hófehér és a hét törpe
DESCRIPTION:Valamikor réges-régen egy királynő ült az ablakánál\, varrogatott és közben nézte\, hogy hullik a hó. Megszúrta az ujját\, és pár csepp vére az ablakpárkányon gyűlt hóra esett. Míg a vért nézte a havon\, azt kívánta\, hogy bárcsak olyan gyermeke születne\, akinek bőre fehér\, mint a hó\, az ajkai pirosak\, mint a vér\, és a haja fekete\, akár az ében. Nemsokára aztán a királynő világra is hozott egy leányt\, akinek a bőre fehér volt\, az ajkai vörösek\, s a haja ébenfekete. A kis hercegnőt Hófehérkének nevezték el.. \n \nA világhírű Grimm-mese életre kel musical formájában\, kicsit új köntöst kapva a nagy Hollywood-i sikerprodukciók mintáját követve. Részesei lehetünk egy mesés történetnek\, ahol a jó méltán nyeri el a boldog befejezést\, a lélek tisztasága és a belső értékek győzedelmeskednek. Természetesen lóhátról!
URL:https://nemzetilovasszinhaz.hu/esemeny/hofeher-es-a-het-torpe/
LOCATION:Kincsem Park\, Albertirsai út 2-4.\, Budapest\, 1101\, Magyarország
ATTACH;FMTTYPE=image/jpeg:https://nemzetilovasszinhaz.hu/wp-content/uploads/2017/11/1920-x-1080-nlsz-fhd-HOFEHER-freklam-2017v2.jpg
END:VEVENT
BEGIN:VEVENT
DTSTART;TZID=UTC:20171230T190000
DTEND;TZID=UTC:20171230T220000
DTSTAMP:20260422T214859
CREATED:20171124T185901Z
LAST-MODIFIED:20171124T185901Z
UID:2911-1514660400-1514671200@nemzetilovasszinhaz.hu
SUMMARY:Újévbúcsúztató kabaré
DESCRIPTION:
URL:https://nemzetilovasszinhaz.hu/esemeny/ujevbucsuztato-kabare/
END:VEVENT
END:VCALENDAR