BEGIN:VCALENDAR
VERSION:2.0
PRODID:-//Nemzeti Lovas Színház - ECPv6.14.2//NONSGML v1.0//EN
CALSCALE:GREGORIAN
METHOD:PUBLISH
X-WR-CALNAME:Nemzeti Lovas Színház
X-ORIGINAL-URL:https://nemzetilovasszinhaz.hu
X-WR-CALDESC:Események Nemzeti Lovas Színház
REFRESH-INTERVAL;VALUE=DURATION:PT1H
X-Robots-Tag:noindex
X-PUBLISHED-TTL:PT1H
BEGIN:VTIMEZONE
TZID:UTC
BEGIN:STANDARD
TZOFFSETFROM:+0000
TZOFFSETTO:+0000
TZNAME:UTC
DTSTART:20180101T000000
END:STANDARD
END:VTIMEZONE
BEGIN:VEVENT
DTSTART;VALUE=DATE:20180901
DTEND;VALUE=DATE:20180902
DTSTAMP:20260422T082000
CREATED:20180515T071756Z
LAST-MODIFIED:20180515T071756Z
UID:3071-1535760000-1535846399@nemzetilovasszinhaz.hu
SUMMARY:Csárdáskirálynő - Bugac
DESCRIPTION:Titkokkal teli játék az Orfeumban\, ahol mindenkinek van veszítenivalója\, de mindenkire boldog vég vár.
URL:https://nemzetilovasszinhaz.hu/esemeny/csardaskiralyno-bugac/
LOCATION:Bugac
ATTACH;FMTTYPE=image/jpeg:https://nemzetilovasszinhaz.hu/wp-content/uploads/2017/08/DSC_1002.jpg
END:VEVENT
BEGIN:VEVENT
DTSTART;TZID=UTC:20180907T190000
DTEND;TZID=UTC:20180907T220000
DTSTAMP:20260422T082000
CREATED:20180515T072003Z
LAST-MODIFIED:20180515T072003Z
UID:3073-1536346800-1536357600@nemzetilovasszinhaz.hu
SUMMARY:Honfoglalás - Vácszentlászló
DESCRIPTION:A magyaság történelme elevenedik meg a vándorlástól a vérszerződésig – a Hét vezér hazatérése.
URL:https://nemzetilovasszinhaz.hu/esemeny/honfoglalas-vacszentlaszlo/
LOCATION:Vácszentlászló
ATTACH;FMTTYPE=image/jpeg:https://nemzetilovasszinhaz.hu/wp-content/uploads/2017/11/honfoglalás.jpg
END:VEVENT
BEGIN:VEVENT
DTSTART;VALUE=DATE:20180922
DTEND;VALUE=DATE:20180923
DTSTAMP:20260422T082000
CREATED:20180813T133432Z
LAST-MODIFIED:20180813T133901Z
UID:3156-1537574400-1537660799@nemzetilovasszinhaz.hu
SUMMARY:Kincsem
DESCRIPTION:Ki ne hallott volna a “csodakancáról”\, aki minden versenyét megnyerte\, és veretlenül vonult vissza. Az 1800-as évek vége felé járunk\, egy elbukott szabadságharc után Magyarországon\, ahol még mindig puskaporos a hangulat. A szerelem\, ármány és bosszú mind megtalálható ebben a darabban\, amit fantasztikus\, mindenki számára ismerős dalokkal írtak meg\, hogy megismerje Kincsem történetét és korát. A Kincsem című musical hazatér: fővárosi premier a Kincsem Parkban!
URL:https://nemzetilovasszinhaz.hu/esemeny/kincsem/
LOCATION:Kincsem Park\, Albertirsai út 2-4.\, Budapest\, 1101\, Magyarország
ATTACH;FMTTYPE=image/jpeg:https://nemzetilovasszinhaz.hu/wp-content/uploads/2018/08/kincsemlead2.jpg
END:VEVENT
BEGIN:VEVENT
DTSTART;VALUE=DATE:20180923
DTEND;VALUE=DATE:20180924
DTSTAMP:20260422T082000
CREATED:20180813T133432Z
LAST-MODIFIED:20180813T133916Z
UID:3158-1537660800-1537747199@nemzetilovasszinhaz.hu
SUMMARY:Kincsem
DESCRIPTION:Ki ne hallott volna a “csodakancáról”\, aki minden versenyét megnyerte\, és veretlenül vonult vissza. Az 1800-as évek vége felé járunk\, egy elbukott szabadságharc után Magyarországon\, ahol még mindig puskaporos a hangulat. A szerelem\, ármány és bosszú mind megtalálható ebben a darabban\, amit fantasztikus\, mindenki számára ismerős dalokkal írtak meg\, hogy megismerje Kincsem történetét és korát. A Kincsem című musical hazatér: fővárosi premier a Kincsem Parkban!
URL:https://nemzetilovasszinhaz.hu/esemeny/kincsem-2018-09-23/
LOCATION:Kincsem Park\, Albertirsai út 2-4.\, Budapest\, 1101\, Magyarország
ATTACH;FMTTYPE=image/jpeg:https://nemzetilovasszinhaz.hu/wp-content/uploads/2018/08/kincsemlead2.jpg
END:VEVENT
END:VCALENDAR