BEGIN:VCALENDAR
VERSION:2.0
PRODID:-//Nemzeti Lovas Színház - ECPv6.14.2//NONSGML v1.0//EN
CALSCALE:GREGORIAN
METHOD:PUBLISH
X-WR-CALNAME:Nemzeti Lovas Színház
X-ORIGINAL-URL:https://nemzetilovasszinhaz.hu
X-WR-CALDESC:Események Nemzeti Lovas Színház
REFRESH-INTERVAL;VALUE=DURATION:PT1H
X-Robots-Tag:noindex
X-PUBLISHED-TTL:PT1H
BEGIN:VTIMEZONE
TZID:UTC
BEGIN:STANDARD
TZOFFSETFROM:+0000
TZOFFSETTO:+0000
TZNAME:UTC
DTSTART:20180101T000000
END:STANDARD
END:VTIMEZONE
BEGIN:VEVENT
DTSTART;VALUE=DATE:20181012
DTEND;VALUE=DATE:20181013
DTSTAMP:20260422T045316
CREATED:20180813T134025Z
LAST-MODIFIED:20180813T134114Z
UID:3165-1539302400-1539388799@nemzetilovasszinhaz.hu
SUMMARY:Mátyás\, az igazságos
DESCRIPTION:A rockopera a magyar történelem egyik legendás alakjának történetét dolgozza fel. Mátyás királyt hazánk legnépszerűbb királyaként emlegetik\, akinek talán történelmünk során először sikerült úgy felvirágoztatni az országot\, hogy azt európai mércével mérve is elismerték. A darab Kinizsi Pál és Mátyás király barátságán keresztül\, a róla szóló legendás mesék elemeiből táplálkozva\, rendkívül látványos módon mutatja be a történelmi eseményeket.
URL:https://nemzetilovasszinhaz.hu/esemeny/matyas-az-igazsagos-5/
ATTACH;FMTTYPE=image/jpeg:https://nemzetilovasszinhaz.hu/wp-content/uploads/2018/08/mátyás1.jpg
END:VEVENT
BEGIN:VEVENT
DTSTART;VALUE=DATE:20181013
DTEND;VALUE=DATE:20181014
DTSTAMP:20260422T045316
CREATED:20180813T134025Z
LAST-MODIFIED:20180813T134135Z
UID:3167-1539388800-1539475199@nemzetilovasszinhaz.hu
SUMMARY:Mátyás\, az igazságos
DESCRIPTION:A rockopera a magyar történelem egyik legendás alakjának történetét dolgozza fel. Mátyás királyt hazánk legnépszerűbb királyaként emlegetik\, akinek talán történelmünk során először sikerült úgy felvirágoztatni az országot\, hogy azt európai mércével mérve is elismerték. A darab Kinizsi Pál és Mátyás király barátságán keresztül\, a róla szóló legendás mesék elemeiből táplálkozva\, rendkívül látványos módon mutatja be a történelmi eseményeket.
URL:https://nemzetilovasszinhaz.hu/esemeny/matyas-az-igazsagos-5-2018-10-13/
ATTACH;FMTTYPE=image/jpeg:https://nemzetilovasszinhaz.hu/wp-content/uploads/2018/08/mátyás1.jpg
END:VEVENT
BEGIN:VEVENT
DTSTART;VALUE=DATE:20181014
DTEND;VALUE=DATE:20181015
DTSTAMP:20260422T045316
CREATED:20180813T134025Z
LAST-MODIFIED:20180813T134152Z
UID:3168-1539475200-1539561599@nemzetilovasszinhaz.hu
SUMMARY:Mátyás\, az igazságos
DESCRIPTION:A rockopera a magyar történelem egyik legendás alakjának történetét dolgozza fel. Mátyás királyt hazánk legnépszerűbb királyaként emlegetik\, akinek talán történelmünk során először sikerült úgy felvirágoztatni az országot\, hogy azt európai mércével mérve is elismerték. A darab Kinizsi Pál és Mátyás király barátságán keresztül\, a róla szóló legendás mesék elemeiből táplálkozva\, rendkívül látványos módon mutatja be a történelmi eseményeket.
URL:https://nemzetilovasszinhaz.hu/esemeny/matyas-az-igazsagos-5-2018-10-14/
ATTACH;FMTTYPE=image/jpeg:https://nemzetilovasszinhaz.hu/wp-content/uploads/2018/08/mátyás1.jpg
END:VEVENT
BEGIN:VEVENT
DTSTART;VALUE=DATE:20181026
DTEND;VALUE=DATE:20181027
DTSTAMP:20260422T045316
CREATED:20180813T134304Z
LAST-MODIFIED:20180813T134326Z
UID:3177-1540512000-1540598399@nemzetilovasszinhaz.hu
SUMMARY:Rózsa Sándor
DESCRIPTION:A darab a betyárok romantikus világát idézi meg\, de komoly mondanivalót is megfogalmaz a hazaszeretetről\, a barátságról\, a hovatartozásról – mindezt a forradalom és szabadságharc korában. Rózsa Sándor egy mitikus személy az Alföldön\, aki sokat segített a szegényeken és innen vonult be\, állt a szabadságharc mellé. A magyar csikósvilágot\, ostorcsapásokkal\, fokosokkal\, lovas jelenetekkel mutatjuk be. Hármas szerelmi szál\, látványos kaszkadőrjelenetek és érzelemgazdag zenei világ jellemzi a művet.
URL:https://nemzetilovasszinhaz.hu/esemeny/rozsa-sandor/
ATTACH;FMTTYPE=image/jpeg:https://nemzetilovasszinhaz.hu/wp-content/uploads/2018/08/rózsa1.jpg
END:VEVENT
BEGIN:VEVENT
DTSTART;VALUE=DATE:20181027
DTEND;VALUE=DATE:20181028
DTSTAMP:20260422T045316
CREATED:20180813T134304Z
LAST-MODIFIED:20180813T134338Z
UID:3179-1540598400-1540684799@nemzetilovasszinhaz.hu
SUMMARY:Rózsa Sándor
DESCRIPTION:A darab a betyárok romantikus világát idézi meg\, de komoly mondanivalót is megfogalmaz a hazaszeretetről\, a barátságról\, a hovatartozásról – mindezt a forradalom és szabadságharc korában. Rózsa Sándor egy mitikus személy az Alföldön\, aki sokat segített a szegényeken és innen vonult be\, állt a szabadságharc mellé. A magyar csikósvilágot\, ostorcsapásokkal\, fokosokkal\, lovas jelenetekkel mutatjuk be. Hármas szerelmi szál\, látványos kaszkadőrjelenetek és érzelemgazdag zenei világ jellemzi a művet.
URL:https://nemzetilovasszinhaz.hu/esemeny/rozsa-sandor-2018-10-27/
ATTACH;FMTTYPE=image/jpeg:https://nemzetilovasszinhaz.hu/wp-content/uploads/2018/08/rózsa1.jpg
END:VEVENT
BEGIN:VEVENT
DTSTART;VALUE=DATE:20181028
DTEND;VALUE=DATE:20181029
DTSTAMP:20260422T045316
CREATED:20180813T134304Z
LAST-MODIFIED:20180813T134350Z
UID:3180-1540684800-1540771199@nemzetilovasszinhaz.hu
SUMMARY:Rózsa Sándor
DESCRIPTION:A darab a betyárok romantikus világát idézi meg\, de komoly mondanivalót is megfogalmaz a hazaszeretetről\, a barátságról\, a hovatartozásról – mindezt a forradalom és szabadságharc korában. Rózsa Sándor egy mitikus személy az Alföldön\, aki sokat segített a szegényeken és innen vonult be\, állt a szabadságharc mellé. A magyar csikósvilágot\, ostorcsapásokkal\, fokosokkal\, lovas jelenetekkel mutatjuk be. Hármas szerelmi szál\, látványos kaszkadőrjelenetek és érzelemgazdag zenei világ jellemzi a művet.
URL:https://nemzetilovasszinhaz.hu/esemeny/rozsa-sandor-2018-10-28/
ATTACH;FMTTYPE=image/jpeg:https://nemzetilovasszinhaz.hu/wp-content/uploads/2018/08/rózsa1.jpg
END:VEVENT
END:VCALENDAR