BEGIN:VCALENDAR
VERSION:2.0
PRODID:-//Nemzeti Lovas Színház - ECPv6.14.2//NONSGML v1.0//EN
CALSCALE:GREGORIAN
METHOD:PUBLISH
X-WR-CALNAME:Nemzeti Lovas Színház
X-ORIGINAL-URL:https://nemzetilovasszinhaz.hu
X-WR-CALDESC:Események Nemzeti Lovas Színház
REFRESH-INTERVAL;VALUE=DURATION:PT1H
X-Robots-Tag:noindex
X-PUBLISHED-TTL:PT1H
BEGIN:VTIMEZONE
TZID:UTC
BEGIN:STANDARD
TZOFFSETFROM:+0000
TZOFFSETTO:+0000
TZNAME:UTC
DTSTART:20180101T000000
END:STANDARD
END:VTIMEZONE
BEGIN:VEVENT
DTSTART;VALUE=DATE:20181207
DTEND;VALUE=DATE:20181208
DTSTAMP:20260422T015124
CREATED:20180813T135051Z
LAST-MODIFIED:20180813T135123Z
UID:3201-1544140800-1544227199@nemzetilovasszinhaz.hu
SUMMARY:Mikulás Gála
DESCRIPTION:Látogasson el családjával a Nemzeti Lovas Színház mesebeli birodalmába\, ahol hercegnők\, tündérek\, manók szorgoskodnak és énekelnek. A Mikulás ezúttal “rénlovas” szánnal érkezik vágtató paripák kíséretében\, miközben sűrűn hull a fehér hó. A világhírű operett- és musical slágerek mellett felcsendül a száncsengő és a Jégország közismert Disney dallamai!
URL:https://nemzetilovasszinhaz.hu/esemeny/mikulas-gala/
ATTACH;FMTTYPE=image/jpeg:https://nemzetilovasszinhaz.hu/wp-content/uploads/2018/08/nemzeti-lovas-szinhaz-latvany-plakat51.jpg
END:VEVENT
BEGIN:VEVENT
DTSTART;VALUE=DATE:20181208
DTEND;VALUE=DATE:20181209
DTSTAMP:20260422T015124
CREATED:20180813T135051Z
LAST-MODIFIED:20180813T135137Z
UID:3203-1544227200-1544313599@nemzetilovasszinhaz.hu
SUMMARY:Mikulás Gála
DESCRIPTION:Látogasson el családjával a Nemzeti Lovas Színház mesebeli birodalmába\, ahol hercegnők\, tündérek\, manók szorgoskodnak és énekelnek. A Mikulás ezúttal “rénlovas” szánnal érkezik vágtató paripák kíséretében\, miközben sűrűn hull a fehér hó. A világhírű operett- és musical slágerek mellett felcsendül a száncsengő és a Jégország közismert Disney dallamai!
URL:https://nemzetilovasszinhaz.hu/esemeny/mikulas-gala-2018-12-08/
ATTACH;FMTTYPE=image/jpeg:https://nemzetilovasszinhaz.hu/wp-content/uploads/2018/08/nemzeti-lovas-szinhaz-latvany-plakat51.jpg
END:VEVENT
BEGIN:VEVENT
DTSTART;VALUE=DATE:20181209
DTEND;VALUE=DATE:20181210
DTSTAMP:20260422T015124
CREATED:20180813T135051Z
LAST-MODIFIED:20180813T135159Z
UID:3204-1544313600-1544399999@nemzetilovasszinhaz.hu
SUMMARY:Mikulás Gála
DESCRIPTION:Látogasson el családjával a Nemzeti Lovas Színház mesebeli birodalmába\, ahol hercegnők\, tündérek\, manók szorgoskodnak és énekelnek. A Mikulás ezúttal “rénlovas” szánnal érkezik vágtató paripák kíséretében\, miközben sűrűn hull a fehér hó. A világhírű operett- és musical slágerek mellett felcsendül a száncsengő és a Jégország közismert Disney dallamai!
URL:https://nemzetilovasszinhaz.hu/esemeny/mikulas-gala-2018-12-09/
ATTACH;FMTTYPE=image/jpeg:https://nemzetilovasszinhaz.hu/wp-content/uploads/2018/08/nemzeti-lovas-szinhaz-latvany-plakat51.jpg
END:VEVENT
END:VCALENDAR