BEGIN:VCALENDAR
VERSION:2.0
PRODID:-//Nemzeti Lovas Színház - ECPv6.14.2//NONSGML v1.0//EN
CALSCALE:GREGORIAN
METHOD:PUBLISH
X-WR-CALNAME:Nemzeti Lovas Színház
X-ORIGINAL-URL:https://nemzetilovasszinhaz.hu
X-WR-CALDESC:Események Nemzeti Lovas Színház
REFRESH-INTERVAL;VALUE=DURATION:PT1H
X-Robots-Tag:noindex
X-PUBLISHED-TTL:PT1H
BEGIN:VTIMEZONE
TZID:UTC
BEGIN:STANDARD
TZOFFSETFROM:+0000
TZOFFSETTO:+0000
TZNAME:UTC
DTSTART:20190101T000000
END:STANDARD
END:VTIMEZONE
BEGIN:VEVENT
DTSTART;TZID=UTC:20190412T190000
DTEND;TZID=UTC:20190412T220000
DTSTAMP:20260421T192708
CREATED:20181126T120757Z
LAST-MODIFIED:20181126T120856Z
UID:3279-1555095600-1555106400@nemzetilovasszinhaz.hu
SUMMARY:Hair
DESCRIPTION:A Hair musical 1967-ben debütált\, a Broadwayn közel 1800 alkalommal volt látható. A történet a ’60-as évek hangulatát tükrözi\, a hippi korszakot\, a szexuális forradalmat\, a társadalmi különbségeket\, a rasszizmust\, valamint a vietnámi háború elleni tiltakozást. Több dala vált a vietnámi háború elleni békemozgalom himnuszává. A darab sok vitát váltott ki az illegális drogok\, a szexualitás kezelése\, a meztelenkedés miatt\, mindenképpen úttörőnek számított\, mint rock-musical. A viták ellenére világszerte óriási sikert futott be\, s népszerűségén csak lendített az 1979-ben született filmváltozat\, mely még több emberhez juttatta el a mondanivalóját. Lovas darabként minden bizonnyal világpremier lesz a Kincsem Parkban.
URL:https://nemzetilovasszinhaz.hu/esemeny/hair-2-2019-04-12/
LOCATION:Kincsem Park\, Albertirsai út 2-4.\, Budapest\, 1101\, Magyarország
ATTACH;FMTTYPE=image/jpeg:https://nemzetilovasszinhaz.hu/wp-content/uploads/2018/11/My-Post8.jpg
END:VEVENT
BEGIN:VEVENT
DTSTART;TZID=UTC:20190413T190000
DTEND;TZID=UTC:20190413T220000
DTSTAMP:20260421T192708
CREATED:20181126T120757Z
LAST-MODIFIED:20181126T120922Z
UID:3281-1555182000-1555192800@nemzetilovasszinhaz.hu
SUMMARY:Hair
DESCRIPTION:A Hair musical 1967-ben debütált\, a Broadwayn közel 1800 alkalommal volt látható. A történet a ’60-as évek hangulatát tükrözi\, a hippi korszakot\, a szexuális forradalmat\, a társadalmi különbségeket\, a rasszizmust\, valamint a vietnámi háború elleni tiltakozást. Több dala vált a vietnámi háború elleni békemozgalom himnuszává. A darab sok vitát váltott ki az illegális drogok\, a szexualitás kezelése\, a meztelenkedés miatt\, mindenképpen úttörőnek számított\, mint rock-musical. A viták ellenére világszerte óriási sikert futott be\, s népszerűségén csak lendített az 1979-ben született filmváltozat\, mely még több emberhez juttatta el a mondanivalóját. Lovas darabként minden bizonnyal világpremier lesz a Kincsem Parkban.
URL:https://nemzetilovasszinhaz.hu/esemeny/hair-2-2019-04-13/
LOCATION:Kincsem Park\, Albertirsai út 2-4.\, Budapest\, 1101\, Magyarország
ATTACH;FMTTYPE=image/jpeg:https://nemzetilovasszinhaz.hu/wp-content/uploads/2018/11/My-Post8.jpg
END:VEVENT
BEGIN:VEVENT
DTSTART;TZID=UTC:20190426T190000
DTEND;TZID=UTC:20190426T220000
DTSTAMP:20260421T192708
CREATED:20181126T121838Z
LAST-MODIFIED:20181126T121838Z
UID:3283-1556305200-1556316000@nemzetilovasszinhaz.hu
SUMMARY:Hófehér és a hét törpe
DESCRIPTION:A világhírű Grimm-mese életre kel musical formájában\, kicsit új köntöst kapva a nagy Hollywood-i sikerprodukciók mintáját követve. Részesei lehetünk egy mesés történetnek\, ahol a jó méltán nyeri el a boldog befejezést\, a lélek tisztasága és a belső értékek győzedelmeskednek.
URL:https://nemzetilovasszinhaz.hu/esemeny/hofeher-es-a-het-torpe-2/
LOCATION:Kincsem Park\, Albertirsai út 2-4.\, Budapest\, 1101\, Magyarország
ATTACH;FMTTYPE=image/jpeg:https://nemzetilovasszinhaz.hu/wp-content/uploads/2018/11/hófehér.jpg
END:VEVENT
END:VCALENDAR