BEGIN:VCALENDAR
VERSION:2.0
PRODID:-//Nemzeti Lovas Színház - ECPv6.14.2//NONSGML v1.0//EN
CALSCALE:GREGORIAN
METHOD:PUBLISH
X-WR-CALNAME:Nemzeti Lovas Színház
X-ORIGINAL-URL:https://nemzetilovasszinhaz.hu
X-WR-CALDESC:Események Nemzeti Lovas Színház
REFRESH-INTERVAL;VALUE=DURATION:PT1H
X-Robots-Tag:noindex
X-PUBLISHED-TTL:PT1H
BEGIN:VTIMEZONE
TZID:UTC
BEGIN:STANDARD
TZOFFSETFROM:+0000
TZOFFSETTO:+0000
TZNAME:UTC
DTSTART:20190101T000000
END:STANDARD
END:VTIMEZONE
BEGIN:VTIMEZONE
TZID:UTC
BEGIN:STANDARD
TZOFFSETFROM:+0000
TZOFFSETTO:+0000
TZNAME:UTC
DTSTART:20190101T000000
END:STANDARD
END:VTIMEZONE
BEGIN:VEVENT
DTSTART;TZID=UTC:20191108T190000
DTEND;TZID=UTC:20191108T210000
DTSTAMP:20260422T001650
CREATED:20190531T120438Z
LAST-MODIFIED:20190531T120438Z
UID:3436-1573239600-1573246800@nemzetilovasszinhaz.hu
SUMMARY:Kincsem - Kincsem Park
DESCRIPTION:Ki ne hallott volna a “csodakancáról”\, aki minden versenyét megnyerte\, és veretlenül vonult vissza. Az 1800-as évek vége felé járunk\, egy elbukott szabadságharc után Magyarországon\, ahol még mindig puskaporos a hangulat. A szerelem\, ármány és bosszú mind megtalálható ebben a darabban\, amit fantasztikus\, mindenki számára ismerős dalokkal írtak meg\, hogy megismerje Kincsem történetét és korát.
URL:https://nemzetilovasszinhaz.hu/esemeny/kincsem-kincsem-park/
LOCATION:Kincsem Park\, Albertirsai út 2-4.\, Budapest\, 1101\, Magyarország
ATTACH;FMTTYPE=image/jpeg:https://nemzetilovasszinhaz.hu/wp-content/uploads/2018/08/kincsemlead.jpg
END:VEVENT
BEGIN:VEVENT
DTSTART;TZID=UTC:20191110T190000
DTEND;TZID=UTC:20191110T210000
DTSTAMP:20260422T001650
CREATED:20190531T120620Z
LAST-MODIFIED:20190531T120620Z
UID:3438-1573412400-1573419600@nemzetilovasszinhaz.hu
SUMMARY:Kincsem - Kincsem Park
DESCRIPTION:Ki ne hallott volna a “csodakancáról”\, aki minden versenyét megnyerte\, és veretlenül vonult vissza. Az 1800-as évek vége felé járunk\, egy elbukott szabadságharc után Magyarországon\, ahol még mindig puskaporos a hangulat. A szerelem\, ármány és bosszú mind megtalálható ebben a darabban\, amit fantasztikus\, mindenki számára ismerős dalokkal írtak meg\, hogy megismerje Kincsem történetét és korát.
URL:https://nemzetilovasszinhaz.hu/esemeny/kincsem-kincsem-park-2/
LOCATION:Kincsem Park\, Albertirsai út 2-4.\, Budapest\, 1101\, Magyarország
ATTACH;FMTTYPE=image/jpeg:https://nemzetilovasszinhaz.hu/wp-content/uploads/2018/08/kincsemlead.jpg
END:VEVENT
BEGIN:VEVENT
DTSTART;TZID=UTC:20191122T190000
DTEND;TZID=UTC:20191122T210000
DTSTAMP:20260422T001650
CREATED:20190531T085603Z
LAST-MODIFIED:20190531T085603Z
UID:3430-1574449200-1574456400@nemzetilovasszinhaz.hu
SUMMARY:A szabadság vándorai - Kincsem Park
DESCRIPTION:A darabban “a szabadság vándorai” maguk a színészek\, muzsikusok\, komédiások\, akik arra tették fel életüket\, hogy mindenáron szórakoztassanak ebben az őrülten rohanó\, kaotikus világban. Teszik ezt azokkal a csodálatos élőlényekkel\, melyek a világ legszabadabb vándorai -a lovakkal. A musical egy színházi társulat létrejöttét dolgozza fel\, különféle emberi sorsokon keresztül. A cél közös\, melyhez a hit\, a kitartás\, az egyetemleges áldozatok\, valamint a szeretet vezeti a főhősöket; megalakítva egy új színjátszási formát\, amit ma úgy hívnak: Lovasszínház. Demjén Ferenc\, Kossuth-díjas művész közel ötven éves munkásságának egy csodálatos kivonata a színdarab\, újszerű köntösbe öltöztetve fantasztikus dalait. A szerzővel és alkotótársával Menyhárt Jánossal egyetértésben született a gondolat\, a mű megalkotásában ők is részt vettek.
URL:https://nemzetilovasszinhaz.hu/esemeny/a-szabadsag-vandorai-kincsem-park-5/
LOCATION:Kincsem Park\, Albertirsai út 2-4.\, Budapest\, 1101\, Magyarország
ATTACH;FMTTYPE=image/jpeg:https://nemzetilovasszinhaz.hu/wp-content/uploads/2019/05/1920-x-1080-szabadsag-1.jpg
END:VEVENT
BEGIN:VEVENT
DTSTART;TZID=UTC:20191123T190000
DTEND;TZID=UTC:20191123T210000
DTSTAMP:20260422T001650
CREATED:20190531T085734Z
LAST-MODIFIED:20190531T085734Z
UID:3432-1574535600-1574542800@nemzetilovasszinhaz.hu
SUMMARY:A szabadság vándorai - Kincsem Park
DESCRIPTION:A darabban “a szabadság vándorai” maguk a színészek\, muzsikusok\, komédiások\, akik arra tették fel életüket\, hogy mindenáron szórakoztassanak ebben az őrülten rohanó\, kaotikus világban. Teszik ezt azokkal a csodálatos élőlényekkel\, melyek a világ legszabadabb vándorai -a lovakkal. A musical egy színházi társulat létrejöttét dolgozza fel\, különféle emberi sorsokon keresztül. A cél közös\, melyhez a hit\, a kitartás\, az egyetemleges áldozatok\, valamint a szeretet vezeti a főhősöket; megalakítva egy új színjátszási formát\, amit ma úgy hívnak: Lovasszínház. Demjén Ferenc\, Kossuth-díjas művész közel ötven éves munkásságának egy csodálatos kivonata a színdarab\, újszerű köntösbe öltöztetve fantasztikus dalait. A szerzővel és alkotótársával Menyhárt Jánossal egyetértésben született a gondolat\, a mű megalkotásában ők is részt vettek.
URL:https://nemzetilovasszinhaz.hu/esemeny/a-szabadsag-vandorai-kincsem-park-6/
LOCATION:Kincsem Park\, Albertirsai út 2-4.\, Budapest\, 1101\, Magyarország
ATTACH;FMTTYPE=image/jpeg:https://nemzetilovasszinhaz.hu/wp-content/uploads/2019/05/1920-x-1080-szabadsag-1.jpg
END:VEVENT
BEGIN:VEVENT
DTSTART;TZID=UTC:20191124T160000
DTEND;TZID=UTC:20191124T180000
DTSTAMP:20260422T001650
CREATED:20190531T085855Z
LAST-MODIFIED:20190531T085855Z
UID:3434-1574611200-1574618400@nemzetilovasszinhaz.hu
SUMMARY:A szabadság vándorai - Kincsem Park
DESCRIPTION:A darabban “a szabadság vándorai” maguk a színészek\, muzsikusok\, komédiások\, akik arra tették fel életüket\, hogy mindenáron szórakoztassanak ebben az őrülten rohanó\, kaotikus világban. Teszik ezt azokkal a csodálatos élőlényekkel\, melyek a világ legszabadabb vándorai -a lovakkal. A musical egy színházi társulat létrejöttét dolgozza fel\, különféle emberi sorsokon keresztül. A cél közös\, melyhez a hit\, a kitartás\, az egyetemleges áldozatok\, valamint a szeretet vezeti a főhősöket; megalakítva egy új színjátszási formát\, amit ma úgy hívnak: Lovasszínház. Demjén Ferenc\, Kossuth-díjas művész közel ötven éves munkásságának egy csodálatos kivonata a színdarab\, újszerű köntösbe öltöztetve fantasztikus dalait. A szerzővel és alkotótársával Menyhárt Jánossal egyetértésben született a gondolat\, a mű megalkotásában ők is részt vettek.
URL:https://nemzetilovasszinhaz.hu/esemeny/a-szabadsag-vandorai-kincsem-park-7/
LOCATION:Kincsem Park\, Albertirsai út 2-4.\, Budapest\, 1101\, Magyarország
ATTACH;FMTTYPE=image/jpeg:https://nemzetilovasszinhaz.hu/wp-content/uploads/2019/05/1920-x-1080-szabadsag-1.jpg
END:VEVENT
END:VCALENDAR