BEGIN:VCALENDAR
VERSION:2.0
PRODID:-//Nemzeti Lovas Színház - ECPv6.14.2//NONSGML v1.0//EN
CALSCALE:GREGORIAN
METHOD:PUBLISH
X-ORIGINAL-URL:https://nemzetilovasszinhaz.hu
X-WR-CALDESC:Események Nemzeti Lovas Színház
REFRESH-INTERVAL;VALUE=DURATION:PT1H
X-Robots-Tag:noindex
X-PUBLISHED-TTL:PT1H
BEGIN:VTIMEZONE
TZID:UTC
BEGIN:STANDARD
TZOFFSETFROM:+0000
TZOFFSETTO:+0000
TZNAME:UTC
DTSTART:20190101T000000
END:STANDARD
END:VTIMEZONE
BEGIN:VEVENT
DTSTART;TZID=UTC:20191207T190000
DTEND;TZID=UTC:20191207T210000
DTSTAMP:20260422T015256
CREATED:20190531T121528Z
LAST-MODIFIED:20191118T175118Z
UID:3440-1575745200-1575752400@nemzetilovasszinhaz.hu
SUMMARY:Lúdas Matyi - Kincsem Park
DESCRIPTION:Nézze újra a magyar filmtörténet megunhatatlan alkotását élőben! A Nemzeti Lovas Színház népi rockopera keretében gondolta újra Lúdas Matyi örök érvényű történetét. Kaland\, izgalom\, románc\, humor és persze minden korosztály számára érvényes tanulságok várják a nagyérdeműt. A színészeken kívül természetesen fontos szerepet kapnak a lovak. A furfangos eszű libapásztor legény móresre tanítja Döbrögi uraságot. A darab végére pedig a Mikulás is megérkezik a gyerekekhez.
URL:https://nemzetilovasszinhaz.hu/esemeny/ludas-matyi-kincsem-park/
LOCATION:Kincsem Park\, Albertirsai út 2-4.\, Budapest\, 1101\, Magyarország
ATTACH;FMTTYPE=image/jpeg:https://nemzetilovasszinhaz.hu/wp-content/uploads/2019/03/lúdas_matyi.jpg
END:VEVENT
BEGIN:VEVENT
DTSTART;TZID=UTC:20191208T150000
DTEND;TZID=UTC:20191208T170000
DTSTAMP:20260422T015257
CREATED:20190531T121748Z
LAST-MODIFIED:20191118T175141Z
UID:3442-1575817200-1575824400@nemzetilovasszinhaz.hu
SUMMARY:Lúdas Matyi - Kincsem Park
DESCRIPTION:Nézze újra a magyar filmtörténet megunhatatlan alkotását élőben! A Nemzeti Lovas Színház népi rockopera keretében gondolta újra Lúdas Matyi örök érvényű történetét. Kaland\, izgalom\, románc\, humor és persze minden korosztály számára érvényes tanulságok várják a nagyérdeműt. A színészeken kívül természetesen fontos szerepet kapnak a lovak. A furfangos eszű libapásztor legény móresre tanítja Döbrögi uraságot. A darab végére pedig a Mikulás is megérkezik a gyerekekhez.
URL:https://nemzetilovasszinhaz.hu/esemeny/ludas-matyi-kincsem-park-2/
LOCATION:Kincsem Park\, Albertirsai út 2-4.\, Budapest\, 1101\, Magyarország
ATTACH;FMTTYPE=image/jpeg:https://nemzetilovasszinhaz.hu/wp-content/uploads/2019/03/lúdas_matyi.jpg
END:VEVENT
END:VCALENDAR