BEGIN:VCALENDAR
VERSION:2.0
PRODID:-//Nemzeti Lovas Színház - ECPv6.14.2//NONSGML v1.0//EN
CALSCALE:GREGORIAN
METHOD:PUBLISH
X-ORIGINAL-URL:https://nemzetilovasszinhaz.hu
X-WR-CALDESC:Események Nemzeti Lovas Színház
REFRESH-INTERVAL;VALUE=DURATION:PT1H
X-Robots-Tag:noindex
X-PUBLISHED-TTL:PT1H
BEGIN:VTIMEZONE
TZID:UTC
BEGIN:STANDARD
TZOFFSETFROM:+0000
TZOFFSETTO:+0000
TZNAME:UTC
DTSTART:20200101T000000
END:STANDARD
END:VTIMEZONE
BEGIN:VEVENT
DTSTART;TZID=UTC:20200801T200000
DTEND;TZID=UTC:20200801T220000
DTSTAMP:20260422T174804
CREATED:20200211T193526Z
LAST-MODIFIED:20200211T193539Z
UID:3582-1596312000-1596319200@nemzetilovasszinhaz.hu
SUMMARY:Szilaj
DESCRIPTION:Világpremiert jelent\, hogy először lesz látható együtt a klasszikus stílus és szabad idomítás művészete a lovas színházak történetében. A darab végén Szilaj teljesíti a lehetetlennel felérő küldetését: megmenti szülőföldjét\, ám ehhez hihetetlen bátorságra és elszántságra lesz szüksége.
URL:https://nemzetilovasszinhaz.hu/esemeny/szilaj-5/
LOCATION:Bikal\, Bikal\, Magyarország
ATTACH;FMTTYPE=image/jpeg:https://nemzetilovasszinhaz.hu/wp-content/uploads/2020/02/szilaj-szereposztas.jpg
END:VEVENT
BEGIN:VEVENT
DTSTART;TZID=UTC:20200807T203000
DTEND;TZID=UTC:20200807T223000
DTSTAMP:20260422T174804
CREATED:20200211T194858Z
LAST-MODIFIED:20200211T194907Z
UID:3599-1596832200-1596839400@nemzetilovasszinhaz.hu
SUMMARY:Mátyás\, az igazságos
DESCRIPTION:A darab Kinizsi Pál és Mátyás király barátságán keresztül\, a fiatalok számára is közérthetően\, a róla szóló legendás mesék elemeiből táplálkozva\, rendkívül látványos módon mutatja be a történelmi eseményeket.
URL:https://nemzetilovasszinhaz.hu/esemeny/matyas-az-igazsagos-7/
LOCATION:Mórahalom – Patkó Lovas Színház\, Patkó Lovas Színház\, Mórahalom\, Csongrád\, Magyarország
ATTACH;FMTTYPE=image/jpeg:https://nemzetilovasszinhaz.hu/wp-content/uploads/2018/08/mátyás1.jpg
END:VEVENT
BEGIN:VEVENT
DTSTART;TZID=UTC:20200808T200000
DTEND;TZID=UTC:20200808T220000
DTSTAMP:20260422T174804
CREATED:20200211T193635Z
LAST-MODIFIED:20200211T193635Z
UID:3584-1596916800-1596924000@nemzetilovasszinhaz.hu
SUMMARY:Szilaj
DESCRIPTION:Világpremiert jelent\, hogy először lesz látható együtt a klasszikus stílus és szabad idomítás művészete a lovas színházak történetében. A darab végén Szilaj teljesíti a lehetetlennel felérő küldetését: megmenti szülőföldjét\, ám ehhez hihetetlen bátorságra és elszántságra lesz szüksége.
URL:https://nemzetilovasszinhaz.hu/esemeny/szilaj-6/
LOCATION:Bikal\, Bikal\, Magyarország
ATTACH;FMTTYPE=image/jpeg:https://nemzetilovasszinhaz.hu/wp-content/uploads/2020/02/szilaj-szereposztas.jpg
END:VEVENT
BEGIN:VEVENT
DTSTART;TZID=UTC:20200815T200000
DTEND;TZID=UTC:20200815T220000
DTSTAMP:20260422T174804
CREATED:20200211T193725Z
LAST-MODIFIED:20200211T193725Z
UID:3586-1597521600-1597528800@nemzetilovasszinhaz.hu
SUMMARY:Szilaj
DESCRIPTION:Világpremiert jelent\, hogy először lesz látható együtt a klasszikus stílus és szabad idomítás művészete a lovas színházak történetében. A darab végén Szilaj teljesíti a lehetetlennel felérő küldetését: megmenti szülőföldjét\, ám ehhez hihetetlen bátorságra és elszántságra lesz szüksége.
URL:https://nemzetilovasszinhaz.hu/esemeny/szilaj-7/
LOCATION:Bikal\, Bikal\, Magyarország
ATTACH;FMTTYPE=image/jpeg:https://nemzetilovasszinhaz.hu/wp-content/uploads/2020/02/szilaj-szereposztas.jpg
END:VEVENT
BEGIN:VEVENT
DTSTART;TZID=UTC:20200820T193000
DTEND;TZID=UTC:20200820T213000
DTSTAMP:20260422T174804
CREATED:20200211T195034Z
LAST-MODIFIED:20200211T195034Z
UID:3602-1597951800-1597959000@nemzetilovasszinhaz.hu
SUMMARY:Honfoglalás
DESCRIPTION:A Honfoglalás című magyar rockopera feltárja magyar honfoglalással kapcsolatos legújabb történelmi információkat\, üzenve a mai fiataloknak és a Kárpát-medencében élő összes magyarnak\, hogy alaposabban megismerkedhessenek a magyarok valódi történelmével.
URL:https://nemzetilovasszinhaz.hu/esemeny/honfoglalas-7/
LOCATION:Mórahalom – Patkó Lovas Színház\, Patkó Lovas Színház\, Mórahalom\, Csongrád\, Magyarország
ATTACH;FMTTYPE=image/jpeg:https://nemzetilovasszinhaz.hu/wp-content/uploads/2018/11/DSC_0174.jpg
END:VEVENT
BEGIN:VEVENT
DTSTART;TZID=UTC:20200821T193000
DTEND;TZID=UTC:20200821T220000
DTSTAMP:20260422T174804
CREATED:20200211T195141Z
LAST-MODIFIED:20200812T165305Z
UID:3604-1598038200-1598047200@nemzetilovasszinhaz.hu
SUMMARY:Jászkun szerelem - Kiskunhalas
DESCRIPTION:
URL:https://nemzetilovasszinhaz.hu/esemeny/honfoglalas-8/
LOCATION:Kiskunhalas
END:VEVENT
BEGIN:VEVENT
DTSTART;TZID=UTC:20200823T193000
DTEND;TZID=UTC:20200823T213000
DTSTAMP:20260422T174804
CREATED:20200211T184802Z
LAST-MODIFIED:20200602T195646Z
UID:3562-1598211000-1598218200@nemzetilovasszinhaz.hu
SUMMARY:Kincsem - Mórahalom
DESCRIPTION:Ki ne hallott volna a “csodakancáról”\, aki minden versenyét megnyerte\, és veretlenül vonult vissza… \nAz 1800-as évek vége felé járunk\, egy elbukott szabadságharc után Magyarországon\, ahol még mindig puskaporos a hangulat. A szerelem\, ármány és bosszú mind megtalálható ebben a darabban\, amit fantasztikus\, mindenki számára ismerős dalokkal írtak meg\, hogy megismerje Kincsem történetét és korát.
URL:https://nemzetilovasszinhaz.hu/esemeny/kincsem-morahalom-3/
LOCATION:Mórahalom – Patkó Lovas Színház\, Patkó Lovas Színház\, Mórahalom\, Csongrád\, Magyarország
ATTACH;FMTTYPE=image/jpeg:https://nemzetilovasszinhaz.hu/wp-content/uploads/2019/06/DSC_0120-e1591213711949.jpg
END:VEVENT
BEGIN:VEVENT
DTSTART;TZID=UTC:20200826T193000
DTEND;TZID=UTC:20200826T220000
DTSTAMP:20260422T174804
CREATED:20200807T135136Z
LAST-MODIFIED:20200807T135136Z
UID:4195-1598470200-1598479200@nemzetilovasszinhaz.hu
SUMMARY:Kincsem - Nyíregyháza
DESCRIPTION:A legyőzhetetlen csodakanca epikus története\nCsaládi musical 2 felvonásban\nNemzeti Lovas Színház \nMinden 100 évben születik egy ló\, és minden 100 évben születik egy ember\, akiknek a lelke összekapcsolódik. Egy történet a száguldásról\, a tehetségről és a megzabolázhatatlan gyorsaságról! Ki ne hallott volna a “csodakancáról”\, aki minden versenyét megnyerte\, és veretlenül vonult vissza. Az 1800-as évek vége felé járunk\, egy elbukott szabadságharc után Magyarországon\, ahol még mindig puskaporos a hangulat. A szerelem\, ármány és bosszú mind megtalálható ebben a darabban\, amit fantasztikus\, mindenki számára ismerős dalokkal írtak meg\, hogy megismerje Kincsem történetét és korát. \nBlaskovits Ernő:        PINTÉR TIBOR\nHesp Róbert:            MOHÁCSI MÁRK\nSztáray grófnő:         PÁPAI KÍRA\nMara:                       PAPADIMITRIU ATHINA\nElisabeth\, Kincsem:  BÁNYAVÖLGYI DONÁTA\nApa\, Rikkancs\, Géza: BENCZE SÁNDOR\nÉnekesnő:                 ILYÉS JENIFER\nKisfiú:                       SURÁNYI DÖME \nKözreműködnek  a Nemzeti Lovas Színház tánckara és lovasai. \nÍrta: DEÁK-LŐRINC ANDREA\nZenét hangszerelte: MÉSZÁROS LÁSZLÓ\nKoreográfus: SZERETVA RENÁTA és VINCZE LEVENTE\nLátvány: SZONDI GYÖRGY\nTechnikai vezető: BÓDI CSABA\nHang: BÓDI MARTIN\nRendezte: PINTÉR TIBOR \nHelyszín: Hotel Pagony területén található TIMPEX ARÉNA (Fedeles Lovarda) \nBeengedés kezdés előtt 30 perccel \nAz előadás hossza 2×60 perc  1×30 perces szünettel.
URL:https://nemzetilovasszinhaz.hu/esemeny/kincsem-nyiregyhaza/
LOCATION:Nyíregyháza\, Móricz Zsigmond Színház\, Hotel Pagony - Timpex Aréna (Fedeles Lovarda)\, Újmajori út 14-18\, Nyíregyháza\, 4400\, Magyarország
ATTACH;FMTTYPE=image/jpeg:https://nemzetilovasszinhaz.hu/wp-content/uploads/2020/06/IMG_8695-22-scaled.jpg
END:VEVENT
BEGIN:VEVENT
DTSTART;TZID=UTC:20200828T193000
DTEND;TZID=UTC:20200828T213000
DTSTAMP:20260422T174804
CREATED:20200211T194420Z
LAST-MODIFIED:20200602T195640Z
UID:3594-1598643000-1598650200@nemzetilovasszinhaz.hu
SUMMARY:A Szabadság vándorai
DESCRIPTION:A darabban “a szabadság vándorai” maguk a színészek\, muzsikusok\, komédiások\, akik arra tették fel életüket\, hogy mindenáron szórakoztassanak ebben az őrülten rohanó\, kaotikus világban. Teszik ezt azokkal a csodálatos élőlényekkel\, melyek a világ legszabadabb vándorai – a lovakkal. \nDemjén Ferenc\, Kossuth-díjas művész közel ötven éves munkásságának egy csodálatos kivonata a színdarab\, újszerű köntösbe öltöztetve fantasztikus dalait. A szerzővel és alkotótársával Menyhárt Jánossal egyetértésben született a gondolat\, a mű megalkotásában ők is részt vettek.
URL:https://nemzetilovasszinhaz.hu/esemeny/a-szabadsag-vandorai-8/
LOCATION:Mórahalom – Patkó Lovas Színház\, Patkó Lovas Színház\, Mórahalom\, Csongrád\, Magyarország
ATTACH;FMTTYPE=image/jpeg:https://nemzetilovasszinhaz.hu/wp-content/uploads/2019/09/tenyuslovas.jpg
END:VEVENT
BEGIN:VEVENT
DTSTART;TZID=UTC:20200829T193000
DTEND;TZID=UTC:20200829T193000
DTSTAMP:20260422T174804
CREATED:20200714T080751Z
LAST-MODIFIED:20200714T080751Z
UID:4140-1598729400-1598729400@nemzetilovasszinhaz.hu
SUMMARY:Szilaj - Mórahalom
DESCRIPTION:Világpremiert jelent\, hogy először lesz látható együtt a klasszikus stílus és szabad idomítás művészete a lovas színházak történetében. A darab végén Szilaj teljesíti a lehetetlennel felérő küldetését: megmenti szülőföldjét\, ám ehhez hihetetlen bátorságra és elszántságra lesz szüksége.
URL:https://nemzetilovasszinhaz.hu/esemeny/szilaj-morahalom/
LOCATION:Mórahalom – Patkó Lovas Színház\, Patkó Lovas Színház\, Mórahalom\, Csongrád\, Magyarország
ATTACH;FMTTYPE=image/jpeg:https://nemzetilovasszinhaz.hu/wp-content/uploads/2020/02/szilaj-szereposztas.jpg
END:VEVENT
BEGIN:VEVENT
DTSTART;TZID=UTC:20200830T193000
DTEND;TZID=UTC:20200830T213000
DTSTAMP:20260422T174804
CREATED:20200211T193841Z
LAST-MODIFIED:20200714T075807Z
UID:3588-1598815800-1598823000@nemzetilovasszinhaz.hu
SUMMARY:Szilaj - Mórahalom
DESCRIPTION:Világpremiert jelent\, hogy először lesz látható együtt a klasszikus stílus és szabad idomítás művészete a lovas színházak történetében. A darab végén Szilaj teljesíti a lehetetlennel felérő küldetését: megmenti szülőföldjét\, ám ehhez hihetetlen bátorságra és elszántságra lesz szüksége.
URL:https://nemzetilovasszinhaz.hu/esemeny/szilaj-8/
LOCATION:Mórahalom – Patkó Lovas Színház\, Patkó Lovas Színház\, Mórahalom\, Csongrád\, Magyarország
CATEGORIES:következő előadás
ATTACH;FMTTYPE=image/jpeg:https://nemzetilovasszinhaz.hu/wp-content/uploads/2020/02/szilaj-szereposztas.jpg
END:VEVENT
END:VCALENDAR