BEGIN:VCALENDAR
VERSION:2.0
PRODID:-//Nemzeti Lovas Színház - ECPv6.14.2//NONSGML v1.0//EN
CALSCALE:GREGORIAN
METHOD:PUBLISH
X-WR-CALNAME:Nemzeti Lovas Színház
X-ORIGINAL-URL:https://nemzetilovasszinhaz.hu
X-WR-CALDESC:Események Nemzeti Lovas Színház
REFRESH-INTERVAL;VALUE=DURATION:PT1H
X-Robots-Tag:noindex
X-PUBLISHED-TTL:PT1H
BEGIN:VTIMEZONE
TZID:UTC
BEGIN:STANDARD
TZOFFSETFROM:+0000
TZOFFSETTO:+0000
TZNAME:UTC
DTSTART:20200101T000000
END:STANDARD
END:VTIMEZONE
BEGIN:VEVENT
DTSTART;TZID=UTC:20200925T190000
DTEND;TZID=UTC:20200925T210000
DTSTAMP:20260422T190926
CREATED:20200617T174622Z
LAST-MODIFIED:20200621T085149Z
UID:3790-1601060400-1601067600@nemzetilovasszinhaz.hu
SUMMARY:Szilaj - 2020. szeptember 25. - Kincsem Park
DESCRIPTION:Az elmaradt 2020. május 1-i előadás pótlása! Az ide megváltott jegyek érvényesek! További jegyek vásárolhatók a szabad helyek függvényében! \nVilágpremiert jelent\, hogy először lesz látható együtt a klasszikus stílus és szabad idomítás művészete a lovas színházak történetében. A darab végén Szilaj teljesíti a lehetetlennel felérő küldetését: megmenti szülőföldjét\, ám ehhez hihetetlen bátorságra és elszántságra lesz szüksége.
URL:https://nemzetilovasszinhaz.hu/esemeny/szilaj-2020-szeptember-25/
LOCATION:Kincsem Park\, Albertirsai út 2-4.\, Budapest\, 1101\, Magyarország
CATEGORIES:jegyeladás
ATTACH;FMTTYPE=image/jpeg:https://nemzetilovasszinhaz.hu/wp-content/uploads/2020/02/szilaj-szereposztas.jpg
END:VEVENT
BEGIN:VEVENT
DTSTART;TZID=UTC:20200926T190000
DTEND;TZID=UTC:20200926T210000
DTSTAMP:20260422T190926
CREATED:20200617T175142Z
LAST-MODIFIED:20200621T085207Z
UID:3794-1601146800-1601154000@nemzetilovasszinhaz.hu
SUMMARY:Szilaj - 2020. szeptember 26. - Kincsem Park
DESCRIPTION:Az elmaradt 2020. május 2-i előadás pótlása! Az ide megváltott jegyek érvényesek! További jegyek vásárolhatók a szabad helyek függvényében! \nVilágpremiert jelent\, hogy először lesz látható együtt a klasszikus stílus és szabad idomítás művészete a lovas színházak történetében. A darab végén Szilaj teljesíti a lehetetlennel felérő küldetését: megmenti szülőföldjét\, ám ehhez hihetetlen bátorságra és elszántságra lesz szüksége.
URL:https://nemzetilovasszinhaz.hu/esemeny/szilaj-2020-szeptember-26-kincsem-park/
LOCATION:Kincsem Park\, Albertirsai út 2-4.\, Budapest\, 1101\, Magyarország
CATEGORIES:jegyeladás
ATTACH;FMTTYPE=image/jpeg:https://nemzetilovasszinhaz.hu/wp-content/uploads/2020/02/szilaj-szereposztas.jpg
END:VEVENT
END:VCALENDAR