BEGIN:VCALENDAR
VERSION:2.0
PRODID:-//Nemzeti Lovas Színház - ECPv6.14.2//NONSGML v1.0//EN
CALSCALE:GREGORIAN
METHOD:PUBLISH
X-ORIGINAL-URL:https://nemzetilovasszinhaz.hu
X-WR-CALDESC:Események Nemzeti Lovas Színház
REFRESH-INTERVAL;VALUE=DURATION:PT1H
X-Robots-Tag:noindex
X-PUBLISHED-TTL:PT1H
BEGIN:VTIMEZONE
TZID:UTC
BEGIN:STANDARD
TZOFFSETFROM:+0000
TZOFFSETTO:+0000
TZNAME:UTC
DTSTART:20200101T000000
END:STANDARD
END:VTIMEZONE
BEGIN:VEVENT
DTSTART;TZID=UTC:20201002T160000
DTEND;TZID=UTC:20201002T180000
DTSTAMP:20260422T203021
CREATED:20200618T070839Z
LAST-MODIFIED:20200621T085226Z
UID:3796-1601654400-1601661600@nemzetilovasszinhaz.hu
SUMMARY:Szilaj - 2020. október 2. - Kincsem Park
DESCRIPTION:Az elmaradt 2020. május 22-i előadás pótlása! Az ide megváltott jegyek érvényesek! További jegyek vásárolhatók a szabad helyek függvényében! \nVilágpremiert jelent\, hogy először lesz látható együtt a klasszikus stílus és szabad idomítás művészete a lovas színházak történetében. A darab végén Szilaj teljesíti a lehetetlennel felérő küldetését: megmenti szülőföldjét\, ám ehhez hihetetlen bátorságra és elszántságra lesz szüksége.
URL:https://nemzetilovasszinhaz.hu/esemeny/szilaj-2020-oktober-2-kincsem-park/
LOCATION:Kincsem Park\, Albertirsai út 2-4.\, Budapest\, 1101\, Magyarország
CATEGORIES:jegyeladás
ATTACH;FMTTYPE=image/jpeg:https://nemzetilovasszinhaz.hu/wp-content/uploads/2020/02/szilaj-szereposztas.jpg
END:VEVENT
BEGIN:VEVENT
DTSTART;TZID=UTC:20201003T190000
DTEND;TZID=UTC:20201003T210000
DTSTAMP:20260422T203021
CREATED:20200618T071754Z
LAST-MODIFIED:20200621T085244Z
UID:3798-1601751600-1601758800@nemzetilovasszinhaz.hu
SUMMARY:Szilaj - 2020. október 3. - Kincsem Park
DESCRIPTION:Az elmaradt 2020. május 23-i előadás pótlása! Az ide megváltott jegyek érvényesek! További jegyek vásárolhatók a szabad helyek függvényében! \nVilágpremiert jelent\, hogy először lesz látható együtt a klasszikus stílus és szabad idomítás művészete a lovas színházak történetében. A darab végén Szilaj teljesíti a lehetetlennel felérő küldetését: megmenti szülőföldjét\, ám ehhez hihetetlen bátorságra és elszántságra lesz szüksége.
URL:https://nemzetilovasszinhaz.hu/esemeny/szilaj-2020-oktober-3-kincsem-park/
LOCATION:Kincsem Park\, Albertirsai út 2-4.\, Budapest\, 1101\, Magyarország
CATEGORIES:jegyeladás
ATTACH;FMTTYPE=image/jpeg:https://nemzetilovasszinhaz.hu/wp-content/uploads/2020/02/szilaj-szereposztas.jpg
END:VEVENT
BEGIN:VEVENT
DTSTART;TZID=UTC:20201004T180000
DTEND;TZID=UTC:20201004T200000
DTSTAMP:20260422T203021
CREATED:20200618T071937Z
LAST-MODIFIED:20200621T085257Z
UID:3800-1601834400-1601841600@nemzetilovasszinhaz.hu
SUMMARY:Szilaj - 2020. október 4. - Kincsem Park
DESCRIPTION:Az elmaradt 2020. május 24-i előadás pótlása! Az ide megváltott jegyek érvényesek! További jegyek vásárolhatók a szabad helyek függvényében! \nVilágpremiert jelent\, hogy először lesz látható együtt a klasszikus stílus és szabad idomítás művészete a lovas színházak történetében. A darab végén Szilaj teljesíti a lehetetlennel felérő küldetését: megmenti szülőföldjét\, ám ehhez hihetetlen bátorságra és elszántságra lesz szüksége.
URL:https://nemzetilovasszinhaz.hu/esemeny/szilaj-2020-oktober-4-kincsem-park/
LOCATION:Kincsem Park\, Albertirsai út 2-4.\, Budapest\, 1101\, Magyarország
CATEGORIES:jegyeladás
ATTACH;FMTTYPE=image/jpeg:https://nemzetilovasszinhaz.hu/wp-content/uploads/2020/02/szilaj-szereposztas.jpg
END:VEVENT
BEGIN:VEVENT
DTSTART;TZID=UTC:20201009T160000
DTEND;TZID=UTC:20201009T180000
DTSTAMP:20260422T203021
CREATED:20200618T073638Z
LAST-MODIFIED:20200621T085517Z
UID:3802-1602259200-1602266400@nemzetilovasszinhaz.hu
SUMMARY:Honfoglalás - 2020. október 9. - Kincsem Park
DESCRIPTION:Az elmaradt 2020. március 20-i előadás pótlása! Az ide megváltott jegyek érvényesek! További jegyek vásárolhatók a szabad helyek függvényében!\n\nA Honfoglalás című magyar rockopera feltárja magyar honfoglalással kapcsolatos legújabb történelmi információkat\, üzenve a mai fiataloknak és a Kárpát-medencében élő összes magyarnak\, hogy alaposabban megismerkedhessenek a magyarok valódi történelmével.
URL:https://nemzetilovasszinhaz.hu/esemeny/honfoglalas-2020-oktober-9-kincsem-park/
LOCATION:Kincsem Park\, Albertirsai út 2-4.\, Budapest\, 1101\, Magyarország
CATEGORIES:jegyeladás
ATTACH;FMTTYPE=image/jpeg:https://nemzetilovasszinhaz.hu/wp-content/uploads/2020/06/297-x-420-honfoglalas-2020-potlas.jpg
END:VEVENT
BEGIN:VEVENT
DTSTART;TZID=UTC:20201010T190000
DTEND;TZID=UTC:20201010T210000
DTSTAMP:20260422T203021
CREATED:20200621T063339Z
LAST-MODIFIED:20200621T085535Z
UID:4034-1602356400-1602363600@nemzetilovasszinhaz.hu
SUMMARY:Honfoglalás - 2020. október 10. - Kincsem Park
DESCRIPTION:Az elmaradt 2020. március 21-i előadás pótlása! Az ide megváltott jegyek érvényesek! További jegyek vásárolhatók a szabad helyek függvényében!\n\nA Honfoglalás című magyar rockopera feltárja magyar honfoglalással kapcsolatos legújabb történelmi információkat\, üzenve a mai fiataloknak és a Kárpát-medencében élő összes magyarnak\, hogy alaposabban megismerkedhessenek a magyarok valódi történelmével.
URL:https://nemzetilovasszinhaz.hu/esemeny/honfoglalas-2020-oktober-10-kincsem-park/
LOCATION:Kincsem Park\, Albertirsai út 2-4.\, Budapest\, 1101\, Magyarország
CATEGORIES:jegyeladás
ATTACH;FMTTYPE=image/jpeg:https://nemzetilovasszinhaz.hu/wp-content/uploads/2020/06/297-x-420-honfoglalas-2020-potlas2.jpg
END:VEVENT
BEGIN:VEVENT
DTSTART;TZID=UTC:20201017T190000
DTEND;TZID=UTC:20201017T210000
DTSTAMP:20260422T203021
CREATED:20200621T064136Z
LAST-MODIFIED:20200621T085615Z
UID:4041-1602961200-1602968400@nemzetilovasszinhaz.hu
SUMMARY:A Fekete álarcos lovas - 2020. október 17. - Kincsem Park
DESCRIPTION:A Nemzeti Lovas Színház akciófilmeket meghazudtoló látványvilággal\, a legmenőbb cirkuszok ámulatba ejtő mutatványait megidézve és sokáig dúdolható dallamokkal kényezteti el a nézőket. Aki elvesz a zsarnokoktól és ad a szegényeknek\, akitől minden nő elalél. A Nemzeti Lovas Színház mindenki által ismert slágerek segítségével kelti életre a feketébe öltözött\, fekete lovon vágtató hőst\, hogy mindenkit elvarázsoljon\, és az egész családnak kellemes és izgalmas kikapcsolódást nyújtson.
URL:https://nemzetilovasszinhaz.hu/esemeny/a-fekete-alarcos-lovas-2020-oktober-17-kincsem-park/
LOCATION:Kincsem Park\, Albertirsai út 2-4.\, Budapest\, 1101\, Magyarország
CATEGORIES:jegyeladás
ATTACH;FMTTYPE=image/jpeg:https://nemzetilovasszinhaz.hu/wp-content/uploads/2020/06/297-x-420-fekete-alarcos-potlas.jpg
END:VEVENT
END:VCALENDAR