BEGIN:VCALENDAR
VERSION:2.0
PRODID:-//Nemzeti Lovas Színház - ECPv6.14.2//NONSGML v1.0//EN
CALSCALE:GREGORIAN
METHOD:PUBLISH
X-ORIGINAL-URL:https://nemzetilovasszinhaz.hu
X-WR-CALDESC:Események Nemzeti Lovas Színház
REFRESH-INTERVAL;VALUE=DURATION:PT1H
X-Robots-Tag:noindex
X-PUBLISHED-TTL:PT1H
BEGIN:VTIMEZONE
TZID:UTC
BEGIN:STANDARD
TZOFFSETFROM:+0000
TZOFFSETTO:+0000
TZNAME:UTC
DTSTART:20240101T000000
END:STANDARD
END:VTIMEZONE
BEGIN:VEVENT
DTSTART;TZID=UTC:20240412T190000
DTEND;TZID=UTC:20240412T220000
DTSTAMP:20260422T170233
CREATED:20231119T102054Z
LAST-MODIFIED:20240207T113407Z
UID:5839-1712948400-1712959200@nemzetilovasszinhaz.hu
SUMMARY:Csárdáskirálynő 2024.04.12. 19:00
DESCRIPTION:Titkokkal teli játék az Orfeumban\, ahol mindenkinek van veszítenivalója\, de mindenkire boldog vég vár. \nEdvin herceg rajong Szilviáért\, a Pesti Orfeum csillagáért\, de arisztokrata családja ellenzi a rangon aluli kapcsolatot. Edvin szülei mindent elkövetnek\, hogy viszszacsalják fiukat Bécsbe\, hogy ott eljegyezze unokahúgát Stázi grófnőt. A cselekményt a kedves\, bolondos Bóni gróf és Feri bácsi\, az orfeum törzsvendégei bonyolítják. A végén persze mindenki boldog lesz szíve választottjával. \nA világhírű dallamok\, mint a “Te rongyos élet”\, “Hajmási Péter”\, “Emlékszel még”\, valamint eredeti humora tette ezt az operettet a Nemzeti Lovas Színház egyik legnépszerűbb produkciójává is.
URL:https://nemzetilovasszinhaz.hu/esemeny/csardaskiralyno-2024-04-12-1900/
LOCATION:Kincsem Park\, Albertirsai út 2-4.\, Budapest\, 1101\, Magyarország
CATEGORIES:jegyeladás
ATTACH;FMTTYPE=image/jpeg:https://nemzetilovasszinhaz.hu/wp-content/uploads/2023/11/csardaskiralyno-2024-1.jpg
END:VEVENT
BEGIN:VEVENT
DTSTART;TZID=UTC:20240413T180000
DTEND;TZID=UTC:20240413T210000
DTSTAMP:20260422T170233
CREATED:20231119T102243Z
LAST-MODIFIED:20240207T113303Z
UID:5842-1713031200-1713042000@nemzetilovasszinhaz.hu
SUMMARY:Csárdáskirálynő 2024.04.13. 18:00
DESCRIPTION:Titkokkal teli játék az Orfeumban\, ahol mindenkinek van veszítenivalója\, de mindenkire boldog vég vár. \nEdvin herceg rajong Szilviáért\, a Pesti Orfeum csillagáért\, de arisztokrata családja ellenzi a rangon aluli kapcsolatot. Edvin szülei mindent elkövetnek\, hogy viszszacsalják fiukat Bécsbe\, hogy ott eljegyezze unokahúgát Stázi grófnőt. A cselekményt a kedves\, bolondos Bóni gróf és Feri bácsi\, az orfeum törzsvendégei bonyolítják. A végén persze mindenki boldog lesz szíve választottjával. \nA világhírű dallamok\, mint a “Te rongyos élet”\, “Hajmási Péter”\, “Emlékszel még”\, valamint eredeti humora tette ezt az operettet a Nemzeti Lovas Színház egyik legnépszerűbb produkciójává is.
URL:https://nemzetilovasszinhaz.hu/esemeny/csardaskiralyno-2024-04-13-1800/
LOCATION:Kincsem Park\, Albertirsai út 2-4.\, Budapest\, 1101\, Magyarország
CATEGORIES:jegyeladás
ATTACH;FMTTYPE=image/jpeg:https://nemzetilovasszinhaz.hu/wp-content/uploads/2023/11/csardaskiralyno-20242.jpg
END:VEVENT
BEGIN:VEVENT
DTSTART;TZID=UTC:20240426T190000
DTEND;TZID=UTC:20240426T220000
DTSTAMP:20260422T170233
CREATED:20231119T102446Z
LAST-MODIFIED:20231119T102446Z
UID:5845-1714158000-1714168800@nemzetilovasszinhaz.hu
SUMMARY:Hófehérke 2024.04.26. 19:00
DESCRIPTION:A világhírű Grimm-mese életre kel musical formájban\, a nagy Hollywood-i sikerprodukciók mintáját követve. Az erdőbe menekülő\, csodaszép hercegnőt a hét törpe veszi pártfogásába\, de előkerül a gonosz mostoha varázstükre\, a mérgezett alma\, az üvegkoprsó és persze a szőke herceg is.
URL:https://nemzetilovasszinhaz.hu/esemeny/hofeherke-2024-04-26-1900/
LOCATION:Kincsem Park\, Albertirsai út 2-4.\, Budapest\, 1101\, Magyarország
CATEGORIES:jegyeladás
ATTACH;FMTTYPE=image/jpeg:https://nemzetilovasszinhaz.hu/wp-content/uploads/2023/11/hofeherke-04.26.jpg
END:VEVENT
BEGIN:VEVENT
DTSTART;TZID=UTC:20240427T110000
DTEND;TZID=UTC:20240427T140000
DTSTAMP:20260422T170233
CREATED:20231119T102703Z
LAST-MODIFIED:20231119T102703Z
UID:5848-1714215600-1714226400@nemzetilovasszinhaz.hu
SUMMARY:Hófehérke 2024.04.27. 11:00
DESCRIPTION:A világhírű Grimm-mese életre kel musical formájban\, a nagy Hollywood-i sikerprodukciók mintáját követve. Az erdőbe menekülő\, csodaszép hercegnőt a hét törpe veszi pártfogásába\, de előkerül a gonosz mostoha varázstükre\, a mérgezett alma\, az üvegkoprsó és persze a szőke herceg is.
URL:https://nemzetilovasszinhaz.hu/esemeny/hofeherke-2024-04-27-1100/
LOCATION:Kincsem Park\, Albertirsai út 2-4.\, Budapest\, 1101\, Magyarország
CATEGORIES:jegyeladás
ATTACH;FMTTYPE=image/jpeg:https://nemzetilovasszinhaz.hu/wp-content/uploads/2023/11/hofeherke-scaled.jpg
END:VEVENT
BEGIN:VEVENT
DTSTART;TZID=UTC:20240427T180000
DTEND;TZID=UTC:20240427T210000
DTSTAMP:20260422T170233
CREATED:20231119T102908Z
LAST-MODIFIED:20231119T102908Z
UID:5851-1714240800-1714251600@nemzetilovasszinhaz.hu
SUMMARY:Hófehérke 2024.04.27. 18:00
DESCRIPTION:A világhírű Grimm-mese életre kel musical formájban\, a nagy Hollywood-i sikerprodukciók mintáját követve. Az erdőbe menekülő\, csodaszép hercegnőt a hét törpe veszi pártfogásába\, de előkerül a gonosz mostoha varázstükre\, a mérgezett alma\, az üvegkoprsó és persze a szőke herceg is.
URL:https://nemzetilovasszinhaz.hu/esemeny/hofeherke-2024-04-27-1800/
LOCATION:Kincsem Park\, Albertirsai út 2-4.\, Budapest\, 1101\, Magyarország
CATEGORIES:jegyeladás
ATTACH;FMTTYPE=image/jpeg:https://nemzetilovasszinhaz.hu/wp-content/uploads/2023/11/hofeherke2-scaled.jpg
END:VEVENT
END:VCALENDAR