BEGIN:VCALENDAR
VERSION:2.0
PRODID:-//Nemzeti Lovas Színház - ECPv6.14.2//NONSGML v1.0//EN
CALSCALE:GREGORIAN
METHOD:PUBLISH
X-ORIGINAL-URL:https://nemzetilovasszinhaz.hu
X-WR-CALDESC:Események Nemzeti Lovas Színház
REFRESH-INTERVAL;VALUE=DURATION:PT1H
X-Robots-Tag:noindex
X-PUBLISHED-TTL:PT1H
BEGIN:VTIMEZONE
TZID:UTC
BEGIN:STANDARD
TZOFFSETFROM:+0000
TZOFFSETTO:+0000
TZNAME:UTC
DTSTART:20240101T000000
END:STANDARD
END:VTIMEZONE
BEGIN:VEVENT
DTSTART;TZID=UTC:20240510T190000
DTEND;TZID=UTC:20240510T220000
DTSTAMP:20260422T154349
CREATED:20231119T103213Z
LAST-MODIFIED:20231119T103213Z
UID:5854-1715367600-1715378400@nemzetilovasszinhaz.hu
SUMMARY:Szilaj 2 Zabolátlan 2024.05.10. 19:00
DESCRIPTION:A Nemzeti Lovas Színház történetében először folytatást kap egy családi musicalünk! A legsikeresebb darabunk\, a Szilaj visszatér! A Zabolátlanban újra láthatjuk Kenait\, a lovaival szabadon szárnyaló indián fiút\, a jó útra tért kapitányt\, aki a világ első Suttogója lesz. De megtudhatjátok\, hogy mi lesz Jenna valamint Töltőtoll és Golyóstoll sorsa és még egy kiscsikó is születik.
URL:https://nemzetilovasszinhaz.hu/esemeny/szilaj-2-zabolatlan-2024-05-10-1900/
LOCATION:Kincsem Park\, Albertirsai út 2-4.\, Budapest\, 1101\, Magyarország
CATEGORIES:jegyeladás
ATTACH;FMTTYPE=image/jpeg:https://nemzetilovasszinhaz.hu/wp-content/uploads/2023/11/szilaj2-kincsem-2024-05.10.jpg
END:VEVENT
BEGIN:VEVENT
DTSTART;TZID=UTC:20240511T110000
DTEND;TZID=UTC:20240511T140000
DTSTAMP:20260422T154349
CREATED:20231119T103407Z
LAST-MODIFIED:20231119T103407Z
UID:5857-1715425200-1715436000@nemzetilovasszinhaz.hu
SUMMARY:Szilaj 2 Zabolátlan 2024.05.11. 11:00
DESCRIPTION:A Nemzeti Lovas Színház történetében először folytatást kap egy családi musicalünk! A legsikeresebb darabunk\, a Szilaj visszatér! A Zabolátlanban újra láthatjuk Kenait\, a lovaival szabadon szárnyaló indián fiút\, a jó útra tért kapitányt\, aki a világ első Suttogója lesz. De megtudhatjátok\, hogy mi lesz Jenna valamint Töltőtoll és Golyóstoll sorsa és még egy kiscsikó is születik.
URL:https://nemzetilovasszinhaz.hu/esemeny/szilaj-2-zabolatlan-2024-05-11-1100/
LOCATION:Kincsem Park\, Albertirsai út 2-4.\, Budapest\, 1101\, Magyarország
CATEGORIES:jegyeladás
ATTACH;FMTTYPE=image/jpeg:https://nemzetilovasszinhaz.hu/wp-content/uploads/2023/11/szilaj2-kincsem-2024-scaled.jpg
END:VEVENT
BEGIN:VEVENT
DTSTART;TZID=UTC:20240511T180000
DTEND;TZID=UTC:20240511T210000
DTSTAMP:20260422T154349
CREATED:20231119T103601Z
LAST-MODIFIED:20231119T103601Z
UID:5860-1715450400-1715461200@nemzetilovasszinhaz.hu
SUMMARY:Szilaj 2 Zabolátlan 2024.05.11. 18:00
DESCRIPTION:A Nemzeti Lovas Színház történetében először folytatást kap egy családi musicalünk! A legsikeresebb darabunk\, a Szilaj visszatér! A Zabolátlanban újra láthatjuk Kenait\, a lovaival szabadon szárnyaló indián fiút\, a jó útra tért kapitányt\, aki a világ első Suttogója lesz. De megtudhatjátok\, hogy mi lesz Jenna valamint Töltőtoll és Golyóstoll sorsa és még egy kiscsikó is születik.
URL:https://nemzetilovasszinhaz.hu/esemeny/szilaj-2-zabolatlan-2024-05-11-1800/
LOCATION:Kincsem Park\, Albertirsai út 2-4.\, Budapest\, 1101\, Magyarország
CATEGORIES:jegyeladás
ATTACH;FMTTYPE=image/jpeg:https://nemzetilovasszinhaz.hu/wp-content/uploads/2023/11/szilaj2-kincsem-20242-scaled.jpg
END:VEVENT
BEGIN:VEVENT
DTSTART;TZID=UTC:20240524T190000
DTEND;TZID=UTC:20240524T220000
DTSTAMP:20260422T154349
CREATED:20231119T103754Z
LAST-MODIFIED:20231119T103754Z
UID:5863-1716577200-1716588000@nemzetilovasszinhaz.hu
SUMMARY:Szilaj 2 Zabolátlan 2024.05.24. 19:00
DESCRIPTION:A Nemzeti Lovas Színház történetében először folytatást kap egy családi musicalünk! A legsikeresebb darabunk\, a Szilaj visszatér! A Zabolátlanban újra láthatjuk Kenait\, a lovaival szabadon szárnyaló indián fiút\, a jó útra tért kapitányt\, aki a világ első Suttogója lesz. De megtudhatjátok\, hogy mi lesz Jenna valamint Töltőtoll és Golyóstoll sorsa és még egy kiscsikó is születik.
URL:https://nemzetilovasszinhaz.hu/esemeny/szilaj-2-zabolatlan-2024-05-24-1900/
LOCATION:Kincsem Park\, Albertirsai út 2-4.\, Budapest\, 1101\, Magyarország
CATEGORIES:jegyeladás
ATTACH;FMTTYPE=image/jpeg:https://nemzetilovasszinhaz.hu/wp-content/uploads/2023/11/szilaj2-kincsem-2024-05.24.jpg
END:VEVENT
BEGIN:VEVENT
DTSTART;TZID=UTC:20240525T110000
DTEND;TZID=UTC:20240525T140000
DTSTAMP:20260422T154349
CREATED:20231119T103947Z
LAST-MODIFIED:20231119T103947Z
UID:5866-1716634800-1716645600@nemzetilovasszinhaz.hu
SUMMARY:Szilaj 2 Zabolátlan 2024.05.25. 11:00
DESCRIPTION:A Nemzeti Lovas Színház történetében először folytatást kap egy családi musicalünk! A legsikeresebb darabunk\, a Szilaj visszatér! A Zabolátlanban újra láthatjuk Kenait\, a lovaival szabadon szárnyaló indián fiút\, a jó útra tért kapitányt\, aki a világ első Suttogója lesz. De megtudhatjátok\, hogy mi lesz Jenna valamint Töltőtoll és Golyóstoll sorsa és még egy kiscsikó is születik.
URL:https://nemzetilovasszinhaz.hu/esemeny/szilaj-2-zabolatlan-2024-05-25-1100/
LOCATION:Kincsem Park\, Albertirsai út 2-4.\, Budapest\, 1101\, Magyarország
CATEGORIES:jegyeladás
ATTACH;FMTTYPE=image/jpeg:https://nemzetilovasszinhaz.hu/wp-content/uploads/2023/11/szilaj2-kincsem-20244-scaled.jpg
END:VEVENT
BEGIN:VEVENT
DTSTART;TZID=UTC:20240525T180000
DTEND;TZID=UTC:20240525T210000
DTSTAMP:20260422T154349
CREATED:20231119T104127Z
LAST-MODIFIED:20231119T104127Z
UID:5869-1716660000-1716670800@nemzetilovasszinhaz.hu
SUMMARY:Szilaj 2 Zabolátlan 2024.05.25. 18:00
DESCRIPTION:A Nemzeti Lovas Színház történetében először folytatást kap egy családi musicalünk! A legsikeresebb darabunk\, a Szilaj visszatér! A Zabolátlanban újra láthatjuk Kenait\, a lovaival szabadon szárnyaló indián fiút\, a jó útra tért kapitányt\, aki a világ első Suttogója lesz. De megtudhatjátok\, hogy mi lesz Jenna valamint Töltőtoll és Golyóstoll sorsa és még egy kiscsikó is születik.
URL:https://nemzetilovasszinhaz.hu/esemeny/szilaj-2-zabolatlan-2024-05-25-1800/
LOCATION:Kincsem Park\, Albertirsai út 2-4.\, Budapest\, 1101\, Magyarország
CATEGORIES:jegyeladás
ATTACH;FMTTYPE=image/jpeg:https://nemzetilovasszinhaz.hu/wp-content/uploads/2023/11/szilaj2-kincsem-20245-scaled.jpg
END:VEVENT
END:VCALENDAR