BEGIN:VCALENDAR
VERSION:2.0
PRODID:-//Nemzeti Lovas Színház - ECPv6.14.2//NONSGML v1.0//EN
CALSCALE:GREGORIAN
METHOD:PUBLISH
X-ORIGINAL-URL:https://nemzetilovasszinhaz.hu
X-WR-CALDESC:Események Nemzeti Lovas Színház
REFRESH-INTERVAL;VALUE=DURATION:PT1H
X-Robots-Tag:noindex
X-PUBLISHED-TTL:PT1H
BEGIN:VTIMEZONE
TZID:UTC
BEGIN:STANDARD
TZOFFSETFROM:+0000
TZOFFSETTO:+0000
TZNAME:UTC
DTSTART:20240101T000000
END:STANDARD
END:VTIMEZONE
BEGIN:VEVENT
DTSTART;TZID=UTC:20240705T200000
DTEND;TZID=UTC:20240705T220000
DTSTAMP:20260422T123157
CREATED:20240418T151138Z
LAST-MODIFIED:20240418T151214Z
UID:5992-1720209600-1720216800@nemzetilovasszinhaz.hu
SUMMARY:Szilaj - Balatonalmádi
DESCRIPTION:Szilaj\, a betörhetetlen vadló kalandjairól mesél a Nemzeti Lovas Színház legújabb családi musical-e.  A történet a messzi Vadnyugatra kalauzol\, ahol dúl a háború a lovasság és az indiánok között. Soha nem lehet béke a két világ találkozásakor\, ám Szilaj varázslatos lényével mégis hidat épít ember és ember között. Világpremiert jelent\, hogy először lesz látható együtt a klasszikus stílus és szabad idomítás művészete a lovas színházak történetében. A darab végén Szilaj teljesíti a lehetetlennel felérő küldetését: megmenti szülőföldjét\, ám ehhez hihetetlen bátorságra és elszántságra lesz szüksége. \n 
URL:https://nemzetilovasszinhaz.hu/esemeny/szilaj-balatonalmadi/
LOCATION:Balatonalmádi\, Véghely Dezső u. 18.\, Balatonalmádi\, Magyarország
CATEGORIES:jegyeladás
ATTACH;FMTTYPE=image/jpeg:https://nemzetilovasszinhaz.hu/wp-content/uploads/2024/04/szilaj-BSE-1-scaled.jpg
END:VEVENT
BEGIN:VEVENT
DTSTART;TZID=UTC:20240706T200000
DTEND;TZID=UTC:20240706T220000
DTSTAMP:20260422T123157
CREATED:20240418T151408Z
LAST-MODIFIED:20240418T151408Z
UID:5997-1720296000-1720303200@nemzetilovasszinhaz.hu
SUMMARY:Aladdin - Balatonalmádi
DESCRIPTION:A mesés keletet idéző történetben megelevenedik Aladdin\, az ifjú\, aki rátalálva egy varázsgyűrűre\, majd egy különleges lámpásra\, annak megdörzsölésével egy dzsinnt idéz meg\, aki minden kívánságát teljesíti. A fordulatokban gazdag musicalben a jó és rossz harca\, a hihetetlen varázslatok és a misztikus keleti világ csodái váltakoznak\, melyet a Nemzeti Lovas Színház művészei tesznek igazán fordulatokban gazdaggá.
URL:https://nemzetilovasszinhaz.hu/esemeny/aladdin-balatonalmadi/
LOCATION:Balatonalmádi\, Véghely Dezső u. 18.\, Balatonalmádi\, Magyarország
CATEGORIES:jegyeladás
ATTACH;FMTTYPE=image/jpeg:https://nemzetilovasszinhaz.hu/wp-content/uploads/2024/04/aladdin-almadi-1-scaled.jpg
END:VEVENT
BEGIN:VEVENT
DTSTART;TZID=UTC:20240711T203000
DTEND;TZID=UTC:20240711T230000
DTSTAMP:20260422T123157
CREATED:20240221T083030Z
LAST-MODIFIED:20240221T083030Z
UID:5917-1720729800-1720738800@nemzetilovasszinhaz.hu
SUMMARY:A SZABADSÁG VÁNDORAI - Mórahalom
DESCRIPTION:Új magyar musical Demján Ferenc dalaival. Szívet melengető dallamok\, vérpezsdítő ritmusok\, fájdalmak és örömök között bontakozik ki\, egy megnyerő játék a színházról\, egy társulat alapításáról. Új magyar musical születik\, nagyszerű énekesek és színészek közreműködésével. A Kossuth díjas Demjén Ferenc dalai izgalmas emberi sorsok\, humoros és drámai elemek sokasága között\, a hitről\, a kitartás fontosságáról mesélnek. Külön öröm\, hogy Pintér Tibor által vezetett Sziget Színház és Nemzeti Lovas Színház alkotó csapatához csatlakozott a darab szerkezeti felépítéséből is fontos részt vállaló szintén Kossuth díjas Kerényi Miklós Gábor rendező\, valamint Demjén Ferenc alkotótársa Menyhárt János.
URL:https://nemzetilovasszinhaz.hu/esemeny/a-szabadsag-vandorai-morahalom/
LOCATION:Mórahalom – Patkó Lovas Színház\, Patkó Lovas Színház\, Mórahalom\, Csongrád\, Magyarország
ATTACH;FMTTYPE=image/png:https://nemzetilovasszinhaz.hu/wp-content/uploads/2024/02/Szabadsag-vandorai-2.png
END:VEVENT
BEGIN:VEVENT
DTSTART;TZID=UTC:20240712T203000
DTEND;TZID=UTC:20240712T230000
DTSTAMP:20260422T123157
CREATED:20240221T082646Z
LAST-MODIFIED:20240221T082646Z
UID:5914-1720816200-1720825200@nemzetilovasszinhaz.hu
SUMMARY:CSÁRDÁSKIRÁLYNŐ - Mórahalom
DESCRIPTION:A világhírű dallamok\, mint a „Te rongyos élet”\, “Hajmási Péter”\, „Emlékszel még”\, valamint eredeti humora tette ezt az operettet lovas színházunk legnépszerűbb produkciójává is. A cselekményt a kedves\, bolondos Boni gróf és Feri bácsi\, az orfeum törzsvendégei bonyolítják.\nA többi már történelem… \nPontosabban lovas történelem\, hiszen a Nemzeti Lovas Színház előadásában Kálmán Imre hallhatatlan operettje különleges látványvilággal párosul.\nA kort megidéző színházi képek és a lovas attrakciók lendülete\, valamint az operett zenéjének hármasa egy hihetetlen látványt varázsol a nézők elé.
URL:https://nemzetilovasszinhaz.hu/esemeny/csardaskiralyno-morahalom-3/
LOCATION:Mórahalom – Patkó Lovas Színház\, Patkó Lovas Színház\, Mórahalom\, Csongrád\, Magyarország
ATTACH;FMTTYPE=image/png:https://nemzetilovasszinhaz.hu/wp-content/uploads/2024/02/csardas.png
END:VEVENT
BEGIN:VEVENT
DTSTART;TZID=UTC:20240713T200000
DTEND;TZID=UTC:20240713T230000
DTSTAMP:20260422T123157
CREATED:20240507T083121Z
LAST-MODIFIED:20240507T083121Z
UID:6016-1720900800-1720911600@nemzetilovasszinhaz.hu
SUMMARY:Mátyás\, az igazságos - Bikal
DESCRIPTION:Mátyás királyt Magyarország legnépszerűbb királyaként emlegetik\, akinek talán történelmünk során először sikerült úgy felvirágoztatni hazánkat\, hogy azt európai mércével mérve is elismerték. A darab Kinizsi Pál és Mátyás király barátságán keresztül\, a fiatalok számára is közérthetően\, a róla szóló legendás mesék elemeiből táplálkozva\, rendkívül látványos módon mutatja be a történelmi eseményeket.
URL:https://nemzetilovasszinhaz.hu/esemeny/matyas-az-igazsagos-bikal/
LOCATION:Bikal\, Bikal\, Magyarország
ATTACH;FMTTYPE=image/jpeg:https://nemzetilovasszinhaz.hu/wp-content/uploads/2024/05/297-x-420-bikal-20243.jpg
END:VEVENT
BEGIN:VEVENT
DTSTART;TZID=UTC:20240718T203000
DTEND;TZID=UTC:20240718T230000
DTSTAMP:20260422T123157
CREATED:20240221T083301Z
LAST-MODIFIED:20240221T083301Z
UID:5920-1721334600-1721343600@nemzetilovasszinhaz.hu
SUMMARY:RÓZSA SÁNDOR\, A BETYÁR - Mórahalom
DESCRIPTION:A betyárok világát egyféle romantika övezi\, s mivel a mindenki által gyűlölt hatalom üldözte őket\, némi rokonszenvet is ébresztettek. Legnagyobb hírnévre az alföldi\, Szeged környéki Rózsa Sándor tett szert közülük. A darab a legendás betyárvilág korából meríti történetét\, cselekménye izgalmas\, szerelmi szálakkal tarkított kalandok sora. Az útonálló\, fosztogató szegénylegények már a Rákóczi-szabadságharc után megjelentek\, de csak a 19. század elején növekedett a számuk. A betyárok a földnélküli zsellérekből és a kegyetlen katonafogdosás elől\, vagy éppen a katonai szolgálatból menekülő legényekből\, csavargókból verbuválódtak. A darab kiváló jellemábrázolással fordulatos módon mutatja meg Rózsa Sándor\, a betyár személyiségének átalakulását. Drámai feszültségekkel\, hármas szerelmi kalanddal\, időnként humorral jelenik meg a betyár alakja. A látványos lovas jelenetek\, szekérrablások csak fokozzák a hangulatot. Rózsa Sándor szinte egy mítikus figura az Alföldön\, azt beszélik\, hogy sokat segített a szegényeken és innen vonult be\, állt a szabadságharc mellé. A magyar csikós világot\, ostorcsapásokkal\, fokosokkal\, lovas jelenetekkel mutatjuk be.
URL:https://nemzetilovasszinhaz.hu/esemeny/rozsa-sandor-a-betyar-morahalom/
LOCATION:Mórahalom – Patkó Lovas Színház\, Patkó Lovas Színház\, Mórahalom\, Csongrád\, Magyarország
ATTACH;FMTTYPE=image/png:https://nemzetilovasszinhaz.hu/wp-content/uploads/2024/02/Rozsa-Sandor.png
END:VEVENT
BEGIN:VEVENT
DTSTART;TZID=UTC:20240719T203000
DTEND;TZID=UTC:20240719T230000
DTSTAMP:20260422T123157
CREATED:20240221T083546Z
LAST-MODIFIED:20240221T083546Z
UID:5923-1721421000-1721430000@nemzetilovasszinhaz.hu
SUMMARY:MÁGNÁS MISKA - Mórahalom
DESCRIPTION:Miska\, a talpraesett lovászfiú pillanatok alatt s szemünk láttára válik előkelő arisztokratává.\nTenyeres-talpas párjából\, Marcsából pedig estélyi ruhás dáma lesz\, aki Mary grófnőként vonul be az úri társaságba.\nMindez azért történik\, mert a rátarti család hallani sem akar arról\, hogy Baracs\, az egyszerű tiszttartó lányukat\, Rolla grófnőt vegye feleségül.\nÓriási szerencse\, hogy a kleptomániás nagymama nem törődve efféle előítéletekkel\, a fiatalok mellé áll\, s így az operett felhőtlenül juthat el a vidám fináléig.
URL:https://nemzetilovasszinhaz.hu/esemeny/magnas-miska-morahalom-2/
LOCATION:Mórahalom – Patkó Lovas Színház\, Patkó Lovas Színház\, Mórahalom\, Csongrád\, Magyarország
ATTACH;FMTTYPE=image/png:https://nemzetilovasszinhaz.hu/wp-content/uploads/2024/02/Magnas-Miska.png
END:VEVENT
BEGIN:VEVENT
DTSTART;TZID=UTC:20240720T200000
DTEND;TZID=UTC:20240720T230000
DTSTAMP:20260422T123157
CREATED:20240507T083314Z
LAST-MODIFIED:20240507T083314Z
UID:6019-1721505600-1721516400@nemzetilovasszinhaz.hu
SUMMARY:Mátyás\, az igazságos - Bikal
DESCRIPTION:Mátyás királyt Magyarország legnépszerűbb királyaként emlegetik\, akinek talán történelmünk során először sikerült úgy felvirágoztatni hazánkat\, hogy azt európai mércével mérve is elismerték. A darab Kinizsi Pál és Mátyás király barátságán keresztül\, a fiatalok számára is közérthetően\, a róla szóló legendás mesék elemeiből táplálkozva\, rendkívül látványos módon mutatja be a történelmi eseményeket.
URL:https://nemzetilovasszinhaz.hu/esemeny/matyas-az-igazsagos-bikal-2/
LOCATION:Bikal\, Bikal\, Magyarország
ATTACH;FMTTYPE=image/jpeg:https://nemzetilovasszinhaz.hu/wp-content/uploads/2024/05/297-x-420-bikal-20243.jpg
END:VEVENT
BEGIN:VEVENT
DTSTART;TZID=UTC:20240721T200000
DTEND;TZID=UTC:20240721T230000
DTSTAMP:20260422T123157
CREATED:20240507T084515Z
LAST-MODIFIED:20240721T121618Z
UID:6030-1721592000-1721602800@nemzetilovasszinhaz.hu
SUMMARY:SZILAJ 2 - Sümeg
DESCRIPTION:A Nemzeti Lovas Színház történetében először folytatást kap egy családi musicalünk! A legsikeresebb darabunk\, a Szilaj visszatér! A Zabolátlanban újra láthatjuk Kenait\, a lovaival szabadon szárnyaló indián fiút\, a jó útra tért kapitányt\, aki a világ első Suttogója lesz. De megtudhatjátok\, hogy mi lesz Jenna valamint Töltőtoll és Golyóstoll sorsa és még egy kiscsikó is születik.
URL:https://nemzetilovasszinhaz.hu/esemeny/szilaj-2-sumeg/
LOCATION:Sümeg
ATTACH;FMTTYPE=image/jpeg:https://nemzetilovasszinhaz.hu/wp-content/uploads/2023/05/DSC_7706-scaled.jpg
END:VEVENT
BEGIN:VEVENT
DTSTART;TZID=UTC:20240725T203000
DTEND;TZID=UTC:20240725T230000
DTSTAMP:20260422T123157
CREATED:20240221T083852Z
LAST-MODIFIED:20240221T083908Z
UID:5926-1721939400-1721948400@nemzetilovasszinhaz.hu
SUMMARY:KINCSEM - Mórahalom
DESCRIPTION:A Kincsem önálló színházi élményként is maradandó: tele van drámával\, tragikus sorsokkal\, remek jellemábrázolásokkal\, miközben látványos showként is tökéletesen működik.\nA csodakanca élete és a kora\, amelyben a sikereit halmozta csak alapjául szolgál a drámai alaphelyzetnek: egy apa fiatalon elveszti a gyermekét.\nNem tudja elfogadni az elfogadhatatlant: az ő gyötrődéseit\, vívódásait helyezi előtérbe a darab\, gyakran álomszerű\, spirituális utalásokkal.\nMégsem lesz giccses\, tömjénes az előadás: a karakterek lélegeznek\, éreznek\, kínlódnak és felemelkednek.
URL:https://nemzetilovasszinhaz.hu/esemeny/kincsem-11/
LOCATION:Mórahalom – Patkó Lovas Színház\, Patkó Lovas Színház\, Mórahalom\, Csongrád\, Magyarország
ATTACH;FMTTYPE=image/png:https://nemzetilovasszinhaz.hu/wp-content/uploads/2024/02/Kincsem.png
END:VEVENT
BEGIN:VEVENT
DTSTART;TZID=UTC:20240726T203000
DTEND;TZID=UTC:20240726T230000
DTSTAMP:20260422T123157
CREATED:20240221T154808Z
LAST-MODIFIED:20240221T154808Z
UID:5932-1722025800-1722034800@nemzetilovasszinhaz.hu
SUMMARY:MARICA GRÓFNŐ - Mórahalom
DESCRIPTION:Az operettirodalom egyik legsikeresebb alkotása\, Kálmán Imre legnépszerűbb operettje\, a Marica grófnő mindig ünnep egy színház és a közönség számára.\nEgy klasszikus nagyoperett minden kötelező kelléke jelen lesz – lóháton táncra pördülő\, remek hangú színészekkel.\nÖrök klasszikus melódiák és egy szórakoztató történet\, ez jellemzi leginkább a Marica Grófnő operettet\, s ha mindehhez hozzáadjuk a Nemzeti Lovas Színház művészeinek szemkápráztató mutatványait\, a látványos koreográfiákat és a soha véget nem érő dinamikus forgatagi hangulatot\, biztosak lehetünk benne\, hogy egy kiváló estének lehetünk szemtanúi.\nAz operett világa a lovas színház sajátja\, hiszen a korszak\, melyet megidéz\, s a benne rejlő báj\, a soha el nem múló eleganciával párosulva\, egy örök mámort varázsol a nézők el\, mely élmény minduntalan ugyanazt a korhű romantikát idézi meg\, mely a magyar színjátszás elmúlt száz esztendejében mindig visszatérő lelkesedéssel jelenik meg.
URL:https://nemzetilovasszinhaz.hu/esemeny/marica-grofno-morahalom-2/
LOCATION:Mórahalom – Patkó Lovas Színház\, Patkó Lovas Színház\, Mórahalom\, Csongrád\, Magyarország
ATTACH;FMTTYPE=image/png:https://nemzetilovasszinhaz.hu/wp-content/uploads/2024/02/Marica-Grofno.png
END:VEVENT
BEGIN:VEVENT
DTSTART;TZID=UTC:20240727T200000
DTEND;TZID=UTC:20240727T230000
DTSTAMP:20260422T123157
CREATED:20240507T083626Z
LAST-MODIFIED:20240507T083626Z
UID:6023-1722110400-1722121200@nemzetilovasszinhaz.hu
SUMMARY:Honfoglalás - Bikal
DESCRIPTION:„A szállj\, szállj sólyom szárnyán” című dal szerzői és Pintér Tibor a darab rendezője\, gondoskodnak arról\, hogy az előadás egy feledhetetlen élmény legyen a nézőknek\, akik ellátogatnak előadásunkra! A Honfoglalás című magyar rockopera feltárja magyar honfoglalással kapcsolatos legújabb történelmi információkat\, üzenve a mai fiataloknak és a Kárpát-medencében élő összes magyarnak\, hogy alaposabban megismerkedhessenek a magyarok valódi történelmével. A produkció a legigényesebb zenei és prózai adaptáción keresztül látványos jelenetekkel\, minőségi szereposztással mutatja be a 7 vezér hazatérését. \n 
URL:https://nemzetilovasszinhaz.hu/esemeny/honfoglalas-bikal/
LOCATION:Bikal\, Bikal\, Magyarország
ATTACH;FMTTYPE=image/jpeg:https://nemzetilovasszinhaz.hu/wp-content/uploads/2024/05/297-x-420-bikal-20242.jpg
END:VEVENT
END:VCALENDAR