BEGIN:VCALENDAR
VERSION:2.0
PRODID:-//Nemzeti Lovas Színház - ECPv6.14.2//NONSGML v1.0//EN
CALSCALE:GREGORIAN
METHOD:PUBLISH
X-WR-CALNAME:Nemzeti Lovas Színház
X-ORIGINAL-URL:https://nemzetilovasszinhaz.hu
X-WR-CALDESC:Események Nemzeti Lovas Színház
REFRESH-INTERVAL;VALUE=DURATION:PT1H
X-Robots-Tag:noindex
X-PUBLISHED-TTL:PT1H
BEGIN:VTIMEZONE
TZID:UTC
BEGIN:STANDARD
TZOFFSETFROM:+0000
TZOFFSETTO:+0000
TZNAME:UTC
DTSTART:20160101T000000
END:STANDARD
END:VTIMEZONE
BEGIN:VEVENT
DTSTART;TZID=UTC:20160926T190000
DTEND;TZID=UTC:20160926T210000
DTSTAMP:20260423T214433
CREATED:20160922T081740Z
LAST-MODIFIED:20160922T081740Z
UID:1507-1474916400-1474923600@nemzetilovasszinhaz.hu
SUMMARY:hatvani esőnap
DESCRIPTION:
URL:https://nemzetilovasszinhaz.hu/esemeny/hatvani-esonap/
LOCATION:Hatvan
END:VEVENT
BEGIN:VEVENT
DTSTART;TZID=UTC:20160927T190000
DTEND;TZID=UTC:20160929T210000
DTSTAMP:20260423T214433
CREATED:20160922T081848Z
LAST-MODIFIED:20160922T090309Z
UID:1511-1475002800-1475182800@nemzetilovasszinhaz.hu
SUMMARY:Elfújta a szél
DESCRIPTION:
URL:https://nemzetilovasszinhaz.hu/esemeny/elfujta-a-szel/
LOCATION:Budapesti Operett Színház
END:VEVENT
BEGIN:VEVENT
DTSTART;TZID=UTC:20160930T190000
DTEND;TZID=UTC:20160930T210000
DTSTAMP:20260423T214433
CREATED:20160922T090446Z
LAST-MODIFIED:20160922T090446Z
UID:1515-1475262000-1475269200@nemzetilovasszinhaz.hu
SUMMARY:Bohém Évek
DESCRIPTION:
URL:https://nemzetilovasszinhaz.hu/esemeny/bohem-evek/
LOCATION:Szigetszentmiklós\, VK
END:VEVENT
BEGIN:VEVENT
DTSTART;TZID=UTC:20161014T190000
DTEND;TZID=UTC:20161014T210000
DTSTAMP:20260423T214433
CREATED:20161011T185154Z
LAST-MODIFIED:20161011T185154Z
UID:1572-1476471600-1476478800@nemzetilovasszinhaz.hu
SUMMARY:Padlás
DESCRIPTION:2 felvonásos musical.
URL:https://nemzetilovasszinhaz.hu/esemeny/padlas/
LOCATION:Városi Könyvtár és Közösségi Ház\, Tököli út 19.\, Szigetszentmiklós\, 2310\, Magyarország
END:VEVENT
BEGIN:VEVENT
DTSTART;TZID=UTC:20161016T110000
DTEND;TZID=UTC:20161016T120000
DTSTAMP:20260423T214433
CREATED:20161011T185530Z
LAST-MODIFIED:20161011T185530Z
UID:1576-1476615600-1476619200@nemzetilovasszinhaz.hu
SUMMARY:Lovas Akadémia pótfelvételi
DESCRIPTION:[button style=”big filled arrow-right” icon=”” title=”Tovább a felvételi oldalhoz!” url=”http://nemzetilovasszinhaz.hu/nemzeti-lovas-szinhaz-akademia/”]
URL:https://nemzetilovasszinhaz.hu/esemeny/lovas-akademia-potfelveteli/
LOCATION:Kincsem Park\, Albertirsai út 2-4.\, Budapest\, 1101\, Magyarország
END:VEVENT
BEGIN:VEVENT
DTSTART;TZID=UTC:20161017T190000
DTEND;TZID=UTC:20161017T210000
DTSTAMP:20260423T214433
CREATED:20161016T101758Z
LAST-MODIFIED:20161016T101758Z
UID:1600-1476730800-1476738000@nemzetilovasszinhaz.hu
SUMMARY:HAIR - Környe Művelődési Ház
DESCRIPTION:2 felvonásos musical
URL:https://nemzetilovasszinhaz.hu/esemeny/hair-kornye-muvelodesi-haz/
LOCATION:Környe Művelődési Ház\, Alkotmány u. 1.\, Környe\, 2851\, Magyarország
ATTACH;FMTTYPE=image/jpeg:https://nemzetilovasszinhaz.hu/wp-content/uploads/2016/10/SzigSzin_kat_2016-2017.compressed-page-016.jpg
END:VEVENT
BEGIN:VEVENT
DTSTART;TZID=UTC:20161027T140000
DTEND;TZID=UTC:20161027T160000
DTSTAMP:20260423T214433
CREATED:20161012T211246Z
LAST-MODIFIED:20161012T211246Z
UID:1581-1477576800-1477584000@nemzetilovasszinhaz.hu
SUMMARY:Honfoglalás
DESCRIPTION:
URL:https://nemzetilovasszinhaz.hu/esemeny/honfoglalas/
LOCATION:Balaton Kongresszusi Központ és Színház\, Fő tér 3.\, Keszthely\, 8360\, Magyarország
END:VEVENT
BEGIN:VEVENT
DTSTART;TZID=UTC:20161027T180000
DTEND;TZID=UTC:20161027T180000
DTSTAMP:20260423T214433
CREATED:20161020T132508Z
LAST-MODIFIED:20161020T132508Z
UID:1651-1477591200-1477591200@nemzetilovasszinhaz.hu
SUMMARY:HONFOGLALÁS - Balaton Színház
DESCRIPTION:
URL:https://nemzetilovasszinhaz.hu/esemeny/honfoglalas-balaton-szinhaz/
LOCATION:Balaton Színház\, Fő tér 3.\, Keszthely\, Magyarország
ATTACH;FMTTYPE=image/jpeg:https://nemzetilovasszinhaz.hu/wp-content/uploads/2016/10/honfoglalas-balaton-szinhaz.jpg
END:VEVENT
BEGIN:VEVENT
DTSTART;TZID=UTC:20161027T180000
DTEND;TZID=UTC:20161027T200000
DTSTAMP:20260423T214433
CREATED:20161012T211415Z
LAST-MODIFIED:20161012T211415Z
UID:1585-1477591200-1477598400@nemzetilovasszinhaz.hu
SUMMARY:Honfoglalás
DESCRIPTION:
URL:https://nemzetilovasszinhaz.hu/esemeny/honfoglalas-2/
LOCATION:Balaton Kongresszusi Központ és Színház\, Fő tér 3.\, Keszthely\, 8360\, Magyarország
END:VEVENT
BEGIN:VEVENT
DTSTART;TZID=UTC:20161028T193000
DTEND;TZID=UTC:20161030T220000
DTSTAMP:20260423T214433
CREATED:20160905T151626Z
LAST-MODIFIED:20161025T120239Z
UID:1460-1477683000-1477864800@nemzetilovasszinhaz.hu
SUMMARY:Hungalórum - Kincsem park
DESCRIPTION:Hungalórum \nKincsem Park \n1101 Budapest\, Albertirsai út 2-4. \nA Nemzeti Lovas Színház októberben avatja fel az új játszóhelyét\, a 600 férőhelyes\, télen- \nnyáron előadásokra alkalmas rendezvénysátrát Budapesten\, a Kincsem Parkban! \nSzínházunk küldetése\, hogy a világszerte egyedülálló színházi műfajjal visszarepítse a ma \nemberét abba a csodálatos világba\, ahol az ember egyedüli igaz barátja a ló. \nCélunk\, hogy fiataljainknak új hősöket\, új példaképeket állítsunk\, akiket az új generáció \nméltón követhet! \nA Hungalórum című produkciónk egy igazi hungarikum\, mivel előadásunk nem csak \nhazánkban\, hanem egész Európában és világszerte is egyedülálló. Világhírű\, népszerű\, főként \nmagyar operettek\, musicalek és rock musicalek elevenednek meg lóhátról. Az est folyamán \nnemcsak kiváló énekes lovas színészeink kapnak helyet a porondon\, kaszkadőreink parádés \nlovas elemekkel színesítik az előadást\, így emelve hidat a színház- és a cirkuszművészet \nközött. A huszárok\, a betyárok\, a magyar nemzeti lobogó\, a szívünkre ható nemzeti érzelmek \nés a gyönyörű lovak mellett a Nemzeti Lovas Színház művészei sok más meglepetéssel is \nvárják a közönséget. \nA produkcióban felcsendülnek részletek a Csárdáskirálynő\, a Mágnás Miska\, a Marica grófnő \ncímű magyar operettekből\, az István a király\, a Honfoglalás című magyar\, valamint a világ \nlegnépszerűbb Az Operaház fantomja\, a Rómeó és Júlia és a Don Quijote című közismert \nrock musicalekből is. \nA 2×1 órás egy 20 perces szünettel megtartott estén a Nemzeti Lovas Színház tehetséges \nművészei varázsolják el Önöket a színház világába. \n&quot;Hisszük\, hogy mi magyarok lovas nemzetként is elismert és megbecsült nép lehetünk nem \ncsak Európában\, hanem az egész világon.&quot; (Pintér Tibor) \nElőadásaink: \n2016. október 28. péntek 19.30 \n2016. október 29. szombat 19.30 \n2016. október 30. vasárnap 18.00 \nA 2 féle jegytípus (5500/ 6500 forint) a www.jegy.hu weboldalon illetve a színház \nközönségszervezőjénél Miskovits Katinál a 30/422 3851-es telefonszámon vásárolható meg. \nA parkolás és ingyenes. \n[button style=”big filled arrow-right” icon=”” title=”Kattints ide és vedd meg a jegyed a Jegy.hu rendszerében” url=”https://www.jegy.hu/program/hungalorum-72521″] \n„Hisszük\, hogy mi magyarok lovas nemzetként is elismert és megbecsült nép lehetünk nem csak Európában\, hanem az egész világon.” (Pintér Tibor)
URL:https://nemzetilovasszinhaz.hu/esemeny/hungalorum-kincsem-park/
LOCATION:Kincsem Park\, Albertirsai út 2-4.\, Budapest\, 1101\, Magyarország
ATTACH;FMTTYPE=image/jpeg:https://nemzetilovasszinhaz.hu/wp-content/uploads/2016/09/image1-1-e1710355161312.jpg
END:VEVENT
BEGIN:VEVENT
DTSTART;TZID=UTC:20161112T110000
DTEND;TZID=UTC:20161112T130000
DTSTAMP:20260423T214433
CREATED:20161016T101135Z
LAST-MODIFIED:20161016T101154Z
UID:1593-1478948400-1478955600@nemzetilovasszinhaz.hu
SUMMARY:Lúdas Matyi - Puchner Élménybirtok
DESCRIPTION:2 felvonásos népi rockopera
URL:https://nemzetilovasszinhaz.hu/esemeny/ludas-matyi-puchner-elmenybirtok/
LOCATION:Puchner Élménybirtok\, Rákóczi u. 22.\, Bikal\, 7346\, Magyarország
END:VEVENT
BEGIN:VEVENT
DTSTART;TZID=UTC:20161113T180000
DTEND;TZID=UTC:20161113T200000
DTSTAMP:20260423T214433
CREATED:20161016T101328Z
LAST-MODIFIED:20161016T101328Z
UID:1598-1479060000-1479067200@nemzetilovasszinhaz.hu
SUMMARY:Mágnás Miska
DESCRIPTION:2 felvonásos operett – átirat
URL:https://nemzetilovasszinhaz.hu/esemeny/magnas-miska/
LOCATION:Városi Könyvtár és Közösségi Ház\, Tököli út 19.\, Szigetszentmiklós\, 2310\, Magyarország
END:VEVENT
BEGIN:VEVENT
DTSTART;TZID=UTC:20161118T193000
DTEND;TZID=UTC:20161118T213000
DTSTAMP:20260423T214433
CREATED:20161016T101921Z
LAST-MODIFIED:20161104T150017Z
UID:1605-1479497400-1479504600@nemzetilovasszinhaz.hu
SUMMARY:Lovas Honfoglalás - Kincsem Park
DESCRIPTION:A Honfoglalás című magyar rockopera feltárja magyar honfoglalással kapcsolatos legújabb történelmi információkat\, üzenve a mai fiataloknak és a Kárpát-medencében élő összes magyarnak\, hogy alaposabban megismerkedhessenek a magyarok valódi történelmével. A produkció a legigényesebb zenei és prózai adaptáción keresztül látványos jelenetekkel\, minőségi szereposztással mutatja be a 7 vezér hazatérését. \n„A szállj\, szállj sólyom szárnyán” című dal szerzői és Pintér Tibor\, a darab rendezője\, gondoskodnak arról\, hogy az előadás egy feledhetetlen élmény legyen a nézőknek\, akik ellátogatnak előadásunkra! \nZeneszerzők: Szűts István és Koltay Gergely \nRendező: Pintér Tibor \nKoreográfus: Nádasdy András és Patuzzi Mónika \nDíszlet és látvány: Domján Gábor \nTechnikai vezető: Csukay Zoltán \n[button style=”big arrow-right” icon=”” title=”MEGVÁSÁROLOM A JEGYEM A JEGY.HU RENDSZERÉBEN!” url=”https://www.jegy.hu/program/honfoglalas-73922″]
URL:https://nemzetilovasszinhaz.hu/esemeny/lovas-honfoglalas-kincsem-park/
LOCATION:Kincsem Park\, Albertirsai út 2-4.\, Budapest\, 1101\, Magyarország
END:VEVENT
BEGIN:VEVENT
DTSTART;TZID=UTC:20161119T193000
DTEND;TZID=UTC:20161119T213000
DTSTAMP:20260423T214433
CREATED:20161016T102100Z
LAST-MODIFIED:20161104T150156Z
UID:1607-1479583800-1479591000@nemzetilovasszinhaz.hu
SUMMARY:Lovas Honfoglalás - Kincsem Park
DESCRIPTION:A Honfoglalás című magyar rockopera feltárja magyar honfoglalással kapcsolatos legújabb történelmi információkat\, üzenve a mai fiataloknak és a Kárpát-medencében élő összes magyarnak\, hogy alaposabban megismerkedhessenek a magyarok valódi történelmével. A produkció a legigényesebb zenei és prózai adaptáción keresztül látványos jelenetekkel\, minőségi szereposztással mutatja be a 7 vezér hazatérését. \n„A szállj\, szállj sólyom szárnyán” című dal szerzői és Pintér Tibor\, a darab rendezője\, gondoskodnak arról\, hogy az előadás egy feledhetetlen élmény legyen a nézőknek\, akik ellátogatnak előadásunkra! \nZeneszerzők: Szűts István és Koltay Gergely \nRendező: Pintér Tibor \nKoreográfus: Nádasdy András és Patuzzi Mónika \nDíszlet és látvány: Domján Gábor \nTechnikai vezető: Csukay Zoltán \n[button style=”big arrow-right” icon=”” title=”MEGVÁSÁROLOM A JEGYEM A JEGY.HU RENDSZERÉBEN!” url=”https://www.jegy.hu/program/honfoglalas-73922″]
URL:https://nemzetilovasszinhaz.hu/esemeny/lovas-honfoglalas-kincsem-park-2/
LOCATION:Kincsem Park\, Albertirsai út 2-4.\, Budapest\, 1101\, Magyarország
END:VEVENT
BEGIN:VEVENT
DTSTART;TZID=UTC:20161120T180000
DTEND;TZID=UTC:20161120T200000
DTSTAMP:20260423T214433
CREATED:20161016T102141Z
LAST-MODIFIED:20161104T150133Z
UID:1609-1479664800-1479672000@nemzetilovasszinhaz.hu
SUMMARY:Lovas Honfoglalás - Kincsem Park
DESCRIPTION:A Honfoglalás című magyar rockopera feltárja magyar honfoglalással kapcsolatos legújabb történelmi információkat\, üzenve a mai fiataloknak és a Kárpát-medencében élő összes magyarnak\, hogy alaposabban megismerkedhessenek a magyarok valódi történelmével. A produkció a legigényesebb zenei és prózai adaptáción keresztül látványos jelenetekkel\, minőségi szereposztással mutatja be a 7 vezér hazatérését. \n„A szállj\, szállj sólyom szárnyán” című dal szerzői és Pintér Tibor\, a darab rendezője\, gondoskodnak arról\, hogy az előadás egy feledhetetlen élmény legyen a nézőknek\, akik ellátogatnak előadásunkra! \nZeneszerzők: Szűts István és Koltay Gergely \nRendező: Pintér Tibor \nKoreográfus: Nádasdy András és Patuzzi Mónika \nDíszlet és látvány: Domján Gábor \nTechnikai vezető: Csukay Zoltán \n[button style=”big arrow-right” icon=”” title=”MEGVÁSÁROLOM A JEGYEM A JEGY.HU RENDSZERÉBEN!” url=”https://www.jegy.hu/program/honfoglalas-73922″]
URL:https://nemzetilovasszinhaz.hu/esemeny/lovas-honfoglalas-kincsem-park-3/
LOCATION:Kincsem Park\, Albertirsai út 2-4.\, Budapest\, 1101\, Magyarország
END:VEVENT
BEGIN:VEVENT
DTSTART;TZID=UTC:20161123T190000
DTEND;TZID=UTC:20161123T210000
DTSTAMP:20260423T214433
CREATED:20161016T102428Z
LAST-MODIFIED:20161016T102447Z
UID:1611-1479927600-1479934800@nemzetilovasszinhaz.hu
SUMMARY:EDDA Musical - A KÖR - RAM Colosseum
DESCRIPTION:
URL:https://nemzetilovasszinhaz.hu/esemeny/edda-musical-a-kor/
LOCATION:Ram Colosseum\, Kárpát utca 23.\, Budapest\, 1133\, Magyarország
ATTACH;FMTTYPE=image/jpeg:https://nemzetilovasszinhaz.hu/wp-content/uploads/2016/10/SzigSzin_kat_2016-2017.compressed-page-010.jpg
END:VEVENT
BEGIN:VEVENT
DTSTART;TZID=UTC:20161124T190000
DTEND;TZID=UTC:20161124T210000
DTSTAMP:20260423T214433
CREATED:20161016T102642Z
LAST-MODIFIED:20161016T102642Z
UID:1617-1480014000-1480021200@nemzetilovasszinhaz.hu
SUMMARY:Mátyás\, az igazságos
DESCRIPTION:
URL:https://nemzetilovasszinhaz.hu/esemeny/matyas-az-igazsagos/
LOCATION:Derecske Városi Művelődési Központ és Könyvtár\, Köztársaság u. 107.\, Derecske\, Magyarország
END:VEVENT
BEGIN:VEVENT
DTSTART;TZID=UTC:20161125T190000
DTEND;TZID=UTC:20161125T210000
DTSTAMP:20260423T214433
CREATED:20161016T103419Z
LAST-MODIFIED:20161016T103419Z
UID:1621-1480100400-1480107600@nemzetilovasszinhaz.hu
SUMMARY:Erzsébet-Katalin napi gála
DESCRIPTION:
URL:https://nemzetilovasszinhaz.hu/esemeny/erzsebet-katalin-napi-gala/
LOCATION:József Attila Általános Iskola előadóterem\, Szebeni utca 12505 hrsz.\, Szigetszentmiklós
END:VEVENT
BEGIN:VEVENT
DTSTART;TZID=UTC:20161202T180000
DTEND;TZID=UTC:20161202T190000
DTSTAMP:20260423T214433
CREATED:20161016T103522Z
LAST-MODIFIED:20161113T202121Z
UID:1625-1480701600-1480705200@nemzetilovasszinhaz.hu
SUMMARY:Ludas Matyi
DESCRIPTION:
URL:https://nemzetilovasszinhaz.hu/esemeny/gyerekeloadas/
LOCATION:Városi Könyvtár és Közösségi Ház\, Tököli út 19.\, Szigetszentmiklós\, 2310\, Magyarország
END:VEVENT
BEGIN:VEVENT
DTSTART;TZID=UTC:20161203T200000
DTEND;TZID=UTC:20161203T220000
DTSTAMP:20260423T214433
CREATED:20161016T103719Z
LAST-MODIFIED:20161016T103719Z
UID:1627-1480795200-1480802400@nemzetilovasszinhaz.hu
SUMMARY:EDDA Musical - A KÖR
DESCRIPTION:
URL:https://nemzetilovasszinhaz.hu/esemeny/edda-musical-a-kor-2/
LOCATION:Gál József Sportcsarnok\, Rákóczi út 33.\, Cegléd\, 2700
ATTACH;FMTTYPE=image/jpeg:https://nemzetilovasszinhaz.hu/wp-content/uploads/2016/10/SzigSzin_kat_2016-2017.compressed-page-010.jpg
END:VEVENT
BEGIN:VEVENT
DTSTART;TZID=UTC:20161209T193000
DTEND;TZID=UTC:20161209T213000
DTSTAMP:20260423T214433
CREATED:20161016T103933Z
LAST-MODIFIED:20161016T103933Z
UID:1631-1481311800-1481319000@nemzetilovasszinhaz.hu
SUMMARY:lovas Hófehér és hét törpe - Kincsem park
DESCRIPTION:
URL:https://nemzetilovasszinhaz.hu/esemeny/lovas-hofeher-es-het-torpe-kincsem-park/
LOCATION:Kincsem Park\, Albertirsai út 2-4.\, Budapest\, 1101\, Magyarország
ATTACH;FMTTYPE=image/jpeg:https://nemzetilovasszinhaz.hu/wp-content/uploads/2016/10/SzigSzin_kat_2016-2017.compressed-page-004-e1710355433495.jpg
END:VEVENT
BEGIN:VEVENT
DTSTART;TZID=UTC:20161210T193000
DTEND;TZID=UTC:20161210T213000
DTSTAMP:20260423T214433
CREATED:20161016T104013Z
LAST-MODIFIED:20161016T104013Z
UID:1634-1481398200-1481405400@nemzetilovasszinhaz.hu
SUMMARY:lovas Hófehér és hét törpe - Kincsem park
DESCRIPTION:
URL:https://nemzetilovasszinhaz.hu/esemeny/lovas-hofeher-es-het-torpe-kincsem-park-2/
LOCATION:Kincsem Park\, Albertirsai út 2-4.\, Budapest\, 1101\, Magyarország
ATTACH;FMTTYPE=image/jpeg:https://nemzetilovasszinhaz.hu/wp-content/uploads/2016/10/SzigSzin_kat_2016-2017.compressed-page-004-e1710355433495.jpg
END:VEVENT
BEGIN:VEVENT
DTSTART;TZID=UTC:20161211T163000
DTEND;TZID=UTC:20161211T193000
DTSTAMP:20260423T214433
CREATED:20161016T104119Z
LAST-MODIFIED:20161103T114411Z
UID:1636-1481473800-1481484600@nemzetilovasszinhaz.hu
SUMMARY:lovas Hófehér és hét törpe - Kincsem park
DESCRIPTION:
URL:https://nemzetilovasszinhaz.hu/esemeny/lovas-hofeher-es-het-torpe-kincsem-park-3/
LOCATION:Kincsem Park\, Albertirsai út 2-4.\, Budapest\, 1101\, Magyarország
ATTACH;FMTTYPE=image/jpeg:https://nemzetilovasszinhaz.hu/wp-content/uploads/2016/10/SzigSzin_kat_2016-2017.compressed-page-004-e1710355433495.jpg
END:VEVENT
BEGIN:VEVENT
DTSTART;TZID=UTC:20161229T190000
DTEND;TZID=UTC:20161229T210000
DTSTAMP:20260423T214433
CREATED:20161016T104220Z
LAST-MODIFIED:20161016T104220Z
UID:1638-1483038000-1483045200@nemzetilovasszinhaz.hu
SUMMARY:Előszilveszteri Gála
DESCRIPTION:
URL:https://nemzetilovasszinhaz.hu/esemeny/eloszilveszteri-gala/
LOCATION:Városi Könyvtár és Közösségi Ház\, Tököli út 19.\, Szigetszentmiklós\, 2310\, Magyarország
END:VEVENT
BEGIN:VEVENT
DTSTART;TZID=UTC:20161230T190000
DTEND;TZID=UTC:20161230T210000
DTSTAMP:20260423T214433
CREATED:20161016T104304Z
LAST-MODIFIED:20161016T104304Z
UID:1640-1483124400-1483131600@nemzetilovasszinhaz.hu
SUMMARY:Előszilveszteri Gála
DESCRIPTION:
URL:https://nemzetilovasszinhaz.hu/esemeny/eloszilveszteri-gala-2/
LOCATION:Városi Könyvtár és Közösségi Ház\, Tököli út 19.\, Szigetszentmiklós\, 2310\, Magyarország
END:VEVENT
BEGIN:VEVENT
DTSTART;VALUE=DATE:20161231
DTEND;VALUE=DATE:20170101
DTSTAMP:20260423T214433
CREATED:20161016T104402Z
LAST-MODIFIED:20161016T104402Z
UID:1642-1483142400-1483228799@nemzetilovasszinhaz.hu
SUMMARY:Pintér Tibor és Pápai Kíra
DESCRIPTION:
URL:https://nemzetilovasszinhaz.hu/esemeny/pinter-tibor-es-papai-kira/
LOCATION:SunGarden Wellness és Konferencia Hotel\, Batthyány Lajos u. 24.\, Siófok
END:VEVENT
BEGIN:VEVENT
DTSTART;VALUE=DATE:20161231
DTEND;VALUE=DATE:20170101
DTSTAMP:20260423T214433
CREATED:20161016T104458Z
LAST-MODIFIED:20161016T104458Z
UID:1646-1483142400-1483228799@nemzetilovasszinhaz.hu
SUMMARY:Pintér Tibor és Pápai Kíra
DESCRIPTION:Részletek hamarosan.
URL:https://nemzetilovasszinhaz.hu/esemeny/pinter-tibor-es-papai-kira-2/
LOCATION:Hotel Helikon Keszthely\, Balaton-part 5\, Keszthely
END:VEVENT
BEGIN:VEVENT
DTSTART;TZID=UTC:20170127T190000
DTEND;TZID=UTC:20170127T210000
DTSTAMP:20260423T214433
CREATED:20170110T090149Z
LAST-MODIFIED:20170110T094406Z
UID:1737-1485543600-1485550800@nemzetilovasszinhaz.hu
SUMMARY:János Vitéz
DESCRIPTION:DALJÁTÉK\n\n\n\n\nA János vitéz című családi előadás a paraszt úból huszárrá vált Jancsi mesés kalandjait mutatja be lovas\nüldözésekkel\, nagy harcokkal\, illetve fergeteges látványelemekkel\, különleges zenei virtuozitással\, amelyekkel együtt egyedülálló élményt szeretnénk nyújtani a közönség számára. A szórakozás garantált\, kiváló énekeseink és lovasaink közreműködésével minőségi költészet\, magas színvonalú muzsika és szemet gyönyörködtető látvány várja majd a nézőket. Minden generációnak bátran ajánljuk\, hiszen a veretes huszárruhába öltöztetett János vitéz gurája megdobogtatja az ember szívét\, mert valahol\, mély gyökerekből fakadva a belénk kódolt történelmünk tör a felszínre. \n\n\n\n\n\n\n\n\n\n\n\n\nSzereposztás:\nJános vitéz – Pintér Tibor Iluska – Becz Bernadett Mostoha – Lőrincz Andrea / Papadimitriu Athina Bagó – Buch Tibor / Dancs János Strázsamester – Mohácsi Márk Francia király – Bencze Sándor Francia királylány – Pápai Kíra Csősz – Hábentius György Bartolo – Mohácsi Márk Kisfiú – Biró Bálint/Sipos Balázs Továbbá a Szigetszentmiklósi Sziget Színház musical stúdiósai és táncművészei\, a Nemzeti Lovas Színház lovasai lovasíjász – Katrics Tamás fogathajtó – Borsos Zoltán\nAlkotók:\nÍró – Pető Sándor Zene – Kacsóh Pongrácz Rendező – Pintér Tibor Koreográfus – Bakti Zoltán Díszlet és látvány – Domján Gábor Technikai vezető – Csukay Zoltán
URL:https://nemzetilovasszinhaz.hu/esemeny/janos-vitez/
LOCATION:Kincsem Park\, Albertirsai út 2-4.\, Budapest\, 1101\, Magyarország
ATTACH;FMTTYPE=image/jpeg:https://nemzetilovasszinhaz.hu/wp-content/uploads/2017/01/15732012_1199116880177246_3605804929948996888_o.jpg
END:VEVENT
BEGIN:VEVENT
DTSTART;TZID=UTC:20170128T190000
DTEND;TZID=UTC:20170128T210000
DTSTAMP:20260423T214433
CREATED:20170110T090839Z
LAST-MODIFIED:20170110T094357Z
UID:1740-1485630000-1485637200@nemzetilovasszinhaz.hu
SUMMARY:János vitéz
DESCRIPTION:DALJÁTÉK\n\n\n\n\nA János vitéz című családi előadás a paraszt úból huszárrá vált Jancsi mesés kalandjait mutatja be lovas\nüldözésekkel\, nagy harcokkal\, illetve fergeteges látványelemekkel\, különleges zenei virtuozitással\, amelyekkel együtt egyedülálló élményt szeretnénk nyújtani a közönség számára. A szórakozás garantált\, kiváló énekeseink és lovasaink közreműködésével minőségi költészet\, magas színvonalú muzsika és szemet gyönyörködtető látvány várja majd a nézőket. Minden generációnak bátran ajánljuk\, hiszen a veretes huszárruhába öltöztetett János vitéz gurája megdobogtatja az ember szívét\, mert valahol\, mély gyökerekből fakadva a belénk kódolt történelmünk tör a felszínre. \n\n\n\n\n\n\n\n\n\n\n\n\nSzereposztás:\nJános vitéz – Pintér Tibor Iluska – Becz Bernadett Mostoha – Lőrincz Andrea / Papadimitriu Athina Bagó – Buch Tibor / Dancs János Strázsamester – Mohácsi Márk Francia király – Bencze Sándor Francia királylány – Pápai Kíra Csősz – Hábentius György Bartolo – Mohácsi Márk Kisfiú – Biró Bálint/Sipos Balázs Továbbá a Szigetszentmiklósi Sziget Színház musical stúdiósai és táncművészei\, a Nemzeti Lovas Színház lovasai lovasíjász – Katrics Tamás fogathajtó – Borsos Zoltán\nAlkotók:\nÍró – Pető Sándor Zene – Kacsóh Pongrácz Rendező – Pintér Tibor Koreográfus – Bakti Zoltán Díszlet és látvány – Domján Gábor Technikai vezető – Csukay Zoltán
URL:https://nemzetilovasszinhaz.hu/esemeny/janos-vitez-2/
LOCATION:Kincsem Park\, Albertirsai út 2-4.\, Budapest\, 1101\, Magyarország
ATTACH;FMTTYPE=image/jpeg:https://nemzetilovasszinhaz.hu/wp-content/uploads/2017/01/15732012_1199116880177246_3605804929948996888_o.jpg
END:VEVENT
BEGIN:VEVENT
DTSTART;TZID=UTC:20170129T163000
DTEND;TZID=UTC:20170129T183000
DTSTAMP:20260423T214433
CREATED:20170110T090915Z
LAST-MODIFIED:20170110T094343Z
UID:1742-1485707400-1485714600@nemzetilovasszinhaz.hu
SUMMARY:János vitéz
DESCRIPTION:DALJÁTÉK\n\n\n\n\nA János vitéz című családi előadás a paraszt úból huszárrá vált Jancsi mesés kalandjait mutatja be lovas\nüldözésekkel\, nagy harcokkal\, illetve fergeteges látványelemekkel\, különleges zenei virtuozitással\, amelyekkel együtt egyedülálló élményt szeretnénk nyújtani a közönség számára. A szórakozás garantált\, kiváló énekeseink és lovasaink közreműködésével minőségi költészet\, magas színvonalú muzsika és szemet gyönyörködtető látvány várja majd a nézőket. Minden generációnak bátran ajánljuk\, hiszen a veretes huszárruhába öltöztetett János vitéz gurája megdobogtatja az ember szívét\, mert valahol\, mély gyökerekből fakadva a belénk kódolt történelmünk tör a felszínre. \n\n\n\n\n\n\n\n\n\n\n\n\nSzereposztás: \nJános vitéz – Pintér Tibor Iluska – Becz Bernadett Mostoha – Lőrincz Andrea / Papadimitriu Athina Bagó – Buch Tibor / Dancs János Strázsamester – Mohácsi Márk Francia király – Bencze Sándor Francia királylány – Pápai Kíra Csősz – Hábentius György Bartolo – Mohácsi Márk Kisfiú – Biró Bálint/Sipos Balázs Továbbá a Szigetszentmiklósi Sziget Színház musical stúdiósai és táncművészei\, a Nemzeti Lovas Színház lovasai lovasíjász – Katrics Tamás fogathajtó – Borsos Zoltán \nAlkotók: \nÍró – Pető Sándor Zene – Kacsóh Pongrácz Rendező – Pintér Tibor Koreográfus – Bakti Zoltán Díszlet és látvány – Domján Gábor Technikai vezető – Csukay Zoltán
URL:https://nemzetilovasszinhaz.hu/esemeny/janos-vitez-3/
LOCATION:Kincsem Park\, Albertirsai út 2-4.\, Budapest\, 1101\, Magyarország
ATTACH;FMTTYPE=image/jpeg:https://nemzetilovasszinhaz.hu/wp-content/uploads/2017/01/15732012_1199116880177246_3605804929948996888_o.jpg
END:VEVENT
END:VCALENDAR