BEGIN:VCALENDAR
VERSION:2.0
PRODID:-//Nemzeti Lovas Színház - ECPv6.14.2//NONSGML v1.0//EN
CALSCALE:GREGORIAN
METHOD:PUBLISH
X-WR-CALNAME:Nemzeti Lovas Színház
X-ORIGINAL-URL:https://nemzetilovasszinhaz.hu
X-WR-CALDESC:Események Nemzeti Lovas Színház
REFRESH-INTERVAL;VALUE=DURATION:PT1H
X-Robots-Tag:noindex
X-PUBLISHED-TTL:PT1H
BEGIN:VTIMEZONE
TZID:UTC
BEGIN:STANDARD
TZOFFSETFROM:+0000
TZOFFSETTO:+0000
TZNAME:UTC
DTSTART:20190101T000000
END:STANDARD
END:VTIMEZONE
BEGIN:VTIMEZONE
TZID:UTC
BEGIN:STANDARD
TZOFFSETFROM:+0000
TZOFFSETTO:+0000
TZNAME:UTC
DTSTART:20190101T000000
END:STANDARD
END:VTIMEZONE
BEGIN:VEVENT
DTSTART;TZID=UTC:20190426T190000
DTEND;TZID=UTC:20190426T220000
DTSTAMP:20260422T020048
CREATED:20181126T121838Z
LAST-MODIFIED:20181126T121838Z
UID:3283-1556305200-1556316000@nemzetilovasszinhaz.hu
SUMMARY:Hófehér és a hét törpe
DESCRIPTION:A világhírű Grimm-mese életre kel musical formájában\, kicsit új köntöst kapva a nagy Hollywood-i sikerprodukciók mintáját követve. Részesei lehetünk egy mesés történetnek\, ahol a jó méltán nyeri el a boldog befejezést\, a lélek tisztasága és a belső értékek győzedelmeskednek.
URL:https://nemzetilovasszinhaz.hu/esemeny/hofeher-es-a-het-torpe-2/
LOCATION:Kincsem Park\, Albertirsai út 2-4.\, Budapest\, 1101\, Magyarország
ATTACH;FMTTYPE=image/jpeg:https://nemzetilovasszinhaz.hu/wp-content/uploads/2018/11/hófehér.jpg
END:VEVENT
BEGIN:VEVENT
DTSTART;TZID=UTC:20190510T190000
DTEND;TZID=UTC:20190510T220000
DTSTAMP:20260422T020048
CREATED:20181126T122441Z
LAST-MODIFIED:20181126T122551Z
UID:3287-1557514800-1557525600@nemzetilovasszinhaz.hu
SUMMARY:Kincsem
DESCRIPTION:Ki ne hallott volna a “csodakancáról”\, aki minden versenyét megnyerte\, és veretlenül vonult vissza. Az 1800-as évek vége felé járunk\, egy elbukott szabadságharc után Magyarországon\, ahol még mindig puskaporos a hangulat. A szerelem\, ármány és bosszú mind megtalálható ebben a darabban\, amit fantasztikus\, mindenki számára ismerős dalokkal írtak meg\, hogy megismerje Kincsem történetét és korát.
URL:https://nemzetilovasszinhaz.hu/esemeny/kincsem-2/
LOCATION:Kincsem Park\, Albertirsai út 2-4.\, Budapest\, 1101\, Magyarország
ATTACH;FMTTYPE=image/jpeg:https://nemzetilovasszinhaz.hu/wp-content/uploads/2018/11/DSC_0164-1.jpg
END:VEVENT
BEGIN:VEVENT
DTSTART;TZID=UTC:20190511T190000
DTEND;TZID=UTC:20190511T220000
DTSTAMP:20260422T020048
CREATED:20181126T122441Z
LAST-MODIFIED:20181126T122615Z
UID:3290-1557601200-1557612000@nemzetilovasszinhaz.hu
SUMMARY:Kincsem
DESCRIPTION:Ki ne hallott volna a “csodakancáról”\, aki minden versenyét megnyerte\, és veretlenül vonult vissza. Az 1800-as évek vége felé járunk\, egy elbukott szabadságharc után Magyarországon\, ahol még mindig puskaporos a hangulat. A szerelem\, ármány és bosszú mind megtalálható ebben a darabban\, amit fantasztikus\, mindenki számára ismerős dalokkal írtak meg\, hogy megismerje Kincsem történetét és korát.
URL:https://nemzetilovasszinhaz.hu/esemeny/kincsem-2-2019-05-11/
LOCATION:Kincsem Park\, Albertirsai út 2-4.\, Budapest\, 1101\, Magyarország
ATTACH;FMTTYPE=image/jpeg:https://nemzetilovasszinhaz.hu/wp-content/uploads/2018/11/DSC_0164-1.jpg
END:VEVENT
BEGIN:VEVENT
DTSTART;TZID=UTC:20190512T190000
DTEND;TZID=UTC:20190512T220000
DTSTAMP:20260422T020048
CREATED:20181126T122441Z
LAST-MODIFIED:20181126T122647Z
UID:3291-1557687600-1557698400@nemzetilovasszinhaz.hu
SUMMARY:Kincsem
DESCRIPTION:Ki ne hallott volna a “csodakancáról”\, aki minden versenyét megnyerte\, és veretlenül vonult vissza. Az 1800-as évek vége felé járunk\, egy elbukott szabadságharc után Magyarországon\, ahol még mindig puskaporos a hangulat. A szerelem\, ármány és bosszú mind megtalálható ebben a darabban\, amit fantasztikus\, mindenki számára ismerős dalokkal írtak meg\, hogy megismerje Kincsem történetét és korát.
URL:https://nemzetilovasszinhaz.hu/esemeny/kincsem-2-2019-05-12/
LOCATION:Kincsem Park\, Albertirsai út 2-4.\, Budapest\, 1101\, Magyarország
ATTACH;FMTTYPE=image/jpeg:https://nemzetilovasszinhaz.hu/wp-content/uploads/2018/11/DSC_0164-1.jpg
END:VEVENT
BEGIN:VEVENT
DTSTART;TZID=UTC:20190524T190000
DTEND;TZID=UTC:20190524T220000
DTSTAMP:20260422T020048
CREATED:20181126T123005Z
LAST-MODIFIED:20181126T123104Z
UID:3294-1558724400-1558735200@nemzetilovasszinhaz.hu
SUMMARY:Leányvásár
DESCRIPTION:A történet egy San Francisco környéki népszokásra épül: azt a lányt\, aki mindenkit kikosaraz\, csúfságból a falu utolsó legényéhez adják feleségül. Ez a hagyomány a kiinduló pontja a Leányvásár című operett cselekményének. A helység képviselője\, a milliomos Harrison leányával\, Lucyvel megérkezik az ünnepségre. A rátarti lány természetesen mindenkit kikosaraz. Ezért hozzák azt a döntést a helybeliek\, hogy férjhez kell mennie a környék csavargójához\, Tom Migleshez. Persze Tom Migles nem valóságos csavargó; családját valaha épp Harrison tette tönkre\, méghozzá a tőzsdén. Ez a fordulat Tomnak alkalmat ad arra\, hogy a csavargó álarcában bosszút álljon.
URL:https://nemzetilovasszinhaz.hu/esemeny/leanyvasar-2019-05-24/
LOCATION:Kincsem Park\, Albertirsai út 2-4.\, Budapest\, 1101\, Magyarország
ATTACH;FMTTYPE=image/jpeg:https://nemzetilovasszinhaz.hu/wp-content/uploads/2018/11/DSC_0028.jpg
END:VEVENT
BEGIN:VEVENT
DTSTART;TZID=UTC:20190525T190000
DTEND;TZID=UTC:20190525T220000
DTSTAMP:20260422T020049
CREATED:20181126T123005Z
LAST-MODIFIED:20181126T123143Z
UID:3297-1558810800-1558821600@nemzetilovasszinhaz.hu
SUMMARY:Leányvásár
DESCRIPTION:A történet egy San Francisco környéki népszokásra épül: azt a lányt\, aki mindenkit kikosaraz\, csúfságból a falu utolsó legényéhez adják feleségül. Ez a hagyomány a kiinduló pontja a Leányvásár című operett cselekményének. A helység képviselője\, a milliomos Harrison leányával\, Lucyvel megérkezik az ünnepségre. A rátarti lány természetesen mindenkit kikosaraz. Ezért hozzák azt a döntést a helybeliek\, hogy férjhez kell mennie a környék csavargójához\, Tom Migleshez. Persze Tom Migles nem valóságos csavargó; családját valaha épp Harrison tette tönkre\, méghozzá a tőzsdén. Ez a fordulat Tomnak alkalmat ad arra\, hogy a csavargó álarcában bosszút álljon.
URL:https://nemzetilovasszinhaz.hu/esemeny/leanyvasar-2019-05-25/
LOCATION:Kincsem Park\, Albertirsai út 2-4.\, Budapest\, 1101\, Magyarország
ATTACH;FMTTYPE=image/jpeg:https://nemzetilovasszinhaz.hu/wp-content/uploads/2018/11/DSC_0028.jpg
END:VEVENT
BEGIN:VEVENT
DTSTART;TZID=UTC:20190608T190000
DTEND;TZID=UTC:20190608T210000
DTSTAMP:20260422T020049
CREATED:20190531T074357Z
LAST-MODIFIED:20190531T074357Z
UID:3385-1560020400-1560027600@nemzetilovasszinhaz.hu
SUMMARY:Honfoglalás - Kiskunhalas
DESCRIPTION:„A szállj\, szállj sólyom szárnyán” című dal szerzői és Pintér Tibor a darab rendezője\, gondoskodnak arról\, hogy az előadás egy feledhetetlen élmény legyen a nézőknek\, akik ellátogatnak előadásunkra! \n \nA Honfoglalás című magyar rockopera feltárja magyar honfoglalással kapcsolatos legújabb történelmi információkat\, üzenve a mai fiataloknak és a Kárpát-medencében élő összes magyarnak\, hogy alaposabban megismerkedhessenek a magyarok valódi történelmével. A produkció a legigényesebb zenei és prózai adaptáción keresztül látványos jelenetekkel\, minőségi szereposztással mutatja be a 7 vezér hazatérését.
URL:https://nemzetilovasszinhaz.hu/esemeny/honfoglalas-kiskunhalas/
LOCATION:Kiskunhalas
ATTACH;FMTTYPE=image/jpeg:https://nemzetilovasszinhaz.hu/wp-content/uploads/2017/11/honfoglalás.jpg
END:VEVENT
BEGIN:VEVENT
DTSTART;TZID=UTC:20190609T200000
DTEND;TZID=UTC:20190609T220000
DTSTAMP:20260422T020049
CREATED:20190531T075047Z
LAST-MODIFIED:20190531T075047Z
UID:3391-1560110400-1560117600@nemzetilovasszinhaz.hu
SUMMARY:Csárdáskirálynő - Szilvásvárad
DESCRIPTION:A világhírű dallamok\, mint a „Te rongyos élet”\, „Hajmási Péter”\, „Emlékszel még”\, valamint eredeti humora tette ezt az operettet színházunk legnépszerűbb produkciójává is. A cselekményt a kedves\, bolondos Bóni gróf és Feri bácsi\, az orfeum törzsvendégei bonyolítják.
URL:https://nemzetilovasszinhaz.hu/esemeny/csardaskiralyno-szilvasvarad/
LOCATION:Szilvásvárad\, Szilvásvárad\, Magyarország
ATTACH;FMTTYPE=image/jpeg:https://nemzetilovasszinhaz.hu/wp-content/uploads/2017/08/DSC_0318.jpg
END:VEVENT
BEGIN:VEVENT
DTSTART;TZID=UTC:20190615T193000
DTEND;TZID=UTC:20190615T213000
DTSTAMP:20260422T020049
CREATED:20190531T075345Z
LAST-MODIFIED:20190531T075345Z
UID:3393-1560627000-1560634200@nemzetilovasszinhaz.hu
SUMMARY:Kincsem - Érd-Simonpuszta
DESCRIPTION:Ki ne hallott volna a “csodakancáról”\, aki minden versenyét megnyerte\, és veretlenül vonult vissza. Az 1800-as évek vége felé járunk\, egy elbukott szabadságharc után Magyarországon\, ahol még mindig puskaporos a hangulat. A szerelem\, ármány és bosszú mind megtalálható ebben a darabban\, amit fantasztikus\, mindenki számára ismerős dalokkal írtak meg\, hogy megismerje Kincsem történetét és korát.
URL:https://nemzetilovasszinhaz.hu/esemeny/kincsem-erd-simonpuszta/
LOCATION:Érd-Simonpuszta
ATTACH;FMTTYPE=image/jpeg:https://nemzetilovasszinhaz.hu/wp-content/uploads/2018/11/DSC_0164-1.jpg
END:VEVENT
BEGIN:VEVENT
DTSTART;TZID=UTC:20190623T200000
DTEND;TZID=UTC:20190623T220000
DTSTAMP:20260422T020049
CREATED:20190531T081946Z
LAST-MODIFIED:20190531T082009Z
UID:3410-1561320000-1561327200@nemzetilovasszinhaz.hu
SUMMARY:János vitéz - Bugac
DESCRIPTION:Igazi tündérmese csodákkal\, próbatételekkel\, amelyben az árva juhász\, Tündérország királyává válik.
URL:https://nemzetilovasszinhaz.hu/esemeny/janos-vitez-bugac/
LOCATION:Bugac
ATTACH;FMTTYPE=image/jpeg:https://nemzetilovasszinhaz.hu/wp-content/uploads/2017/11/jánosvitéz.jpg
END:VEVENT
BEGIN:VEVENT
DTSTART;TZID=UTC:20190629T210000
DTEND;TZID=UTC:20190629T230000
DTSTAMP:20260422T020049
CREATED:20190531T075600Z
LAST-MODIFIED:20190531T075650Z
UID:3396-1561842000-1561849200@nemzetilovasszinhaz.hu
SUMMARY:Kincsem - Sepsiszentgyörgy
DESCRIPTION:Ki ne hallott volna a “csodakancáról”\, aki minden versenyét megnyerte\, és veretlenül vonult vissza. Az 1800-as évek vége felé járunk\, egy elbukott szabadságharc után Magyarországon\, ahol még mindig puskaporos a hangulat. A szerelem\, ármány és bosszú mind megtalálható ebben a darabban\, amit fantasztikus\, mindenki számára ismerős dalokkal írtak meg\, hogy megismerje Kincsem történetét és korát.
URL:https://nemzetilovasszinhaz.hu/esemeny/kincsem-sepsiszentgyorgy/
LOCATION:Sepsiszentgyörgy
ATTACH;FMTTYPE=image/jpeg:https://nemzetilovasszinhaz.hu/wp-content/uploads/2018/11/DSC_0164-1.jpg
END:VEVENT
BEGIN:VEVENT
DTSTART;TZID=UTC:20190705T200000
DTEND;TZID=UTC:20190705T220000
DTSTAMP:20260422T020049
CREATED:20190531T074704Z
LAST-MODIFIED:20190531T074704Z
UID:3388-1562356800-1562364000@nemzetilovasszinhaz.hu
SUMMARY:Honfoglalás - Vámospércs
DESCRIPTION:„A szállj\, szállj sólyom szárnyán” című dal szerzői és Pintér Tibor a darab rendezője\, gondoskodnak arról\, hogy az előadás egy feledhetetlen élmény legyen a nézőknek\, akik ellátogatnak előadásunkra! \n \nA Honfoglalás című magyar rockopera feltárja magyar honfoglalással kapcsolatos legújabb történelmi információkat\, üzenve a mai fiataloknak és a Kárpát-medencében élő összes magyarnak\, hogy alaposabban megismerkedhessenek a magyarok valódi történelmével. A produkció a legigényesebb zenei és prózai adaptáción keresztül látványos jelenetekkel\, minőségi szereposztással mutatja be a 7 vezér hazatérését.
URL:https://nemzetilovasszinhaz.hu/esemeny/honfoglalas-vamospercs/
LOCATION:Vámospércs
ATTACH;FMTTYPE=image/jpeg:https://nemzetilovasszinhaz.hu/wp-content/uploads/2017/11/honfoglalás.jpg
END:VEVENT
BEGIN:VEVENT
DTSTART;TZID=UTC:20190706T200000
DTEND;TZID=UTC:20190706T220000
DTSTAMP:20260422T020049
CREATED:20190531T080238Z
LAST-MODIFIED:20190531T080238Z
UID:3400-1562443200-1562450400@nemzetilovasszinhaz.hu
SUMMARY:Kincsem - Bikal
DESCRIPTION:Ki ne hallott volna a “csodakancáról”\, aki minden versenyét megnyerte\, és veretlenül vonult vissza. Az 1800-as évek vége felé járunk\, egy elbukott szabadságharc után Magyarországon\, ahol még mindig puskaporos a hangulat. A szerelem\, ármány és bosszú mind megtalálható ebben a darabban\, amit fantasztikus\, mindenki számára ismerős dalokkal írtak meg\, hogy megismerje Kincsem történetét és korát.
URL:https://nemzetilovasszinhaz.hu/esemeny/kincsem-bikal/
LOCATION:Bikal\, Bikal\, Magyarország
ATTACH;FMTTYPE=image/jpeg:https://nemzetilovasszinhaz.hu/wp-content/uploads/2018/11/DSC_0164-1.jpg
END:VEVENT
BEGIN:VEVENT
DTSTART;TZID=UTC:20190713T200000
DTEND;TZID=UTC:20190713T220000
DTSTAMP:20260422T020049
CREATED:20190531T080819Z
LAST-MODIFIED:20190531T080819Z
UID:3402-1563048000-1563055200@nemzetilovasszinhaz.hu
SUMMARY:Kincsem - Bikal
DESCRIPTION:Ki ne hallott volna a “csodakancáról”\, aki minden versenyét megnyerte\, és veretlenül vonult vissza. Az 1800-as évek vége felé járunk\, egy elbukott szabadságharc után Magyarországon\, ahol még mindig puskaporos a hangulat. A szerelem\, ármány és bosszú mind megtalálható ebben a darabban\, amit fantasztikus\, mindenki számára ismerős dalokkal írtak meg\, hogy megismerje Kincsem történetét és korát.
URL:https://nemzetilovasszinhaz.hu/esemeny/kincsem-bikal-2/
LOCATION:Bikal\, Bikal\, Magyarország
ATTACH;FMTTYPE=image/jpeg:https://nemzetilovasszinhaz.hu/wp-content/uploads/2018/11/DSC_0164-1.jpg
END:VEVENT
BEGIN:VEVENT
DTSTART;TZID=UTC:20190719T203000
DTEND;TZID=UTC:20190719T230000
DTSTAMP:20260422T020049
CREATED:20190327T114004Z
LAST-MODIFIED:20190327T114004Z
UID:3328-1563568200-1563577200@nemzetilovasszinhaz.hu
SUMMARY:Kincsem
DESCRIPTION:Ki ne hallott volna a “csodakancáról”\, aki minden versenyét megnyerte\, és veretlenül vonult vissza. Az 1800-as évek vége felé járunk\, egy elbukott szabadságharc után Magyarországon\, ahol még mindig puskaporos a hangulat. A szerelem\, ármány és bosszú mind megtalálható ebben a darabban\, amit fantasztikus\, mindenki számára ismerős dalokkal írtak meg\, hogy megismerje Kincsem történetét és korát.
URL:https://nemzetilovasszinhaz.hu/esemeny/kincsem-3/
LOCATION:Mórahalom – Patkó Lovas Színház\, Patkó Lovas Színház\, Mórahalom\, Csongrád\, Magyarország
ATTACH;FMTTYPE=image/jpeg:https://nemzetilovasszinhaz.hu/wp-content/uploads/2018/08/kincsemlead2.jpg
END:VEVENT
BEGIN:VEVENT
DTSTART;TZID=UTC:20190720T203000
DTEND;TZID=UTC:20190720T230000
DTSTAMP:20260422T020049
CREATED:20190327T114456Z
LAST-MODIFIED:20190327T114456Z
UID:3330-1563654600-1563663600@nemzetilovasszinhaz.hu
SUMMARY:Csárdáskirálynő
DESCRIPTION:A világhírű dallamok\, mint a „Te rongyos élet”\, „Hajmási Péter”\, „Emlékszel még”\, valamint eredeti humora tette ezt az operettet színházunk legnépszerűbb produkciójává is. A cselekményt a kedves\, bolondos Bóni gróf és Feri bácsi\, az orfeum törzsvendégei bonyolítják.
URL:https://nemzetilovasszinhaz.hu/esemeny/csardaskiralyno-3/
LOCATION:Mórahalom – Patkó Lovas Színház\, Patkó Lovas Színház\, Mórahalom\, Csongrád\, Magyarország
ATTACH;FMTTYPE=image/jpeg:https://nemzetilovasszinhaz.hu/wp-content/uploads/2017/08/DSC_0318.jpg
END:VEVENT
BEGIN:VEVENT
DTSTART;TZID=UTC:20190727T200000
DTEND;TZID=UTC:20190727T220000
DTSTAMP:20260422T020049
CREATED:20190531T080948Z
LAST-MODIFIED:20190531T080948Z
UID:3404-1564257600-1564264800@nemzetilovasszinhaz.hu
SUMMARY:Kincsem - Bikal
DESCRIPTION:Ki ne hallott volna a “csodakancáról”\, aki minden versenyét megnyerte\, és veretlenül vonult vissza. Az 1800-as évek vége felé járunk\, egy elbukott szabadságharc után Magyarországon\, ahol még mindig puskaporos a hangulat. A szerelem\, ármány és bosszú mind megtalálható ebben a darabban\, amit fantasztikus\, mindenki számára ismerős dalokkal írtak meg\, hogy megismerje Kincsem történetét és korát.
URL:https://nemzetilovasszinhaz.hu/esemeny/kincsem-bikal-3/
LOCATION:Bikal\, Bikal\, Magyarország
ATTACH;FMTTYPE=image/jpeg:https://nemzetilovasszinhaz.hu/wp-content/uploads/2018/11/DSC_0164-1.jpg
END:VEVENT
BEGIN:VEVENT
DTSTART;TZID=UTC:20190728T203000
DTEND;TZID=UTC:20190728T230000
DTSTAMP:20260422T020049
CREATED:20190327T114805Z
LAST-MODIFIED:20190327T114805Z
UID:3332-1564345800-1564354800@nemzetilovasszinhaz.hu
SUMMARY:Mágnás Miska
DESCRIPTION:Miska\, a talpraesett lovászfiú pillanatok alatt s szemünk láttára válik előkelő arisztokratává. Tenyeres-talpas párjából\, Marcsából pedig estélyi ruhás dáma lesz\, aki Mary grófnőként vonul be az úri társaságba.
URL:https://nemzetilovasszinhaz.hu/esemeny/magnas-miska-2/
LOCATION:Mórahalom – Patkó Lovas Színház\, Patkó Lovas Színház\, Mórahalom\, Csongrád\, Magyarország
ATTACH;FMTTYPE=image/jpeg:https://nemzetilovasszinhaz.hu/wp-content/uploads/2019/03/mágnás.jpg
END:VEVENT
BEGIN:VEVENT
DTSTART;TZID=UTC:20190802T203000
DTEND;TZID=UTC:20190802T230000
DTSTAMP:20260422T020049
CREATED:20190327T115047Z
LAST-MODIFIED:20190327T115129Z
UID:3335-1564777800-1564786800@nemzetilovasszinhaz.hu
SUMMARY:Rózsa Sándor\, az alföldi betyár
DESCRIPTION:A darab kiváló jellemábrázolással fordulatos módon mutatja meg Rózsa Sándor\, a betyár személyiségének átalakulását. Drámai feszültségekkel\, hármas szerelmi kalanddal\, időnként humorral jelenik meg a betyár alakja. A látványos lovas jelenetek\, szekérrablások csak fokozzák a hangulatot.
URL:https://nemzetilovasszinhaz.hu/esemeny/rozsa-sandor-az-alfoldi-betyar/
LOCATION:Mórahalom – Patkó Lovas Színház\, Patkó Lovas Színház\, Mórahalom\, Csongrád\, Magyarország
ATTACH;FMTTYPE=image/jpeg:https://nemzetilovasszinhaz.hu/wp-content/uploads/2018/08/rózsa1.jpg
END:VEVENT
BEGIN:VEVENT
DTSTART;TZID=UTC:20190803T200000
DTEND;TZID=UTC:20190803T220000
DTSTAMP:20260422T020049
CREATED:20190531T081121Z
LAST-MODIFIED:20190531T081121Z
UID:3406-1564862400-1564869600@nemzetilovasszinhaz.hu
SUMMARY:Kincsem - Bikal
DESCRIPTION:Ki ne hallott volna a “csodakancáról”\, aki minden versenyét megnyerte\, és veretlenül vonult vissza. Az 1800-as évek vége felé járunk\, egy elbukott szabadságharc után Magyarországon\, ahol még mindig puskaporos a hangulat. A szerelem\, ármány és bosszú mind megtalálható ebben a darabban\, amit fantasztikus\, mindenki számára ismerős dalokkal írtak meg\, hogy megismerje Kincsem történetét és korát.
URL:https://nemzetilovasszinhaz.hu/esemeny/kincsem-bikal-4/
LOCATION:Bikal\, Bikal\, Magyarország
ATTACH;FMTTYPE=image/jpeg:https://nemzetilovasszinhaz.hu/wp-content/uploads/2018/11/DSC_0164-1.jpg
END:VEVENT
BEGIN:VEVENT
DTSTART;TZID=UTC:20190810T200000
DTEND;TZID=UTC:20190810T220000
DTSTAMP:20260422T020049
CREATED:20190531T081248Z
LAST-MODIFIED:20190531T081248Z
UID:3408-1565467200-1565474400@nemzetilovasszinhaz.hu
SUMMARY:Kincsem - Bikal
DESCRIPTION:Ki ne hallott volna a “csodakancáról”\, aki minden versenyét megnyerte\, és veretlenül vonult vissza. Az 1800-as évek vége felé járunk\, egy elbukott szabadságharc után Magyarországon\, ahol még mindig puskaporos a hangulat. A szerelem\, ármány és bosszú mind megtalálható ebben a darabban\, amit fantasztikus\, mindenki számára ismerős dalokkal írtak meg\, hogy megismerje Kincsem történetét és korát.
URL:https://nemzetilovasszinhaz.hu/esemeny/kincsem-bikal-5/
LOCATION:Bikal\, Bikal\, Magyarország
ATTACH;FMTTYPE=image/jpeg:https://nemzetilovasszinhaz.hu/wp-content/uploads/2018/11/DSC_0164-1.jpg
END:VEVENT
BEGIN:VEVENT
DTSTART;TZID=UTC:20190811T200000
DTEND;TZID=UTC:20190811T220000
DTSTAMP:20260422T020049
CREATED:20190531T082449Z
LAST-MODIFIED:20190531T082550Z
UID:3414-1565553600-1565560800@nemzetilovasszinhaz.hu
SUMMARY:A fekete álarcos lovas - Sümeg
DESCRIPTION:Aki elvesz a zsarnokoktól és ad a szegényeknek\, akitől minden nő elalél. A Nemzeti Lovas Színház mindenki által ismert slágerek segítségével kelti életre a feketébe öltözött\, fekete lovon vágtató hőst\, hogy mindenkit elvarázsoljon\, és az egész családnak kellemes és izgalmas kikapcsolódást nyújtson.
URL:https://nemzetilovasszinhaz.hu/esemeny/a-fekete-alarcos-lovas-sumeg/
LOCATION:Sümeg
ATTACH;FMTTYPE=image/jpeg:https://nemzetilovasszinhaz.hu/wp-content/uploads/2017/07/11.jpg
END:VEVENT
BEGIN:VEVENT
DTSTART;TZID=UTC:20190816T200000
DTEND;TZID=UTC:20190816T220000
DTSTAMP:20260422T020049
CREATED:20190531T083226Z
LAST-MODIFIED:20190531T083226Z
UID:3417-1565985600-1565992800@nemzetilovasszinhaz.hu
SUMMARY:A szabadság vándorai - Szigetvár
DESCRIPTION:A darabban “a szabadság vándorai” maguk a színészek\, muzsikusok\, komédiások\, akik arra tették fel életüket\, hogy mindenáron szórakoztassanak ebben az őrülten rohanó\, kaotikus világban. Teszik ezt azokkal a csodálatos élőlényekkel\, melyek a világ legszabadabb vándorai -a lovakkal. A musical egy színházi társulat létrejöttét dolgozza fel\, különféle emberi sorsokon keresztül. A cél közös\, melyhez a hit\, a kitartás\, az egyetemleges áldozatok\, valamint a szeretet vezeti a főhősöket; megalakítva egy új színjátszási formát\, amit ma úgy hívnak: Lovasszínház. Demjén Ferenc\, Kossuth-díjas művész közel ötven éves munkásságának egy csodálatos kivonata a színdarab\, újszerű köntösbe öltöztetve fantasztikus dalait. A szerzővel és alkotótársával Menyhárt Jánossal egyetértésben született a gondolat\, a mű megalkotásában ők is részt vettek.
URL:https://nemzetilovasszinhaz.hu/esemeny/a-szabadsag-vandorai-szigetvar/
LOCATION:Szigetvár\, Szigetvár\, Magyarország
ATTACH;FMTTYPE=image/jpeg:https://nemzetilovasszinhaz.hu/wp-content/uploads/2019/05/1920-x-1080-szabadsag-1.jpg
END:VEVENT
BEGIN:VEVENT
DTSTART;TZID=UTC:20190817T200000
DTEND;TZID=UTC:20190817T220000
DTSTAMP:20260422T020050
CREATED:20190531T082224Z
LAST-MODIFIED:20190531T082224Z
UID:3412-1566072000-1566079200@nemzetilovasszinhaz.hu
SUMMARY:János vitéz - Szilvásvárad
DESCRIPTION:Igazi tündérmese csodákkal\, próbatételekkel\, amelyben az árva juhász\, Tündérország királyává válik.
URL:https://nemzetilovasszinhaz.hu/esemeny/janos-vitez-szilvasvarad/
LOCATION:Szilvásvárad\, Szilvásvárad\, Magyarország
ATTACH;FMTTYPE=image/jpeg:https://nemzetilovasszinhaz.hu/wp-content/uploads/2017/11/jánosvitéz.jpg
END:VEVENT
BEGIN:VEVENT
DTSTART;TZID=UTC:20190818T193000
DTEND;TZID=UTC:20190818T220000
DTSTAMP:20260422T020050
CREATED:20190327T115309Z
LAST-MODIFIED:20190818T113743Z
UID:3337-1566156600-1566165600@nemzetilovasszinhaz.hu
SUMMARY:Kincsem - Mórahalom
DESCRIPTION:Ki ne hallott volna a “csodakancáról”\, aki minden versenyét megnyerte\, és veretlenül vonult vissza. Az 1800-as évek vége felé járunk\, egy elbukott szabadságharc után Magyarországon\, ahol még mindig puskaporos a hangulat. A szerelem\, ármány és bosszú mind megtalálható ebben a darabban\, amit fantasztikus\, mindenki számára ismerős dalokkal írtak meg\, hogy megismerje Kincsem történetét és korát.
URL:https://nemzetilovasszinhaz.hu/esemeny/kincsem-4/
LOCATION:Mórahalom – Patkó Lovas Színház\, Patkó Lovas Színház\, Mórahalom\, Csongrád\, Magyarország
ATTACH;FMTTYPE=image/jpeg:https://nemzetilovasszinhaz.hu/wp-content/uploads/2018/08/kincsemlead2.jpg
END:VEVENT
BEGIN:VEVENT
DTSTART;TZID=UTC:20190820T193000
DTEND;TZID=UTC:20190820T220000
DTSTAMP:20260422T020050
CREATED:20190327T115425Z
LAST-MODIFIED:20190818T113803Z
UID:3339-1566329400-1566338400@nemzetilovasszinhaz.hu
SUMMARY:Kincsem - Mórahalom
DESCRIPTION:Ki ne hallott volna a “csodakancáról”\, aki minden versenyét megnyerte\, és veretlenül vonult vissza. Az 1800-as évek vége felé járunk\, egy elbukott szabadságharc után Magyarországon\, ahol még mindig puskaporos a hangulat. A szerelem\, ármány és bosszú mind megtalálható ebben a darabban\, amit fantasztikus\, mindenki számára ismerős dalokkal írtak meg\, hogy megismerje Kincsem történetét és korát.
URL:https://nemzetilovasszinhaz.hu/esemeny/kincsem-5/
LOCATION:Mórahalom – Patkó Lovas Színház\, Patkó Lovas Színház\, Mórahalom\, Csongrád\, Magyarország
ATTACH;FMTTYPE=image/jpeg:https://nemzetilovasszinhaz.hu/wp-content/uploads/2018/08/kincsemlead2.jpg
END:VEVENT
BEGIN:VEVENT
DTSTART;TZID=UTC:20190823T193000
DTEND;TZID=UTC:20190823T220000
DTSTAMP:20260422T020050
CREATED:20190327T115753Z
LAST-MODIFIED:20190818T113825Z
UID:3341-1566588600-1566597600@nemzetilovasszinhaz.hu
SUMMARY:Drakula - Mórahalom
DESCRIPTION:Jonathan Harker\, az ifjú angol ügyvéd azért utazik a Kárpátok közé\, a hátborzongató várkastélyba\, hogy nyélbe üsse Drakula londoni ingatlanvásárlásait.
URL:https://nemzetilovasszinhaz.hu/esemeny/drakula-2/
LOCATION:Mórahalom – Patkó Lovas Színház\, Patkó Lovas Színház\, Mórahalom\, Csongrád\, Magyarország
ATTACH;FMTTYPE=image/jpeg:https://nemzetilovasszinhaz.hu/wp-content/uploads/2019/03/IMG_3804-14.jpg
END:VEVENT
BEGIN:VEVENT
DTSTART;TZID=UTC:20190825T193000
DTEND;TZID=UTC:20190825T220000
DTSTAMP:20260422T020050
CREATED:20190327T120322Z
LAST-MODIFIED:20190818T113845Z
UID:3345-1566761400-1566770400@nemzetilovasszinhaz.hu
SUMMARY:Lúdas Matyi - Mórahalom
DESCRIPTION:A Nemzeti Lovas Színház népi rockopera keretében gondolta újra Lúdas Matyi örökérvényű történetét. Kaland\, izgalom\, románc\, humor és persze minden korosztály számára érvényes tanulságok várják a nagyérdeműt.
URL:https://nemzetilovasszinhaz.hu/esemeny/ludas-matyi-2/
LOCATION:Mórahalom – Patkó Lovas Színház\, Patkó Lovas Színház\, Mórahalom\, Csongrád\, Magyarország
ATTACH;FMTTYPE=image/jpeg:https://nemzetilovasszinhaz.hu/wp-content/uploads/2019/03/lúdas_matyi.jpg
END:VEVENT
BEGIN:VEVENT
DTSTART;TZID=UTC:20190913T190000
DTEND;TZID=UTC:20190913T210000
DTSTAMP:20260422T020050
CREATED:20190531T083541Z
LAST-MODIFIED:20190531T083541Z
UID:3419-1568401200-1568408400@nemzetilovasszinhaz.hu
SUMMARY:A szabadság vándorai - Baja
DESCRIPTION:A darabban “a szabadság vándorai” maguk a színészek\, muzsikusok\, komédiások\, akik arra tették fel életüket\, hogy mindenáron szórakoztassanak ebben az őrülten rohanó\, kaotikus világban. Teszik ezt azokkal a csodálatos élőlényekkel\, melyek a világ legszabadabb vándorai -a lovakkal. A musical egy színházi társulat létrejöttét dolgozza fel\, különféle emberi sorsokon keresztül. A cél közös\, melyhez a hit\, a kitartás\, az egyetemleges áldozatok\, valamint a szeretet vezeti a főhősöket; megalakítva egy új színjátszási formát\, amit ma úgy hívnak: Lovasszínház. Demjén Ferenc\, Kossuth-díjas művész közel ötven éves munkásságának egy csodálatos kivonata a színdarab\, újszerű köntösbe öltöztetve fantasztikus dalait. A szerzővel és alkotótársával Menyhárt Jánossal egyetértésben született a gondolat\, a mű megalkotásában ők is részt vettek.
URL:https://nemzetilovasszinhaz.hu/esemeny/a-szabadsag-vandorai-baja/
LOCATION:Baja
ATTACH;FMTTYPE=image/jpeg:https://nemzetilovasszinhaz.hu/wp-content/uploads/2019/05/1920-x-1080-szabadsag-1.jpg
END:VEVENT
BEGIN:VEVENT
DTSTART;TZID=UTC:20191005T190000
DTEND;TZID=UTC:20191005T210000
DTSTAMP:20260422T020050
CREATED:20190531T084618Z
LAST-MODIFIED:20190531T084618Z
UID:3422-1570302000-1570309200@nemzetilovasszinhaz.hu
SUMMARY:A szabadság vándorai - Kincsem Park
DESCRIPTION:A darabban “a szabadság vándorai” maguk a színészek\, muzsikusok\, komédiások\, akik arra tették fel életüket\, hogy mindenáron szórakoztassanak ebben az őrülten rohanó\, kaotikus világban. Teszik ezt azokkal a csodálatos élőlényekkel\, melyek a világ legszabadabb vándorai -a lovakkal. A musical egy színházi társulat létrejöttét dolgozza fel\, különféle emberi sorsokon keresztül. A cél közös\, melyhez a hit\, a kitartás\, az egyetemleges áldozatok\, valamint a szeretet vezeti a főhősöket; megalakítva egy új színjátszási formát\, amit ma úgy hívnak: Lovasszínház. Demjén Ferenc\, Kossuth-díjas művész közel ötven éves munkásságának egy csodálatos kivonata a színdarab\, újszerű köntösbe öltöztetve fantasztikus dalait. A szerzővel és alkotótársával Menyhárt Jánossal egyetértésben született a gondolat\, a mű megalkotásában ők is részt vettek.
URL:https://nemzetilovasszinhaz.hu/esemeny/a-szabadsag-vandorai-kincsem-park/
LOCATION:Kincsem Park\, Albertirsai út 2-4.\, Budapest\, 1101\, Magyarország
ATTACH;FMTTYPE=image/jpeg:https://nemzetilovasszinhaz.hu/wp-content/uploads/2019/05/1920-x-1080-szabadsag-1.jpg
END:VEVENT
END:VCALENDAR