BEGIN:VCALENDAR
VERSION:2.0
PRODID:-//Nemzeti Lovas Színház - ECPv6.14.2//NONSGML v1.0//EN
CALSCALE:GREGORIAN
METHOD:PUBLISH
X-WR-CALNAME:Nemzeti Lovas Színház
X-ORIGINAL-URL:https://nemzetilovasszinhaz.hu
X-WR-CALDESC:Események Nemzeti Lovas Színház
REFRESH-INTERVAL;VALUE=DURATION:PT1H
X-Robots-Tag:noindex
X-PUBLISHED-TTL:PT1H
BEGIN:VTIMEZONE
TZID:UTC
BEGIN:STANDARD
TZOFFSETFROM:+0000
TZOFFSETTO:+0000
TZNAME:UTC
DTSTART:20200101T000000
END:STANDARD
END:VTIMEZONE
BEGIN:VTIMEZONE
TZID:UTC
BEGIN:STANDARD
TZOFFSETFROM:+0000
TZOFFSETTO:+0000
TZNAME:UTC
DTSTART:20200101T000000
END:STANDARD
END:VTIMEZONE
BEGIN:VEVENT
DTSTART;TZID=UTC:20200111T180000
DTEND;TZID=UTC:20200111T200000
DTSTAMP:20260422T215449
CREATED:20191201T080537Z
LAST-MODIFIED:20191201T080719Z
UID:3480-1578765600-1578772800@nemzetilovasszinhaz.hu
SUMMARY:Újévi Gála
DESCRIPTION:Különleges andalúz lovak és fríz paripák\, fülbemászó dallamok\, magyaros motívumokkal hímzett huszár jelmezek\, meseszép hintók és persze remek hangú és emellett kiválóan lovagló színészeink teszik teljessé a csodálatos estét. Pintér Tibor\, a Nemzeti Lovas Színház igazgatója már többször hangoztatta\, hogy a társulatával cirkusz és a színház között épít hidat\, olyan varászlatos estékkel\, amelyeken a színészeik a vágtató lovakon fakadnak dalra – egy ilyen varázslatnak lehetnek részesei azok\, akik jegyet váltanak az előadásunkra. \n 
URL:https://nemzetilovasszinhaz.hu/esemeny/ujevi-gala/
LOCATION:Kincsem Park\, Albertirsai út 2-4.\, Budapest\, 1101\, Magyarország
ATTACH;FMTTYPE=image/jpeg:https://nemzetilovasszinhaz.hu/wp-content/uploads/2019/12/újévigála.jpg
END:VEVENT
BEGIN:VEVENT
DTSTART;TZID=UTC:20200124T180000
DTEND;TZID=UTC:20200124T200000
DTSTAMP:20260422T215449
CREATED:20191201T081019Z
LAST-MODIFIED:20191201T081019Z
UID:3485-1579888800-1579896000@nemzetilovasszinhaz.hu
SUMMARY:A Szabadság vándorai
DESCRIPTION:A darabban “a szabadság vándorai” maguk a színészek\, muzsikusok\, komédiások\, akik arra tették fel életüket\, hogy mindenáron szórakoztassanak ebben az őrülten rohanó\, kaotikus világban. Teszik ezt azokkal a csodálatos élőlényekkel\, melyek a világ legszabadabb vándorai – a lovakkal. \nDemjén Ferenc\, Kossuth-díjas művész közel ötven éves munkásságának egy csodálatos kivonata a színdarab\, újszerű köntösbe öltöztetve fantasztikus dalait. A szerzővel és alkotótársával Menyhárt Jánossal egyetértésben született a gondolat\, a mű megalkotásában ők is részt vettek.
URL:https://nemzetilovasszinhaz.hu/esemeny/a-szabadsag-vandorai/
LOCATION:Kincsem Park\, Albertirsai út 2-4.\, Budapest\, 1101\, Magyarország
ATTACH;FMTTYPE=image/jpeg:https://nemzetilovasszinhaz.hu/wp-content/uploads/2019/05/1920-x-1080-szabadsag-1.jpg
END:VEVENT
BEGIN:VEVENT
DTSTART;TZID=UTC:20200125T180000
DTEND;TZID=UTC:20200125T200000
DTSTAMP:20260422T215449
CREATED:20191201T165043Z
LAST-MODIFIED:20191201T165043Z
UID:3487-1579975200-1579982400@nemzetilovasszinhaz.hu
SUMMARY:A Szabadság vándorai
DESCRIPTION:A darabban “a szabadság vándorai” maguk a színészek\, muzsikusok\, komédiások\, akik arra tették fel életüket\, hogy mindenáron szórakoztassanak ebben az őrülten rohanó\, kaotikus világban. Teszik ezt azokkal a csodálatos élőlényekkel\, melyek a világ legszabadabb vándorai – a lovakkal. \nDemjén Ferenc\, Kossuth-díjas művész közel ötven éves munkásságának egy csodálatos kivonata a színdarab\, újszerű köntösbe öltöztetve fantasztikus dalait. A szerzővel és alkotótársával Menyhárt Jánossal egyetértésben született a gondolat\, a mű megalkotásában ők is részt vettek.
URL:https://nemzetilovasszinhaz.hu/esemeny/a-szabadsag-vandorai-2/
LOCATION:Kincsem Park\, Albertirsai út 2-4.\, Budapest\, 1101\, Magyarország
ATTACH;FMTTYPE=image/jpeg:https://nemzetilovasszinhaz.hu/wp-content/uploads/2019/05/1920-x-1080-szabadsag-1.jpg
END:VEVENT
BEGIN:VEVENT
DTSTART;TZID=UTC:20200126T150000
DTEND;TZID=UTC:20200126T170000
DTSTAMP:20260422T215449
CREATED:20191201T165218Z
LAST-MODIFIED:20191201T165218Z
UID:3489-1580050800-1580058000@nemzetilovasszinhaz.hu
SUMMARY:A Szabadság vándorai
DESCRIPTION:A darabban “a szabadság vándorai” maguk a színészek\, muzsikusok\, komédiások\, akik arra tették fel életüket\, hogy mindenáron szórakoztassanak ebben az őrülten rohanó\, kaotikus világban. Teszik ezt azokkal a csodálatos élőlényekkel\, melyek a világ legszabadabb vándorai – a lovakkal. \nDemjén Ferenc\, Kossuth-díjas művész közel ötven éves munkásságának egy csodálatos kivonata a színdarab\, újszerű köntösbe öltöztetve fantasztikus dalait. A szerzővel és alkotótársával Menyhárt Jánossal egyetértésben született a gondolat\, a mű megalkotásában ők is részt vettek.
URL:https://nemzetilovasszinhaz.hu/esemeny/a-szabadsag-vandorai-3/
LOCATION:Kincsem Park\, Albertirsai út 2-4.\, Budapest\, 1101\, Magyarország
ATTACH;FMTTYPE=image/jpeg:https://nemzetilovasszinhaz.hu/wp-content/uploads/2019/05/1920-x-1080-szabadsag-1.jpg
END:VEVENT
BEGIN:VEVENT
DTSTART;TZID=UTC:20200201T180000
DTEND;TZID=UTC:20200201T210000
DTSTAMP:20260422T215449
CREATED:20191201T165857Z
LAST-MODIFIED:20191201T165857Z
UID:3495-1580580000-1580590800@nemzetilovasszinhaz.hu
SUMMARY:János vitéz
DESCRIPTION:A János vitéz című családi előadás a paraszti sorból huszárrá vált Jancsi mesés kalandjait mutatja be lovas üldözésekkel\, nagy harcokkal\, illetve fergeteges látványelemekkel\, különleges zenei virtuozitással\, amelyekkel együtt egyedülálló élményt nyújtanak a közönség számára. \nA szórakozás garantált\, kiváló énekeseink és lovasaink közreműködésével minőségi költészet\, magas színvonalú muzsika és szemet gyönyörködtető látvány várja majd a nézőket. Minden generációnak bátran ajánljuk\, hiszen a veretes huszárruhába öltöztetett János vitéz figurája megdobogtatja az ember szívét\, mert valahol\, mély gyökerekből fakadva a belénk kódolt történelmünk tör a felszínre.
URL:https://nemzetilovasszinhaz.hu/esemeny/janos-vitez-6/
LOCATION:Kincsem Park\, Albertirsai út 2-4.\, Budapest\, 1101\, Magyarország
ATTACH;FMTTYPE=image/jpeg:https://nemzetilovasszinhaz.hu/wp-content/uploads/2019/12/jánosvitéz.jpg
END:VEVENT
BEGIN:VEVENT
DTSTART;TZID=UTC:20200202T150000
DTEND;TZID=UTC:20200202T170000
DTSTAMP:20260422T215449
CREATED:20191201T165955Z
LAST-MODIFIED:20191201T165955Z
UID:3498-1580655600-1580662800@nemzetilovasszinhaz.hu
SUMMARY:János vitéz
DESCRIPTION:A János vitéz című családi előadás a paraszti sorból huszárrá vált Jancsi mesés kalandjait mutatja be lovas üldözésekkel\, nagy harcokkal\, illetve fergeteges látványelemekkel\, különleges zenei virtuozitással\, amelyekkel együtt egyedülálló élményt nyújtanak a közönség számára. \nA szórakozás garantált\, kiváló énekeseink és lovasaink közreműködésével minőségi költészet\, magas színvonalú muzsika és szemet gyönyörködtető látvány várja majd a nézőket. Minden generációnak bátran ajánljuk\, hiszen a veretes huszárruhába öltöztetett János vitéz figurája megdobogtatja az ember szívét\, mert valahol\, mély gyökerekből fakadva a belénk kódolt történelmünk tör a felszínre.
URL:https://nemzetilovasszinhaz.hu/esemeny/janos-vitez-7/
LOCATION:Kincsem Park\, Albertirsai út 2-4.\, Budapest\, 1101\, Magyarország
ATTACH;FMTTYPE=image/jpeg:https://nemzetilovasszinhaz.hu/wp-content/uploads/2019/12/jánosvitéz.jpg
END:VEVENT
BEGIN:VEVENT
DTSTART;TZID=UTC:20200216T140000
DTEND;TZID=UTC:20200216T160000
DTSTAMP:20260422T215449
CREATED:20200211T195724Z
LAST-MODIFIED:20200211T195724Z
UID:3607-1581861600-1581868800@nemzetilovasszinhaz.hu
SUMMARY:Hófehér és a hét törpe - színpadi
DESCRIPTION:A világhírű Grimm-mese életre kel musical formájában\, kicsit új köntöst kapva a nagy Hollywood-i sikerprodukciók mintáját követve. Részesei lehetünk egy mesés történetnek\, ahol a jó méltán nyeri el a boldog befejezést\, a lélek tisztasága és a belső értékek győzedelmeskednek.
URL:https://nemzetilovasszinhaz.hu/esemeny/hofeher-es-a-het-torpe-szinpadi/
LOCATION:Stefánia Palota
END:VEVENT
BEGIN:VEVENT
DTSTART;TZID=UTC:20200222T180000
DTEND;TZID=UTC:20200222T210000
DTSTAMP:20260422T215449
CREATED:20191201T170253Z
LAST-MODIFIED:20191201T170253Z
UID:3500-1582394400-1582405200@nemzetilovasszinhaz.hu
SUMMARY:Marica grófnő
DESCRIPTION:Az operettirodalom egyik legsikeresebb alkotása\, Kálmán Imre legnépszerűbb operettje\, a Marica grófnő mindig ünnep egy színház és a közönség számára. Egy klasszikus nagyoperett minden kötelező kelléke jelen lesz – lóháton táncra pördülő\, remek hangú színészekkel.
URL:https://nemzetilovasszinhaz.hu/esemeny/marica-grofno/
LOCATION:Kincsem Park\, Albertirsai út 2-4.\, Budapest\, 1101\, Magyarország
ATTACH;FMTTYPE=image/jpeg:https://nemzetilovasszinhaz.hu/wp-content/uploads/2019/12/maricagrófnő-3.jpg
END:VEVENT
BEGIN:VEVENT
DTSTART;TZID=UTC:20200223T150000
DTEND;TZID=UTC:20200223T170000
DTSTAMP:20260422T215449
CREATED:20191201T170353Z
LAST-MODIFIED:20191201T170353Z
UID:3503-1582470000-1582477200@nemzetilovasszinhaz.hu
SUMMARY:Marica grófnő
DESCRIPTION:Az operettirodalom egyik legsikeresebb alkotása\, Kálmán Imre legnépszerűbb operettje\, a Marica grófnő mindig ünnep egy színház és a közönség számára. Egy klasszikus nagyoperett minden kötelező kelléke jelen lesz – lóháton táncra pördülő\, remek hangú színészekkel.
URL:https://nemzetilovasszinhaz.hu/esemeny/marica-grofno-2/
LOCATION:Kincsem Park\, Albertirsai út 2-4.\, Budapest\, 1101\, Magyarország
ATTACH;FMTTYPE=image/jpeg:https://nemzetilovasszinhaz.hu/wp-content/uploads/2019/12/maricagrófnő-3.jpg
END:VEVENT
BEGIN:VEVENT
DTSTART;TZID=UTC:20200307T190000
DTEND;TZID=UTC:20200307T220000
DTSTAMP:20260422T215449
CREATED:20191201T165348Z
LAST-MODIFIED:20191201T165348Z
UID:3491-1583607600-1583618400@nemzetilovasszinhaz.hu
SUMMARY:A Szabadság vándorai
DESCRIPTION:A darabban “a szabadság vándorai” maguk a színészek\, muzsikusok\, komédiások\, akik arra tették fel életüket\, hogy mindenáron szórakoztassanak ebben az őrülten rohanó\, kaotikus világban. Teszik ezt azokkal a csodálatos élőlényekkel\, melyek a világ legszabadabb vándorai – a lovakkal. \nDemjén Ferenc\, Kossuth-díjas művész közel ötven éves munkásságának egy csodálatos kivonata a színdarab\, újszerű köntösbe öltöztetve fantasztikus dalait. A szerzővel és alkotótársával Menyhárt Jánossal egyetértésben született a gondolat\, a mű megalkotásában ők is részt vettek.
URL:https://nemzetilovasszinhaz.hu/esemeny/a-szabadsag-vandorai-4/
LOCATION:Kincsem Park\, Albertirsai út 2-4.\, Budapest\, 1101\, Magyarország
ATTACH;FMTTYPE=image/jpeg:https://nemzetilovasszinhaz.hu/wp-content/uploads/2019/05/1920-x-1080-szabadsag-1.jpg
END:VEVENT
BEGIN:VEVENT
DTSTART;TZID=UTC:20200308T150000
DTEND;TZID=UTC:20200308T180000
DTSTAMP:20260422T215449
CREATED:20191201T165449Z
LAST-MODIFIED:20191201T165449Z
UID:3493-1583679600-1583690400@nemzetilovasszinhaz.hu
SUMMARY:A Szabadság vándorai
DESCRIPTION:A darabban “a szabadság vándorai” maguk a színészek\, muzsikusok\, komédiások\, akik arra tették fel életüket\, hogy mindenáron szórakoztassanak ebben az őrülten rohanó\, kaotikus világban. Teszik ezt azokkal a csodálatos élőlényekkel\, melyek a világ legszabadabb vándorai – a lovakkal. \nDemjén Ferenc\, Kossuth-díjas művész közel ötven éves munkásságának egy csodálatos kivonata a színdarab\, újszerű köntösbe öltöztetve fantasztikus dalait. A szerzővel és alkotótársával Menyhárt Jánossal egyetértésben született a gondolat\, a mű megalkotásában ők is részt vettek.
URL:https://nemzetilovasszinhaz.hu/esemeny/a-szabadsag-vandorai-5/
LOCATION:Kincsem Park\, Albertirsai út 2-4.\, Budapest\, 1101\, Magyarország
ATTACH;FMTTYPE=image/jpeg:https://nemzetilovasszinhaz.hu/wp-content/uploads/2019/05/1920-x-1080-szabadsag-1.jpg
END:VEVENT
BEGIN:VEVENT
DTSTART;TZID=UTC:20200311T190000
DTEND;TZID=UTC:20200311T210000
DTSTAMP:20260422T215449
CREATED:20200211T200004Z
LAST-MODIFIED:20200211T200004Z
UID:3610-1583953200-1583960400@nemzetilovasszinhaz.hu
SUMMARY:Honfoglalás - színpadi
DESCRIPTION:A Honfoglalás című magyar rockopera feltárja magyar honfoglalással kapcsolatos legújabb történelmi információkat\, üzenve a mai fiataloknak és a Kárpát-medencében élő összes magyarnak\, hogy alaposabban megismerkedhessenek a magyarok valódi történelmével.
URL:https://nemzetilovasszinhaz.hu/esemeny/honfoglalas-szinpadi/
LOCATION:Jánoshalma
END:VEVENT
BEGIN:VEVENT
DTSTART;TZID=UTC:20200314T180000
DTEND;TZID=UTC:20200314T200000
DTSTAMP:20260422T215449
CREATED:20200211T200201Z
LAST-MODIFIED:20200226T092607Z
UID:3613-1584208800-1584216000@nemzetilovasszinhaz.hu
SUMMARY:Jézus Krisztus szupersztár - színpadi
DESCRIPTION:A Jézus Krisztus szupersztár azonnal hatalmas sikert aratott\, és a londoni premiert követően a világ szinte valamennyi országában színpadra került. Ami a zene mellett a mű jellegzetessége: a világ legismertebb történetét nem a megszokott módon\, hanem Júdás szemszögéből ábrázolja.
URL:https://nemzetilovasszinhaz.hu/esemeny/jezus-krisztus-szupersztar-szinpadi/
LOCATION:Solt
ATTACH;FMTTYPE=image/jpeg:https://nemzetilovasszinhaz.hu/wp-content/uploads/2019/12/jézuslead.jpg
END:VEVENT
BEGIN:VEVENT
DTSTART;TZID=UTC:20200320T190000
DTEND;TZID=UTC:20200320T220000
DTSTAMP:20260422T215449
CREATED:20191201T170639Z
LAST-MODIFIED:20191201T170639Z
UID:3505-1584730800-1584741600@nemzetilovasszinhaz.hu
SUMMARY:Honfoglalás
DESCRIPTION:„A szállj\, szállj sólyom szárnyán” című dal szerzői és Pintér Tibor a darab rendezője\, gondoskodnak arról\, hogy az előadás egy feledhetetlen élmény legyen a nézőknek\, akik ellátogatnak előadásunkra! A Honfoglalás című magyar rockopera feltárja magyar honfoglalással kapcsolatos legújabb történelmi információkat\, üzenve a mai fiataloknak és a Kárpát-medencében élő összes magyarnak\, hogy alaposabban megismerkedhessenek a magyarok valódi történelmével. A produkció a legigényesebb zenei és prózai adaptáción keresztül látványos jelenetekkel\, minőségi szereposztással mutatja be a 7 vezér hazatérését.
URL:https://nemzetilovasszinhaz.hu/esemeny/honfoglalas-5/
LOCATION:Kincsem Park\, Albertirsai út 2-4.\, Budapest\, 1101\, Magyarország
ATTACH;FMTTYPE=image/jpeg:https://nemzetilovasszinhaz.hu/wp-content/uploads/2018/11/DSC_0174.jpg
END:VEVENT
BEGIN:VEVENT
DTSTART;TZID=UTC:20200321T190000
DTEND;TZID=UTC:20200321T220000
DTSTAMP:20260422T215449
CREATED:20191201T170750Z
LAST-MODIFIED:20191201T170750Z
UID:3507-1584817200-1584828000@nemzetilovasszinhaz.hu
SUMMARY:Honfoglalás
DESCRIPTION:„A szállj\, szállj sólyom szárnyán” című dal szerzői és Pintér Tibor a darab rendezője\, gondoskodnak arról\, hogy az előadás egy feledhetetlen élmény legyen a nézőknek\, akik ellátogatnak előadásunkra! A Honfoglalás című magyar rockopera feltárja magyar honfoglalással kapcsolatos legújabb történelmi információkat\, üzenve a mai fiataloknak és a Kárpát-medencében élő összes magyarnak\, hogy alaposabban megismerkedhessenek a magyarok valódi történelmével. A produkció a legigényesebb zenei és prózai adaptáción keresztül látványos jelenetekkel\, minőségi szereposztással mutatja be a 7 vezér hazatérését.
URL:https://nemzetilovasszinhaz.hu/esemeny/honfoglalas-6/
LOCATION:Kincsem Park\, Albertirsai út 2-4.\, Budapest\, 1101\, Magyarország
ATTACH;FMTTYPE=image/jpeg:https://nemzetilovasszinhaz.hu/wp-content/uploads/2018/11/DSC_0174.jpg
END:VEVENT
BEGIN:VEVENT
DTSTART;TZID=UTC:20200322T190000
DTEND;TZID=UTC:20200322T210000
DTSTAMP:20260422T215449
CREATED:20200211T200325Z
LAST-MODIFIED:20200211T200325Z
UID:3616-1584903600-1584910800@nemzetilovasszinhaz.hu
SUMMARY:A szabadság vándorai - színpadi
DESCRIPTION:
URL:https://nemzetilovasszinhaz.hu/esemeny/a-szabadsag-vandorai-szinpadi/
LOCATION:Oroszlány
END:VEVENT
BEGIN:VEVENT
DTSTART;TZID=UTC:20200326T170000
DTEND;TZID=UTC:20200326T190000
DTSTAMP:20260422T215449
CREATED:20200211T200424Z
LAST-MODIFIED:20200211T200437Z
UID:3619-1585242000-1585249200@nemzetilovasszinhaz.hu
SUMMARY:Valahol Európában - színpadi
DESCRIPTION:
URL:https://nemzetilovasszinhaz.hu/esemeny/valahol-europaban/
LOCATION:Esztergom
END:VEVENT
BEGIN:VEVENT
DTSTART;TZID=UTC:20200328T180000
DTEND;TZID=UTC:20200328T200000
DTSTAMP:20260422T215449
CREATED:20200211T200748Z
LAST-MODIFIED:20200211T200748Z
UID:3623-1585418400-1585425600@nemzetilovasszinhaz.hu
SUMMARY:Mágnás Miska - színpadi
DESCRIPTION:
URL:https://nemzetilovasszinhaz.hu/esemeny/magnas-miska-szinpadi/
LOCATION:Bácsalmás
END:VEVENT
BEGIN:VEVENT
DTSTART;TZID=UTC:20200403T190000
DTEND;TZID=UTC:20200403T220000
DTSTAMP:20260422T215449
CREATED:20191201T171002Z
LAST-MODIFIED:20191201T171002Z
UID:3509-1585940400-1585951200@nemzetilovasszinhaz.hu
SUMMARY:Jézus Krisztus szupersztár
DESCRIPTION:A Jézus Krisztus szupersztár azonnal hatalmas sikert aratott\, és a londoni premiert követően a világ szinte valamennyi országában színpadra került. Ami a zene mellett a mű jellegzetessége: a világ legismertebb történetét nem a megszokott módon\, hanem Júdás szemszögéből ábrázolja.
URL:https://nemzetilovasszinhaz.hu/esemeny/jezus-krisztus-szupersztar/
LOCATION:Kincsem Park\, Albertirsai út 2-4.\, Budapest\, 1101\, Magyarország
ATTACH;FMTTYPE=image/jpeg:https://nemzetilovasszinhaz.hu/wp-content/uploads/2019/12/jézuslead.jpg
END:VEVENT
BEGIN:VEVENT
DTSTART;TZID=UTC:20200404T190000
DTEND;TZID=UTC:20200404T220000
DTSTAMP:20260422T215449
CREATED:20191201T171107Z
LAST-MODIFIED:20191201T171107Z
UID:3512-1586026800-1586037600@nemzetilovasszinhaz.hu
SUMMARY:Jézus Krisztus szupersztár
DESCRIPTION:A Jézus Krisztus szupersztár azonnal hatalmas sikert aratott\, és a londoni premiert követően a világ szinte valamennyi országában színpadra került. Ami a zene mellett a mű jellegzetessége: a világ legismertebb történetét nem a megszokott módon\, hanem Júdás szemszögéből ábrázolja.
URL:https://nemzetilovasszinhaz.hu/esemeny/jezus-krisztus-szupersztar-2/
LOCATION:Kincsem Park\, Albertirsai út 2-4.\, Budapest\, 1101\, Magyarország
ATTACH;FMTTYPE=image/jpeg:https://nemzetilovasszinhaz.hu/wp-content/uploads/2019/12/jézuslead.jpg
END:VEVENT
BEGIN:VEVENT
DTSTART;TZID=UTC:20200417T190000
DTEND;TZID=UTC:20200417T220000
DTSTAMP:20260422T215449
CREATED:20191201T171342Z
LAST-MODIFIED:20191201T171342Z
UID:3514-1587150000-1587160800@nemzetilovasszinhaz.hu
SUMMARY:Kincsem
DESCRIPTION:Ki ne hallott volna a “csodakancáról”\, aki minden versenyét megnyerte\, és veretlenül vonult vissza… \nAz 1800-as évek vége felé járunk\, egy elbukott szabadságharc után Magyarországon\, ahol még mindig puskaporos a hangulat. A szerelem\, ármány és bosszú mind megtalálható ebben a darabban\, amit fantasztikus\, mindenki számára ismerős dalokkal írtak meg\, hogy megismerje Kincsem történetét és korát.
URL:https://nemzetilovasszinhaz.hu/esemeny/kincsem-6/
LOCATION:Kincsem Park\, Albertirsai út 2-4.\, Budapest\, 1101\, Magyarország
ATTACH;FMTTYPE=image/jpeg:https://nemzetilovasszinhaz.hu/wp-content/uploads/2019/06/DSC_0120-e1591213711949.jpg
END:VEVENT
BEGIN:VEVENT
DTSTART;TZID=UTC:20200418T190000
DTEND;TZID=UTC:20200418T220000
DTSTAMP:20260422T215449
CREATED:20191201T171449Z
LAST-MODIFIED:20191201T171449Z
UID:3516-1587236400-1587247200@nemzetilovasszinhaz.hu
SUMMARY:Kincsem
DESCRIPTION:Ki ne hallott volna a “csodakancáról”\, aki minden versenyét megnyerte\, és veretlenül vonult vissza… \nAz 1800-as évek vége felé járunk\, egy elbukott szabadságharc után Magyarországon\, ahol még mindig puskaporos a hangulat. A szerelem\, ármány és bosszú mind megtalálható ebben a darabban\, amit fantasztikus\, mindenki számára ismerős dalokkal írtak meg\, hogy megismerje Kincsem történetét és korát.
URL:https://nemzetilovasszinhaz.hu/esemeny/kincsem-7/
LOCATION:Kincsem Park\, Albertirsai út 2-4.\, Budapest\, 1101\, Magyarország
ATTACH;FMTTYPE=image/jpeg:https://nemzetilovasszinhaz.hu/wp-content/uploads/2019/06/DSC_0120-e1591213711949.jpg
END:VEVENT
BEGIN:VEVENT
DTSTART;TZID=UTC:20200530T190000
DTEND;TZID=UTC:20200530T210000
DTSTAMP:20260422T215449
CREATED:20200211T184539Z
LAST-MODIFIED:20200211T184539Z
UID:3560-1590865200-1590872400@nemzetilovasszinhaz.hu
SUMMARY:Kincsem - Szilvásvárad
DESCRIPTION:Ki ne hallott volna a “csodakancáról”\, aki minden versenyét megnyerte\, és veretlenül vonult vissza… \nAz 1800-as évek vége felé járunk\, egy elbukott szabadságharc után Magyarországon\, ahol még mindig puskaporos a hangulat. A szerelem\, ármány és bosszú mind megtalálható ebben a darabban\, amit fantasztikus\, mindenki számára ismerős dalokkal írtak meg\, hogy megismerje Kincsem történetét és korát.
URL:https://nemzetilovasszinhaz.hu/esemeny/kincsem-szilvasvarad/
LOCATION:Szilvásvárad\, Szilvásvárad\, Magyarország
ATTACH;FMTTYPE=image/jpeg:https://nemzetilovasszinhaz.hu/wp-content/uploads/2019/06/DSC_0120-e1591213711949.jpg
END:VEVENT
BEGIN:VEVENT
DTSTART;VALUE=DATE:20200616
DTEND;VALUE=DATE:20200620
DTSTAMP:20260422T215449
CREATED:20200211T185224Z
LAST-MODIFIED:20200211T185323Z
UID:3564-1592265600-1592611199@nemzetilovasszinhaz.hu
SUMMARY:Nemzeti Lovas Színház tábor
DESCRIPTION:
URL:https://nemzetilovasszinhaz.hu/esemeny/nemzeti-lovas-szinhaz-tabor/
LOCATION:Kiskunhalas
END:VEVENT
BEGIN:VEVENT
DTSTART;TZID=UTC:20200619T190000
DTEND;TZID=UTC:20200619T210000
DTSTAMP:20260422T215449
CREATED:20200211T185420Z
LAST-MODIFIED:20200211T185548Z
UID:3566-1592593200-1592600400@nemzetilovasszinhaz.hu
SUMMARY:Rómeó és Júlia lóhátról koncert
DESCRIPTION:
URL:https://nemzetilovasszinhaz.hu/esemeny/romeo-es-julia-lohatrol-koncert/
LOCATION:Kiskunhalas
END:VEVENT
BEGIN:VEVENT
DTSTART;TZID=UTC:20200627T200000
DTEND;TZID=UTC:20200627T220000
DTSTAMP:20260422T215449
CREATED:20200211T190020Z
LAST-MODIFIED:20200305T130753Z
UID:3573-1593288000-1593295200@nemzetilovasszinhaz.hu
SUMMARY:A szabadság vándorai
DESCRIPTION:A darabban “a szabadság vándorai” maguk a színészek\, muzsikusok\, komédiások\, akik arra tették fel életüket\, hogy mindenáron szórakoztassanak ebben az őrülten rohanó\, kaotikus világban. Teszik ezt azokkal a csodálatos élőlényekkel\, melyek a világ legszabadabb vándorai – a lovakkal. \nDemjén Ferenc\, Kossuth-díjas művész közel ötven éves munkásságának egy csodálatos kivonata a színdarab\, újszerű köntösbe öltöztetve fantasztikus dalait. A szerzővel és alkotótársával Menyhárt Jánossal egyetértésben született a gondolat\, a mű megalkotásában ők is részt vettek.
URL:https://nemzetilovasszinhaz.hu/esemeny/szilaj/
LOCATION:Bikal\, Bikal\, Magyarország
ATTACH;FMTTYPE=image/jpeg:https://nemzetilovasszinhaz.hu/wp-content/uploads/2019/09/tenyuslovas.jpg
END:VEVENT
BEGIN:VEVENT
DTSTART;TZID=UTC:20200711T200000
DTEND;TZID=UTC:20200711T220000
DTSTAMP:20260422T215449
CREATED:20200211T190213Z
LAST-MODIFIED:20200211T190213Z
UID:3576-1594497600-1594504800@nemzetilovasszinhaz.hu
SUMMARY:Szilaj
DESCRIPTION:Világpremiert jelent\, hogy először lesz látható együtt a klasszikus stílus és szabad idomítás művészete a lovas színházak történetében. A darab végén Szilaj teljesíti a lehetetlennel felérő küldetését: megmenti szülőföldjét\, ám ehhez hihetetlen bátorságra és elszántságra lesz szüksége.
URL:https://nemzetilovasszinhaz.hu/esemeny/szilaj-2/
LOCATION:Bikal\, Bikal\, Magyarország
ATTACH;FMTTYPE=image/jpeg:https://nemzetilovasszinhaz.hu/wp-content/uploads/2020/02/szilaj-szereposztas.jpg
END:VEVENT
BEGIN:VEVENT
DTSTART;TZID=UTC:20200717T203000
DTEND;TZID=UTC:20200717T223000
DTSTAMP:20260422T215449
CREATED:20200211T194049Z
LAST-MODIFIED:20200211T194049Z
UID:3590-1595017800-1595025000@nemzetilovasszinhaz.hu
SUMMARY:A Szabadság vándorai
DESCRIPTION:A darabban “a szabadság vándorai” maguk a színészek\, muzsikusok\, komédiások\, akik arra tették fel életüket\, hogy mindenáron szórakoztassanak ebben az őrülten rohanó\, kaotikus világban. Teszik ezt azokkal a csodálatos élőlényekkel\, melyek a világ legszabadabb vándorai – a lovakkal. \nDemjén Ferenc\, Kossuth-díjas művész közel ötven éves munkásságának egy csodálatos kivonata a színdarab\, újszerű köntösbe öltöztetve fantasztikus dalait. A szerzővel és alkotótársával Menyhárt Jánossal egyetértésben született a gondolat\, a mű megalkotásában ők is részt vettek.
URL:https://nemzetilovasszinhaz.hu/esemeny/a-szabadsag-vandorai-6/
LOCATION:Mórahalom – Patkó Lovas Színház\, Patkó Lovas Színház\, Mórahalom\, Csongrád\, Magyarország
ATTACH;FMTTYPE=image/jpeg:https://nemzetilovasszinhaz.hu/wp-content/uploads/2019/09/tenyuslovas.jpg
END:VEVENT
BEGIN:VEVENT
DTSTART;TZID=UTC:20200718T200000
DTEND;TZID=UTC:20200718T220000
DTSTAMP:20260422T215449
CREATED:20200211T193241Z
LAST-MODIFIED:20200211T193241Z
UID:3578-1595102400-1595109600@nemzetilovasszinhaz.hu
SUMMARY:Szilaj
DESCRIPTION:Világpremiert jelent\, hogy először lesz látható együtt a klasszikus stílus és szabad idomítás művészete a lovas színházak történetében. A darab végén Szilaj teljesíti a lehetetlennel felérő küldetését: megmenti szülőföldjét\, ám ehhez hihetetlen bátorságra és elszántságra lesz szüksége.
URL:https://nemzetilovasszinhaz.hu/esemeny/szilaj-3/
LOCATION:Bikal\, Bikal\, Magyarország
ATTACH;FMTTYPE=image/jpeg:https://nemzetilovasszinhaz.hu/wp-content/uploads/2020/02/szilaj-szereposztas.jpg
END:VEVENT
BEGIN:VEVENT
DTSTART;TZID=UTC:20200724T203000
DTEND;TZID=UTC:20200724T223000
DTSTAMP:20260422T215449
CREATED:20200211T194303Z
LAST-MODIFIED:20200211T194303Z
UID:3592-1595622600-1595629800@nemzetilovasszinhaz.hu
SUMMARY:A Szabadság vándorai
DESCRIPTION:A darabban “a szabadság vándorai” maguk a színészek\, muzsikusok\, komédiások\, akik arra tették fel életüket\, hogy mindenáron szórakoztassanak ebben az őrülten rohanó\, kaotikus világban. Teszik ezt azokkal a csodálatos élőlényekkel\, melyek a világ legszabadabb vándorai – a lovakkal. \nDemjén Ferenc\, Kossuth-díjas művész közel ötven éves munkásságának egy csodálatos kivonata a színdarab\, újszerű köntösbe öltöztetve fantasztikus dalait. A szerzővel és alkotótársával Menyhárt Jánossal egyetértésben született a gondolat\, a mű megalkotásában ők is részt vettek.
URL:https://nemzetilovasszinhaz.hu/esemeny/a-szabadsag-vandorai-7/
LOCATION:Mórahalom – Patkó Lovas Színház\, Patkó Lovas Színház\, Mórahalom\, Csongrád\, Magyarország
ATTACH;FMTTYPE=image/jpeg:https://nemzetilovasszinhaz.hu/wp-content/uploads/2019/09/tenyuslovas.jpg
END:VEVENT
END:VCALENDAR