BEGIN:VCALENDAR
VERSION:2.0
PRODID:-//Nemzeti Lovas Színház - ECPv6.14.2//NONSGML v1.0//EN
CALSCALE:GREGORIAN
METHOD:PUBLISH
X-ORIGINAL-URL:https://nemzetilovasszinhaz.hu
X-WR-CALDESC:Események Nemzeti Lovas Színház
REFRESH-INTERVAL;VALUE=DURATION:PT1H
X-Robots-Tag:noindex
X-PUBLISHED-TTL:PT1H
BEGIN:VTIMEZONE
TZID:UTC
BEGIN:STANDARD
TZOFFSETFROM:+0000
TZOFFSETTO:+0000
TZNAME:UTC
DTSTART:20160101T000000
END:STANDARD
END:VTIMEZONE
BEGIN:VEVENT
DTSTART;TZID=UTC:20161202T180000
DTEND;TZID=UTC:20161202T190000
DTSTAMP:20260423T191210
CREATED:20161016T103522Z
LAST-MODIFIED:20161113T202121Z
UID:1625-1480701600-1480705200@nemzetilovasszinhaz.hu
SUMMARY:Ludas Matyi
DESCRIPTION:
URL:https://nemzetilovasszinhaz.hu/esemeny/gyerekeloadas/
LOCATION:Városi Könyvtár és Közösségi Ház\, Tököli út 19.\, Szigetszentmiklós\, 2310\, Magyarország
END:VEVENT
BEGIN:VEVENT
DTSTART;TZID=UTC:20161203T200000
DTEND;TZID=UTC:20161203T220000
DTSTAMP:20260423T191210
CREATED:20161016T103719Z
LAST-MODIFIED:20161016T103719Z
UID:1627-1480795200-1480802400@nemzetilovasszinhaz.hu
SUMMARY:EDDA Musical - A KÖR
DESCRIPTION:
URL:https://nemzetilovasszinhaz.hu/esemeny/edda-musical-a-kor-2/
LOCATION:Gál József Sportcsarnok\, Rákóczi út 33.\, Cegléd\, 2700
ATTACH;FMTTYPE=image/jpeg:https://nemzetilovasszinhaz.hu/wp-content/uploads/2016/10/SzigSzin_kat_2016-2017.compressed-page-010.jpg
END:VEVENT
BEGIN:VEVENT
DTSTART;TZID=UTC:20161209T193000
DTEND;TZID=UTC:20161209T213000
DTSTAMP:20260423T191210
CREATED:20161016T103933Z
LAST-MODIFIED:20161016T103933Z
UID:1631-1481311800-1481319000@nemzetilovasszinhaz.hu
SUMMARY:lovas Hófehér és hét törpe - Kincsem park
DESCRIPTION:
URL:https://nemzetilovasszinhaz.hu/esemeny/lovas-hofeher-es-het-torpe-kincsem-park/
LOCATION:Kincsem Park\, Albertirsai út 2-4.\, Budapest\, 1101\, Magyarország
ATTACH;FMTTYPE=image/jpeg:https://nemzetilovasszinhaz.hu/wp-content/uploads/2016/10/SzigSzin_kat_2016-2017.compressed-page-004-e1710355433495.jpg
END:VEVENT
BEGIN:VEVENT
DTSTART;TZID=UTC:20161210T193000
DTEND;TZID=UTC:20161210T213000
DTSTAMP:20260423T191210
CREATED:20161016T104013Z
LAST-MODIFIED:20161016T104013Z
UID:1634-1481398200-1481405400@nemzetilovasszinhaz.hu
SUMMARY:lovas Hófehér és hét törpe - Kincsem park
DESCRIPTION:
URL:https://nemzetilovasszinhaz.hu/esemeny/lovas-hofeher-es-het-torpe-kincsem-park-2/
LOCATION:Kincsem Park\, Albertirsai út 2-4.\, Budapest\, 1101\, Magyarország
ATTACH;FMTTYPE=image/jpeg:https://nemzetilovasszinhaz.hu/wp-content/uploads/2016/10/SzigSzin_kat_2016-2017.compressed-page-004-e1710355433495.jpg
END:VEVENT
BEGIN:VEVENT
DTSTART;TZID=UTC:20161211T163000
DTEND;TZID=UTC:20161211T193000
DTSTAMP:20260423T191210
CREATED:20161016T104119Z
LAST-MODIFIED:20161103T114411Z
UID:1636-1481473800-1481484600@nemzetilovasszinhaz.hu
SUMMARY:lovas Hófehér és hét törpe - Kincsem park
DESCRIPTION:
URL:https://nemzetilovasszinhaz.hu/esemeny/lovas-hofeher-es-het-torpe-kincsem-park-3/
LOCATION:Kincsem Park\, Albertirsai út 2-4.\, Budapest\, 1101\, Magyarország
ATTACH;FMTTYPE=image/jpeg:https://nemzetilovasszinhaz.hu/wp-content/uploads/2016/10/SzigSzin_kat_2016-2017.compressed-page-004-e1710355433495.jpg
END:VEVENT
BEGIN:VEVENT
DTSTART;TZID=UTC:20161229T190000
DTEND;TZID=UTC:20161229T210000
DTSTAMP:20260423T191210
CREATED:20161016T104220Z
LAST-MODIFIED:20161016T104220Z
UID:1638-1483038000-1483045200@nemzetilovasszinhaz.hu
SUMMARY:Előszilveszteri Gála
DESCRIPTION:
URL:https://nemzetilovasszinhaz.hu/esemeny/eloszilveszteri-gala/
LOCATION:Városi Könyvtár és Közösségi Ház\, Tököli út 19.\, Szigetszentmiklós\, 2310\, Magyarország
END:VEVENT
BEGIN:VEVENT
DTSTART;TZID=UTC:20161230T190000
DTEND;TZID=UTC:20161230T210000
DTSTAMP:20260423T191210
CREATED:20161016T104304Z
LAST-MODIFIED:20161016T104304Z
UID:1640-1483124400-1483131600@nemzetilovasszinhaz.hu
SUMMARY:Előszilveszteri Gála
DESCRIPTION:
URL:https://nemzetilovasszinhaz.hu/esemeny/eloszilveszteri-gala-2/
LOCATION:Városi Könyvtár és Közösségi Ház\, Tököli út 19.\, Szigetszentmiklós\, 2310\, Magyarország
END:VEVENT
BEGIN:VEVENT
DTSTART;VALUE=DATE:20161231
DTEND;VALUE=DATE:20170101
DTSTAMP:20260423T191210
CREATED:20161016T104402Z
LAST-MODIFIED:20161016T104402Z
UID:1642-1483142400-1483228799@nemzetilovasszinhaz.hu
SUMMARY:Pintér Tibor és Pápai Kíra
DESCRIPTION:
URL:https://nemzetilovasszinhaz.hu/esemeny/pinter-tibor-es-papai-kira/
LOCATION:SunGarden Wellness és Konferencia Hotel\, Batthyány Lajos u. 24.\, Siófok
END:VEVENT
BEGIN:VEVENT
DTSTART;VALUE=DATE:20161231
DTEND;VALUE=DATE:20170101
DTSTAMP:20260423T191210
CREATED:20161016T104458Z
LAST-MODIFIED:20161016T104458Z
UID:1646-1483142400-1483228799@nemzetilovasszinhaz.hu
SUMMARY:Pintér Tibor és Pápai Kíra
DESCRIPTION:Részletek hamarosan.
URL:https://nemzetilovasszinhaz.hu/esemeny/pinter-tibor-es-papai-kira-2/
LOCATION:Hotel Helikon Keszthely\, Balaton-part 5\, Keszthely
END:VEVENT
BEGIN:VEVENT
DTSTART;TZID=UTC:20170127T190000
DTEND;TZID=UTC:20170127T210000
DTSTAMP:20260423T191210
CREATED:20170110T090149Z
LAST-MODIFIED:20170110T094406Z
UID:1737-1485543600-1485550800@nemzetilovasszinhaz.hu
SUMMARY:János Vitéz
DESCRIPTION:DALJÁTÉK\n\n\n\n\nA János vitéz című családi előadás a paraszt úból huszárrá vált Jancsi mesés kalandjait mutatja be lovas\nüldözésekkel\, nagy harcokkal\, illetve fergeteges látványelemekkel\, különleges zenei virtuozitással\, amelyekkel együtt egyedülálló élményt szeretnénk nyújtani a közönség számára. A szórakozás garantált\, kiváló énekeseink és lovasaink közreműködésével minőségi költészet\, magas színvonalú muzsika és szemet gyönyörködtető látvány várja majd a nézőket. Minden generációnak bátran ajánljuk\, hiszen a veretes huszárruhába öltöztetett János vitéz gurája megdobogtatja az ember szívét\, mert valahol\, mély gyökerekből fakadva a belénk kódolt történelmünk tör a felszínre. \n\n\n\n\n\n\n\n\n\n\n\n\nSzereposztás:\nJános vitéz – Pintér Tibor Iluska – Becz Bernadett Mostoha – Lőrincz Andrea / Papadimitriu Athina Bagó – Buch Tibor / Dancs János Strázsamester – Mohácsi Márk Francia király – Bencze Sándor Francia királylány – Pápai Kíra Csősz – Hábentius György Bartolo – Mohácsi Márk Kisfiú – Biró Bálint/Sipos Balázs Továbbá a Szigetszentmiklósi Sziget Színház musical stúdiósai és táncművészei\, a Nemzeti Lovas Színház lovasai lovasíjász – Katrics Tamás fogathajtó – Borsos Zoltán\nAlkotók:\nÍró – Pető Sándor Zene – Kacsóh Pongrácz Rendező – Pintér Tibor Koreográfus – Bakti Zoltán Díszlet és látvány – Domján Gábor Technikai vezető – Csukay Zoltán
URL:https://nemzetilovasszinhaz.hu/esemeny/janos-vitez/
LOCATION:Kincsem Park\, Albertirsai út 2-4.\, Budapest\, 1101\, Magyarország
ATTACH;FMTTYPE=image/jpeg:https://nemzetilovasszinhaz.hu/wp-content/uploads/2017/01/15732012_1199116880177246_3605804929948996888_o.jpg
END:VEVENT
BEGIN:VEVENT
DTSTART;TZID=UTC:20170128T190000
DTEND;TZID=UTC:20170128T210000
DTSTAMP:20260423T191210
CREATED:20170110T090839Z
LAST-MODIFIED:20170110T094357Z
UID:1740-1485630000-1485637200@nemzetilovasszinhaz.hu
SUMMARY:János vitéz
DESCRIPTION:DALJÁTÉK\n\n\n\n\nA János vitéz című családi előadás a paraszt úból huszárrá vált Jancsi mesés kalandjait mutatja be lovas\nüldözésekkel\, nagy harcokkal\, illetve fergeteges látványelemekkel\, különleges zenei virtuozitással\, amelyekkel együtt egyedülálló élményt szeretnénk nyújtani a közönség számára. A szórakozás garantált\, kiváló énekeseink és lovasaink közreműködésével minőségi költészet\, magas színvonalú muzsika és szemet gyönyörködtető látvány várja majd a nézőket. Minden generációnak bátran ajánljuk\, hiszen a veretes huszárruhába öltöztetett János vitéz gurája megdobogtatja az ember szívét\, mert valahol\, mély gyökerekből fakadva a belénk kódolt történelmünk tör a felszínre. \n\n\n\n\n\n\n\n\n\n\n\n\nSzereposztás:\nJános vitéz – Pintér Tibor Iluska – Becz Bernadett Mostoha – Lőrincz Andrea / Papadimitriu Athina Bagó – Buch Tibor / Dancs János Strázsamester – Mohácsi Márk Francia király – Bencze Sándor Francia királylány – Pápai Kíra Csősz – Hábentius György Bartolo – Mohácsi Márk Kisfiú – Biró Bálint/Sipos Balázs Továbbá a Szigetszentmiklósi Sziget Színház musical stúdiósai és táncművészei\, a Nemzeti Lovas Színház lovasai lovasíjász – Katrics Tamás fogathajtó – Borsos Zoltán\nAlkotók:\nÍró – Pető Sándor Zene – Kacsóh Pongrácz Rendező – Pintér Tibor Koreográfus – Bakti Zoltán Díszlet és látvány – Domján Gábor Technikai vezető – Csukay Zoltán
URL:https://nemzetilovasszinhaz.hu/esemeny/janos-vitez-2/
LOCATION:Kincsem Park\, Albertirsai út 2-4.\, Budapest\, 1101\, Magyarország
ATTACH;FMTTYPE=image/jpeg:https://nemzetilovasszinhaz.hu/wp-content/uploads/2017/01/15732012_1199116880177246_3605804929948996888_o.jpg
END:VEVENT
BEGIN:VEVENT
DTSTART;TZID=UTC:20170129T163000
DTEND;TZID=UTC:20170129T183000
DTSTAMP:20260423T191210
CREATED:20170110T090915Z
LAST-MODIFIED:20170110T094343Z
UID:1742-1485707400-1485714600@nemzetilovasszinhaz.hu
SUMMARY:János vitéz
DESCRIPTION:DALJÁTÉK\n\n\n\n\nA János vitéz című családi előadás a paraszt úból huszárrá vált Jancsi mesés kalandjait mutatja be lovas\nüldözésekkel\, nagy harcokkal\, illetve fergeteges látványelemekkel\, különleges zenei virtuozitással\, amelyekkel együtt egyedülálló élményt szeretnénk nyújtani a közönség számára. A szórakozás garantált\, kiváló énekeseink és lovasaink közreműködésével minőségi költészet\, magas színvonalú muzsika és szemet gyönyörködtető látvány várja majd a nézőket. Minden generációnak bátran ajánljuk\, hiszen a veretes huszárruhába öltöztetett János vitéz gurája megdobogtatja az ember szívét\, mert valahol\, mély gyökerekből fakadva a belénk kódolt történelmünk tör a felszínre. \n\n\n\n\n\n\n\n\n\n\n\n\nSzereposztás: \nJános vitéz – Pintér Tibor Iluska – Becz Bernadett Mostoha – Lőrincz Andrea / Papadimitriu Athina Bagó – Buch Tibor / Dancs János Strázsamester – Mohácsi Márk Francia király – Bencze Sándor Francia királylány – Pápai Kíra Csősz – Hábentius György Bartolo – Mohácsi Márk Kisfiú – Biró Bálint/Sipos Balázs Továbbá a Szigetszentmiklósi Sziget Színház musical stúdiósai és táncművészei\, a Nemzeti Lovas Színház lovasai lovasíjász – Katrics Tamás fogathajtó – Borsos Zoltán \nAlkotók: \nÍró – Pető Sándor Zene – Kacsóh Pongrácz Rendező – Pintér Tibor Koreográfus – Bakti Zoltán Díszlet és látvány – Domján Gábor Technikai vezető – Csukay Zoltán
URL:https://nemzetilovasszinhaz.hu/esemeny/janos-vitez-3/
LOCATION:Kincsem Park\, Albertirsai út 2-4.\, Budapest\, 1101\, Magyarország
ATTACH;FMTTYPE=image/jpeg:https://nemzetilovasszinhaz.hu/wp-content/uploads/2017/01/15732012_1199116880177246_3605804929948996888_o.jpg
END:VEVENT
BEGIN:VEVENT
DTSTART;TZID=UTC:20170217T190000
DTEND;TZID=UTC:20170217T210000
DTSTAMP:20260423T191210
CREATED:20170110T095716Z
LAST-MODIFIED:20170110T095716Z
UID:1754-1487358000-1487365200@nemzetilovasszinhaz.hu
SUMMARY:Trója
DESCRIPTION:Az ókori legenda kel életre ebben a két felvonásos musicalben. Szerelem\, harc\, büszkeség\, bátorság és minden nagy érzés\, mely a világot mozgatja\, megjelenik a produkcióban kitűnő hangok tolmácsolásában. Az ókor leghatalmasabb és legtekintélyesebb hadvezérét\, Akhilleuszt az örök hírnév iránti csillapíthatatlan vágya veszi rá\, hogy Trója alá vonuljon Agamemnón zászlaja alatt. de végül a szerelem lesz az\, ami meghatározza sorsát. Két civilizáció fog összecsapni a becsületért és a hatalomért. Ezrek fognak elesni a dicsőségért vívott harcban. Egy egész nép fog eltűnni a föld színéről – a szerelemért. Természetesen lóhátról… \nFőbb szerepekben: \nPintér Tibor\, Mohácsi Márk\, Dancs János\, Papadimitriu Athina / Lőrincz Andrea\, Becz Bernadett\, Makrai Pál\, Pápai Kíra\, Ambrus Izabella \nZeneszerzők:  Szűts István és Koltay Gergely \nRendező: Pintér Tibor \nKoreográfus: Nádasdy András és Patuzzi Mónika \nDíszlet és látvány: Domján Gábor \nTechnikai vezető: Csukay Zoltán
URL:https://nemzetilovasszinhaz.hu/esemeny/troja/
LOCATION:Kincsem Park\, Albertirsai út 2-4.\, Budapest\, 1101\, Magyarország
END:VEVENT
BEGIN:VEVENT
DTSTART;TZID=UTC:20170218T190000
DTEND;TZID=UTC:20170218T210000
DTSTAMP:20260423T191210
CREATED:20170110T095753Z
LAST-MODIFIED:20170110T095753Z
UID:1758-1487444400-1487451600@nemzetilovasszinhaz.hu
SUMMARY:Trója
DESCRIPTION:Az ókori legenda kel életre ebben a két felvonásos musicalben. Szerelem\, harc\, büszkeség\, bátorság és minden nagy érzés\, mely a világot mozgatja\, megjelenik a produkcióban kitűnő hangok tolmácsolásában. Az ókor leghatalmasabb és legtekintélyesebb hadvezérét\, Akhilleuszt az örök hírnév iránti csillapíthatatlan vágya veszi rá\, hogy Trója alá vonuljon Agamemnón zászlaja alatt. de végül a szerelem lesz az\, ami meghatározza sorsát. Két civilizáció fog összecsapni a becsületért és a hatalomért. Ezrek fognak elesni a dicsőségért vívott harcban. Egy egész nép fog eltűnni a föld színéről – a szerelemért. Természetesen lóhátról… \nFőbb szerepekben: \nPintér Tibor\, Mohácsi Márk\, Dancs János\, Papadimitriu Athina / Lőrincz Andrea\, Becz Bernadett\, Makrai Pál\, Pápai Kíra\, Ambrus Izabella \nZeneszerzők:  Szűts István és Koltay Gergely \nRendező: Pintér Tibor \nKoreográfus: Nádasdy András és Patuzzi Mónika \nDíszlet és látvány: Domján Gábor \nTechnikai vezető: Csukay Zoltán
URL:https://nemzetilovasszinhaz.hu/esemeny/troja-2/
LOCATION:Kincsem Park\, Albertirsai út 2-4.\, Budapest\, 1101\, Magyarország
END:VEVENT
BEGIN:VEVENT
DTSTART;TZID=UTC:20170219T163000
DTEND;TZID=UTC:20170219T183000
DTSTAMP:20260423T191210
CREATED:20170110T095901Z
LAST-MODIFIED:20170110T095901Z
UID:1760-1487521800-1487529000@nemzetilovasszinhaz.hu
SUMMARY:Trója
DESCRIPTION:Az ókori legenda kel életre ebben a két felvonásos musicalben. Szerelem\, harc\, büszkeség\, bátorság és minden nagy érzés\, mely a világot mozgatja\, megjelenik a produkcióban kitűnő hangok tolmácsolásában. Az ókor leghatalmasabb és legtekintélyesebb hadvezérét\, Akhilleuszt az örök hírnév iránti csillapíthatatlan vágya veszi rá\, hogy Trója alá vonuljon Agamemnón zászlaja alatt. de végül a szerelem lesz az\, ami meghatározza sorsát. Két civilizáció fog összecsapni a becsületért és a hatalomért. Ezrek fognak elesni a dicsőségért vívott harcban. Egy egész nép fog eltűnni a föld színéről – a szerelemért. Természetesen lóhátról… \nFőbb szerepekben: \nPintér Tibor\, Mohácsi Márk\, Dancs János\, Papadimitriu Athina / Lőrincz Andrea\, Becz Bernadett\, Makrai Pál\, Pápai Kíra\, Ambrus Izabella \nZeneszerzők:  Szűts István és Koltay Gergely \nRendező: Pintér Tibor \nKoreográfus: Nádasdy András és Patuzzi Mónika \nDíszlet és látvány: Domján Gábor \nTechnikai vezető: Csukay Zoltán
URL:https://nemzetilovasszinhaz.hu/esemeny/troja-3/
LOCATION:Kincsem Park\, Albertirsai út 2-4.\, Budapest\, 1101\, Magyarország
END:VEVENT
BEGIN:VEVENT
DTSTART;TZID=UTC:20170225T190000
DTEND;TZID=UTC:20170225T210000
DTSTAMP:20260423T191210
CREATED:20170110T100014Z
LAST-MODIFIED:20170110T100014Z
UID:1762-1488049200-1488056400@nemzetilovasszinhaz.hu
SUMMARY:EDDA MUSICAL: A KÖR
DESCRIPTION:A 2013 májusában színpadra állított musical az EDDA Művek 26 slágerét szólaltatja meg\, egy elképesztően jó forgatókönyvvel megfűszerezve. „A KÖR” alkotói igyekeztek szórakoztató\, érdekfeszítő\, humorral és életigenléssel teli produkciót létrehozni. \nPataky Attila\, az EDDA MŰVEK énekese a megvalósításhoz Pintér Tibor színész\, rendező által vezetett Szigetszentmiklósi Sziget Színház társulatát választotta. \nA darab premierje 2013 májusában volt Budapesten a Ram Colosseumban\, majd ezt követően szeptemberben egy országos körút vette kezdetét és azóta is töretlenül\, teltház előtt játszódik. \n„Az életünk egy kör\, amely egyszer bezárul\, de addig minden pillanatát élvezni kell. A musical szereplői menekülve a társadalmi problémák és feszültségek elől a szerelemben\, a szabadságban és a rockban keresnek menedéket\, boldogságot. A történet egy külvárosi mese\, ahol főhősünk egy szerelmi csalódás miatt elindul a nagyvilágba\, abban bízva\, hogy megtalálja amit keres: az igazi szerelmet\, a sikert és a boldogságot. De nem csak jó barátok\, hanem „rosszak” is keresztezik útját. Vajon a hit és a szerelem elég erőt adnak-e neki\, hogy győzedelmeskedni tudjon a gonosz elleni küzdelemben. Te\, mindennap dönthetsz jó és rossz között!” \nFőbb szerepekben: \nPintér Tibor\, Koós Réka / Becz Bernadett\, Tóth Attila / Dancs János\, Ilyés Jenifer\, Makrai Pál / Dancs János\, Lőrincz Andrea\, Mohácsi Márk\, Bencze Sándor\, Pápai Kíra \nvalamint a Szigetszentmiklósi Sziget Színház és a Nemzeti Lovas Színház tánckara \nAlkotók \nDalszövegíró: Pataky Attila \nZeneszerző: Gömöry Zsolt \nSzövegkönyv: Oravecz János \nRendező: Pintér Tibor \nProducer: Pintér Tibor \nKoreográfus: Nádasdy András és Patuzzi Mónika \nDíszlet és látvány: Domján Gábor \nTechnikai vezető: Csukay Zoltán
URL:https://nemzetilovasszinhaz.hu/esemeny/edda-musical-a-kor-3/
LOCATION:Kincsem Park\, Albertirsai út 2-4.\, Budapest\, 1101\, Magyarország
END:VEVENT
BEGIN:VEVENT
DTSTART;TZID=UTC:20170310T190000
DTEND;TZID=UTC:20170310T210000
DTSTAMP:20260423T191210
CREATED:20170115T064705Z
LAST-MODIFIED:20170308T112942Z
UID:1795-1489172400-1489179600@nemzetilovasszinhaz.hu
SUMMARY:Mátyás az igazságos
DESCRIPTION:
URL:https://nemzetilovasszinhaz.hu/esemeny/matyas-az-igazsagos-2/
LOCATION:Kincsem Park\, Albertirsai út 2-4.\, Budapest\, 1101\, Magyarország
ATTACH;FMTTYPE=image/png:https://nemzetilovasszinhaz.hu/wp-content/uploads/2017/01/matyas-az-igazsagos.png
END:VEVENT
BEGIN:VEVENT
DTSTART;TZID=UTC:20170311T190000
DTEND;TZID=UTC:20170311T210000
DTSTAMP:20260423T191210
CREATED:20170115T065227Z
LAST-MODIFIED:20170308T113009Z
UID:1800-1489258800-1489266000@nemzetilovasszinhaz.hu
SUMMARY:Mátyás az igazságos
DESCRIPTION:
URL:https://nemzetilovasszinhaz.hu/esemeny/matyas-az-igazsagos-3/
LOCATION:Kincsem Park\, Albertirsai út 2-4.\, Budapest\, 1101\, Magyarország
ATTACH;FMTTYPE=image/png:https://nemzetilovasszinhaz.hu/wp-content/uploads/2017/01/matyas-az-igazsagos.png
END:VEVENT
BEGIN:VEVENT
DTSTART;TZID=UTC:20170312T163000
DTEND;TZID=UTC:20170312T183000
DTSTAMP:20260423T191210
CREATED:20170115T065814Z
LAST-MODIFIED:20170308T095731Z
UID:1807-1489336200-1489343400@nemzetilovasszinhaz.hu
SUMMARY:Mátyás az igazságos
DESCRIPTION:
URL:https://nemzetilovasszinhaz.hu/esemeny/matyas-az-igazsagos-4/
LOCATION:Kincsem Park\, Albertirsai út 2-4.\, Budapest\, 1101\, Magyarország
ATTACH;FMTTYPE=image/png:https://nemzetilovasszinhaz.hu/wp-content/uploads/2017/01/matyas-az-igazsagos.png
END:VEVENT
BEGIN:VEVENT
DTSTART;TZID=UTC:20170315T160000
DTEND;TZID=UTC:20170315T180000
DTSTAMP:20260423T191210
CREATED:20170115T163607Z
LAST-MODIFIED:20170308T100059Z
UID:1815-1489593600-1489600800@nemzetilovasszinhaz.hu
SUMMARY:A költő ha visszatér
DESCRIPTION:További információ hamarosan!
URL:https://nemzetilovasszinhaz.hu/esemeny/a-kolto-ha-visszater/
LOCATION:Kincsem Park\, Albertirsai út 2-4.\, Budapest\, 1101\, Magyarország
END:VEVENT
BEGIN:VEVENT
DTSTART;TZID=UTC:20170326T170000
DTEND;TZID=UTC:20170326T190000
DTSTAMP:20260423T191210
CREATED:20170324T091534Z
LAST-MODIFIED:20170324T091534Z
UID:2224-1490547600-1490554800@nemzetilovasszinhaz.hu
SUMMARY:Pintér Tibor- Máté Péter emlékest
DESCRIPTION:
URL:https://nemzetilovasszinhaz.hu/esemeny/pinter-tibor-mate-peter-emlekest/
LOCATION:Szigetszentmiklós\, VK
END:VEVENT
BEGIN:VEVENT
DTSTART;TZID=UTC:20170408T190000
DTEND;TZID=UTC:20170408T210000
DTSTAMP:20260423T191210
CREATED:20170324T093235Z
LAST-MODIFIED:20170501T064556Z
UID:2226-1491678000-1491685200@nemzetilovasszinhaz.hu
SUMMARY:Dózsa György\, a nép fia - Kapuvár
DESCRIPTION:CSALÁDI MUSICAL\n\n\n\n\n“De szellemét a tűz nem égeté meg\, Mert az maga tűz… úgy vigyázzatok: Ismét pusztíthat e láng rajtatok!” \nAz előadás rengeteg izgalmat\, látványt és élményt tartogat a közönség számára\, akik egy újabb egyedülálló produkciónak lehetnek tanúi. Hősiesség\, bátorság és lovagi erények keltik életre a történelem egy újabb nagy alakját. Dózsa György személyisége\, parasztokból álló kaszákkal\, kapákkal harcoló „katonái”\, a táncosok színes forgataga lélegzetelállító show műsorral és látványos csatajelenetekkel ejtenek minket ámulatba. A történelem egy újabb részlete\, melyben fülbemászó dallamok\, valamint kacagtató és csöppet sem vicces csatajelenetek váltják egymást. Egy kicsik és nagyok számára is üzenetet hordozó történet. \nDózsa György – Pintér Tibor \nBáthory – Buch Tibor \nDózsa Gergely – Bencze Sándor Dózsa György felesége – Lőrincz Andrea  Dózsa György fia – Bíró Bálint \nUlászló király – Berecz György Halálasszony – Papadimitriu Athina Báthory felesége – Illyés Jennifer Bíboros – Kaszás Géza / Bencze Sándor Lőrincz barát – Várfi Sándor \nLovas futár – Mohácsi Márk \nCsáky Miklós – Dancs János \nTovábbá a Szigetszentmiklósi  Sziget Színház musical stúdiósai  és táncművészei\, a Nemzeti  Lovas Színház lovasai
URL:https://nemzetilovasszinhaz.hu/esemeny/dozsa-gyorgy-a-nep-fia-kapuvar/
LOCATION:Kapuvár\, Győr-Moson-Sopron megye\, Magyarország
ATTACH;FMTTYPE=image/png:https://nemzetilovasszinhaz.hu/wp-content/uploads/2017/03/dozsa-gyorgy-a-nep-fia.png
END:VEVENT
BEGIN:VEVENT
DTSTART;TZID=UTC:20170409T170000
DTEND;TZID=UTC:20170409T190000
DTSTAMP:20260423T191210
CREATED:20170324T095040Z
LAST-MODIFIED:20170501T064625Z
UID:2232-1491757200-1491764400@nemzetilovasszinhaz.hu
SUMMARY:Hófehér és a hét törpe - Szigetszentmiklós
DESCRIPTION:Valamikor réges-régen egy királynő ült az ablakánál\, varrogatott és közben nézte\, hogy hullik a hó. Megszúrta az ujját\, és pár csepp vére az ablakpárkányon gyűlt hóra esett. Míg a vért nézte a havon\, azt kívánta\, hogy bárcsak olyan gyermeke születne\, akinek bőre fehér\, mint a hó\, az ajkai pirosak\, mint a vér\, és a haja fekete\, akár az ében. Nemsokára aztán a királynő világra is hozott egy leányt\, akinek a bőre fehér volt\, az ajkai vörösek s a haja ébenfekete. A kis hercegnőt Hófehérkének nevezték el. A világhírű Grimm-mese kel életre musical formájában\, kicsit új köntöst kapva a nagy Hollywood-i sikerprodukciók mintáját követve. Részesei lehetünk egy mesés történetnek\, ahol a jó méltán nyeri el a boldog befejezést\, a lélek tisztasága és a belső értékek győzedelmeskednek. \nHófehérke – Pápai Kíra \nHerceg – Pintér Tibor \nMostoha – Szabó Dorottya/Papadimitriu Athina \nTükör – Lőrincz Andrea \nVadász – Bencze Sándor \nBányafőnök – Várfi Sándor \nTudor – Mohácsi Márk \nVidor – Biró Bálint \nSzende – Henczi Emma \nSzundi – Ambrus Izabella \nMorgó – Becz Bernadett \nHapci – Bányavölgyi Donáta \nKuka – Wieszt Mercédesz/Sipos Balázs \nFarkasok – Katrics Tamás\, Bakos Attila \nKirály – Katrics Tamás \nKirályné – Kristóf Cintiai
URL:https://nemzetilovasszinhaz.hu/esemeny/hofeher-es-a-het-torpe-szigetszentmiklos/
LOCATION:Szebeni út\, Szigetszentmiklós\, Magyarország
END:VEVENT
BEGIN:VEVENT
DTSTART;TZID=UTC:20170411T180000
DTEND;TZID=UTC:20170411T200000
DTSTAMP:20260423T191210
CREATED:20170324T095406Z
LAST-MODIFIED:20170501T064331Z
UID:2235-1491933600-1491940800@nemzetilovasszinhaz.hu
SUMMARY:Máté Péter - Pintér Tibor önálló est - Kunszentmiklós
DESCRIPTION:
URL:https://nemzetilovasszinhaz.hu/esemeny/mate-peter-pinter-tibor-onallo-est-kunszentmiklos/
LOCATION:Kunszentmiklós\, Kunszentmiklós\, Magyarország
END:VEVENT
BEGIN:VEVENT
DTSTART;TZID=UTC:20170428T190000
DTEND;TZID=UTC:20170428T210000
DTSTAMP:20260423T191210
CREATED:20170115T163700Z
LAST-MODIFIED:20170501T064100Z
UID:1817-1493406000-1493413200@nemzetilovasszinhaz.hu
SUMMARY:Honfoglalás - Kincsem Park\, Budapest
DESCRIPTION:
URL:https://nemzetilovasszinhaz.hu/esemeny/honfoglalas-kincsem-park-budapest-2/
LOCATION:Kincsem Park\, Albertirsai út 2-4.\, Budapest\, 1101\, Magyarország
END:VEVENT
BEGIN:VEVENT
DTSTART;TZID=UTC:20170429T190000
DTEND;TZID=UTC:20170429T210000
DTSTAMP:20260423T191210
CREATED:20170115T163733Z
LAST-MODIFIED:20170501T064311Z
UID:1819-1493492400-1493499600@nemzetilovasszinhaz.hu
SUMMARY:Honfoglalás - Kincsem Park\, Budapest
DESCRIPTION:
URL:https://nemzetilovasszinhaz.hu/esemeny/honfoglalas-kincsem-park-budapest-3/
LOCATION:Kincsem Park\, Albertirsai út 2-4.\, Budapest\, 1101\, Magyarország
ATTACH;FMTTYPE=image/png:https://nemzetilovasszinhaz.hu/wp-content/uploads/2017/03/honfoglalas.png
END:VEVENT
BEGIN:VEVENT
DTSTART;TZID=UTC:20170430T190000
DTEND;TZID=UTC:20170430T210000
DTSTAMP:20260423T191210
CREATED:20170405T083356Z
LAST-MODIFIED:20170501T063444Z
UID:2349-1493578800-1493586000@nemzetilovasszinhaz.hu
SUMMARY:Honfoglalás - Kincsem Park\, Budapest
DESCRIPTION:
URL:https://nemzetilovasszinhaz.hu/esemeny/honfoglalas-kincsem-park-budapest/
LOCATION:Kincsem Park\, Albertirsai út 2-4.\, Budapest\, 1101\, Magyarország
END:VEVENT
BEGIN:VEVENT
DTSTART;TZID=UTC:20170514T180000
DTEND;TZID=UTC:20170514T200000
DTSTAMP:20260423T191210
CREATED:20170324T102134Z
LAST-MODIFIED:20170501T063828Z
UID:2246-1494784800-1494792000@nemzetilovasszinhaz.hu
SUMMARY:Edda - Kör - Kisújszállás
DESCRIPTION:
URL:https://nemzetilovasszinhaz.hu/esemeny/edda-kor-kisujszallas/
LOCATION:Kisújszállás
END:VEVENT
BEGIN:VEVENT
DTSTART;TZID=UTC:20170520T140000
DTEND;TZID=UTC:20170520T160000
DTSTAMP:20260423T191210
CREATED:20170324T102737Z
LAST-MODIFIED:20170501T064047Z
UID:2251-1495288800-1495296000@nemzetilovasszinhaz.hu
SUMMARY:Musicalek\, operettek lóhátról - Alap
DESCRIPTION:
URL:https://nemzetilovasszinhaz.hu/esemeny/musicalek-operettek-lohatrol-alap/
LOCATION:Alap\, Alap\, Magyarország
END:VEVENT
BEGIN:VEVENT
DTSTART;TZID=UTC:20170526T190000
DTEND;TZID=UTC:20170526T210000
DTSTAMP:20260423T191210
CREATED:20170324T102938Z
LAST-MODIFIED:20170501T063650Z
UID:2254-1495825200-1495832400@nemzetilovasszinhaz.hu
SUMMARY:Mágnás Miska - Kincsem Park\, Budapest
DESCRIPTION:
URL:https://nemzetilovasszinhaz.hu/esemeny/magnas-miska-kincsem-park-budapest-2/
LOCATION:Kincsem Park\, Albertirsai út 2-4.\, Budapest\, 1101\, Magyarország
ATTACH;FMTTYPE=image/png:https://nemzetilovasszinhaz.hu/wp-content/uploads/2017/03/magnas-miska.png
END:VEVENT
END:VCALENDAR