BEGIN:VCALENDAR
VERSION:2.0
PRODID:-//Nemzeti Lovas Színház - ECPv6.14.2//NONSGML v1.0//EN
CALSCALE:GREGORIAN
METHOD:PUBLISH
X-ORIGINAL-URL:https://nemzetilovasszinhaz.hu
X-WR-CALDESC:Események Nemzeti Lovas Színház
REFRESH-INTERVAL;VALUE=DURATION:PT1H
X-Robots-Tag:noindex
X-PUBLISHED-TTL:PT1H
BEGIN:VTIMEZONE
TZID:UTC
BEGIN:STANDARD
TZOFFSETFROM:+0000
TZOFFSETTO:+0000
TZNAME:UTC
DTSTART:20170101T000000
END:STANDARD
END:VTIMEZONE
BEGIN:VEVENT
DTSTART;TZID=UTC:20170714T190000
DTEND;TZID=UTC:20170714T210000
DTSTAMP:20260423T094546
CREATED:20170324T111013Z
LAST-MODIFIED:20170530T110041Z
UID:2280-1500058800-1500066000@nemzetilovasszinhaz.hu
SUMMARY:Gladiátor - Kincsem Park\, Budapest / lovas előadás
DESCRIPTION:A musical a cím ígéretéhez híven a római birodalom egyik izgalmas időszakát dolgozza fel\, de az azonos című filmtől teljesen eltérő történelmi figurákkal és cselekménnyel. Mészáros László és Galambos Attila új történelmi musicale Nikomédiában\, a Római Birodalom keleti fővárosában játszódik. Az ókori történet monumentális produkcióként elevenedik meg\, igazi sztárszereposztással. A Gladiátor musical története a 3. század meghatározó történelmi figuráit (Diocletianus császár\, Szent György lovag) és egy elképzelt szerelmes pár sorsát mutatja be. \nDiocletianus császár – Sasvári Sándor \nAlexandra császárné – Papadimitriu Athina \nRoric\, germán rabszolgából lett gladiátor – Pintér Tibor \nEdila\, germán rabszolgából lett udvarhölgy a császárné szolgálatában – Pápai Kíra \nAppius Cornelius Metella\, kancellár – Bencze Sándor \nGeorgius\, római katona – Sipos Imre \nCarnifex – Mészáros Árpád Zsolt \nAmicus – Mohácsi Márk \nCato – Várfi Sándor \nUtazó – Lőrincz Andrea \nTovábbá a Szigetszentmiklósi Sziget Színház musical stúdiósai és táncművészei\, a Nemzeti Lovas Színház lovasai
URL:https://nemzetilovasszinhaz.hu/esemeny/gladiator-kincsem-park-budapest/
LOCATION:Kincsem Park\, Albertirsai út 2-4.\, Budapest\, 1101\, Magyarország
END:VEVENT
BEGIN:VEVENT
DTSTART;TZID=UTC:20170715T190000
DTEND;TZID=UTC:20170715T210000
DTSTAMP:20260423T094546
CREATED:20170324T111316Z
LAST-MODIFIED:20170530T110050Z
UID:2282-1500145200-1500152400@nemzetilovasszinhaz.hu
SUMMARY:Gladiátor - Kincsem Park\, Budapest / lovas előadás
DESCRIPTION:A musical a cím ígéretéhez híven a római birodalom egyik izgalmas időszakát dolgozza fel\, de az azonos című filmtől teljesen eltérő történelmi figurákkal és cselekménnyel. Mészáros László és Galambos Attila új történelmi musicale Nikomédiában\, a Római Birodalom keleti fővárosában játszódik. Az ókori történet monumentális produkcióként elevenedik meg\, igazi sztárszereposztással. A Gladiátor musical története a 3. század meghatározó történelmi figuráit (Diocletianus császár\, Szent György lovag) és egy elképzelt szerelmes pár sorsát mutatja be. \nDiocletianus császár – Sasvári Sándor \nAlexandra császárné – Papadimitriu Athina \nRoric\, germán rabszolgából lett gladiátor – Pintér Tibor \nEdila\, germán rabszolgából lett udvarhölgy a császárné szolgálatában – Pápai Kíra \nAppius Cornelius Metella\, kancellár – Bencze Sándor \nGeorgius\, római katona – Sipos Imre \nCarnifex – Mészáros Árpád Zsolt \nAmicus – Mohácsi Márk \nCato – Várfi Sándor \nUtazó – Lőrincz Andrea \nTovábbá a Szigetszentmiklósi Sziget Színház musical stúdiósai és táncművészei\, a Nemzeti Lovas Színház lovasai
URL:https://nemzetilovasszinhaz.hu/esemeny/gladiator-kincsem-park-budapest-2/
LOCATION:Kincsem Park\, Albertirsai út 2-4.\, Budapest\, 1101\, Magyarország
END:VEVENT
BEGIN:VEVENT
DTSTART;TZID=UTC:20170716T170000
DTEND;TZID=UTC:20170716T190000
DTSTAMP:20260423T094546
CREATED:20170324T111418Z
LAST-MODIFIED:20170530T110100Z
UID:2284-1500224400-1500231600@nemzetilovasszinhaz.hu
SUMMARY:Gladiátor - Kincsem Park\, Budapest / lovas előadás
DESCRIPTION:A musical a cím ígéretéhez híven a római birodalom egyik izgalmas időszakát dolgozza fel\, de az azonos című filmtől teljesen eltérő történelmi figurákkal és cselekménnyel. Mészáros László és Galambos Attila új történelmi musicale Nikomédiában\, a Római Birodalom keleti fővárosában játszódik. Az ókori történet monumentális produkcióként elevenedik meg\, igazi sztárszereposztással. A Gladiátor musical története a 3. század meghatározó történelmi figuráit (Diocletianus császár\, Szent György lovag) és egy elképzelt szerelmes pár sorsát mutatja be. \nDiocletianus császár – Sasvári Sándor \nAlexandra császárné – Papadimitriu Athina \nRoric\, germán rabszolgából lett gladiátor – Pintér Tibor \nEdila\, germán rabszolgából lett udvarhölgy a császárné szolgálatában – Pápai Kíra \nAppius Cornelius Metella\, kancellár – Bencze Sándor \nGeorgius\, római katona – Sipos Imre \nCarnifex – Mészáros Árpád Zsolt \nAmicus – Mohácsi Márk \nCato – Várfi Sándor \nUtazó – Lőrincz Andrea \nTovábbá a Szigetszentmiklósi Sziget Színház musical stúdiósai és táncművészei\, a Nemzeti Lovas Színház lovasai
URL:https://nemzetilovasszinhaz.hu/esemeny/gladiator-kincsem-park-budapest-3/
LOCATION:Kincsem Park\, Albertirsai út 2-4.\, Budapest\, 1101\, Magyarország
END:VEVENT
BEGIN:VEVENT
DTSTART;TZID=UTC:20170722T200000
DTEND;TZID=UTC:20170722T220000
DTSTAMP:20260423T094546
CREATED:20170324T111558Z
LAST-MODIFIED:20170530T110116Z
UID:2286-1500753600-1500760800@nemzetilovasszinhaz.hu
SUMMARY:A fekete álarcos lovag – Bikal / lovas előadás
DESCRIPTION:Megannyi történet\, szerelem és kaland. Ki ne ismerné az álarcos jótevő lovagot? Aki elvesz a zsarnokoktól és ad a szegényeknek. Aki Z betűt karcol a falba\, és akitől minden nő elalél. A Nemzeti Lovas Színház mindenki által ismert slágerek segítségével kelti életre a feketébe öltözött\, fekete lovon vágtató hőst\, hogy mindenkit elvarázsoljon\, és az egész családnak kellemes és izgalmas kikapcsolódást nyújtson.
URL:https://nemzetilovasszinhaz.hu/esemeny/alarcos-lovag-bikal-4/
LOCATION:Bikal\, Bikal\, Magyarország
END:VEVENT
BEGIN:VEVENT
DTSTART;TZID=UTC:20170723T203000
DTEND;TZID=UTC:20170723T230000
DTSTAMP:20260423T094546
CREATED:20170719T080858Z
LAST-MODIFIED:20170719T081717Z
UID:2616-1500841800-1500850800@nemzetilovasszinhaz.hu
SUMMARY:Rózsa Sándor\, az alföldi betyár – rockopera/Mórahalom
DESCRIPTION:
URL:https://nemzetilovasszinhaz.hu/esemeny/rozsa-sandor-az-alfoldi-betyar-rockopera/
LOCATION:Mórahalom – Patkó Lovas Színház\, Patkó Lovas Színház\, Mórahalom\, Csongrád\, Magyarország
ATTACH;FMTTYPE=image/jpeg:https://nemzetilovasszinhaz.hu/wp-content/uploads/2017/07/pinte383.jpg
END:VEVENT
BEGIN:VEVENT
DTSTART;TZID=UTC:20170724T203000
DTEND;TZID=UTC:20170724T230000
DTSTAMP:20260423T094546
CREATED:20170719T081225Z
LAST-MODIFIED:20170719T081657Z
UID:2619-1500928200-1500937200@nemzetilovasszinhaz.hu
SUMMARY:Rózsa Sándor\, az alföldi betyár – rockopera/Mórahalom
DESCRIPTION:
URL:https://nemzetilovasszinhaz.hu/esemeny/rozsa-sandor-az-alfoldi-betyar-rockopera-2/
LOCATION:Mórahalom – Patkó Lovas Színház\, Patkó Lovas Színház\, Mórahalom\, Csongrád\, Magyarország
ATTACH;FMTTYPE=image/jpeg:https://nemzetilovasszinhaz.hu/wp-content/uploads/2017/07/pinte383.jpg
END:VEVENT
BEGIN:VEVENT
DTSTART;VALUE=DATE:20170725
DTEND;VALUE=DATE:20170728
DTSTAMP:20260423T094546
CREATED:20170324T112210Z
LAST-MODIFIED:20170501T062757Z
UID:2289-1500940800-1501199999@nemzetilovasszinhaz.hu
SUMMARY:Lovas tábor - Mórahalom
DESCRIPTION:Lovas tábor
URL:https://nemzetilovasszinhaz.hu/esemeny/lovas-tabor-morahalom/
LOCATION:Mórahalom – Patkó Lovas Színház\, Patkó Lovas Színház\, Mórahalom\, Csongrád\, Magyarország
ATTACH;FMTTYPE=image/jpeg:https://nemzetilovasszinhaz.hu/wp-content/uploads/2017/03/C16AF69CB1FE99D880E9375D38580732.jpg
END:VEVENT
BEGIN:VEVENT
DTSTART;TZID=UTC:20170728T200000
DTEND;TZID=UTC:20170728T230000
DTSTAMP:20260423T094546
CREATED:20170324T112731Z
LAST-MODIFIED:20170501T064936Z
UID:2294-1501272000-1501282800@nemzetilovasszinhaz.hu
SUMMARY:Edda - Kör - Bikal
DESCRIPTION:
URL:https://nemzetilovasszinhaz.hu/esemeny/edda-kor-bikal/
LOCATION:Bikal\, Bikal\, Magyarország
END:VEVENT
BEGIN:VEVENT
DTSTART;TZID=UTC:20170729T203000
DTEND;TZID=UTC:20170729T223000
DTSTAMP:20260423T094546
CREATED:20170324T112502Z
LAST-MODIFIED:20170530T110144Z
UID:2292-1501360200-1501367400@nemzetilovasszinhaz.hu
SUMMARY:Hófehér és a hét törpe - Mórahalom / lovas előadás
DESCRIPTION:Valamikor réges-régen egy királynő ült az ablakánál\, varrogatott és közben nézte\, hogy hullik a hó. Megszúrta az ujját\, és pár csepp vére az ablakpárkányon gyűlt hóra esett. Míg a vért nézte a havon\, azt kívánta\, hogy bárcsak olyan gyermeke születne\, akinek bőre fehér\, mint a hó\, az ajkai pirosak\, mint a vér\, és a haja fekete\, akár az ében. Nemsokára aztán a királynő világra is hozott egy leányt\, akinek a bőre fehér volt\, az ajkai vörösek s a haja ébenfekete. A kis hercegnőt Hófehérkének nevezték el. A világhírű Grimm-mese kel életre musical formájában\, kicsit új köntöst kapva a nagy Hollywood-i sikerprodukciók mintáját követve. Részesei lehetünk egy mesés történetnek\, ahol a jó méltán nyeri el a boldog befejezést\, a lélek tisztasága és a belső értékek győzedelmeskednek. \nHófehérke – Pápai Kíra \nHerceg – Pintér Tibor \nMostoha – Szabó Dorottya/Papadimitriu Athina \nTükör – Lőrincz Andrea \nVadász – Bencze Sándor \nBányafőnök – Várfi Sándor \nTudor – Mohácsi Márk \nVidor – Biró Bálint \nSzende – Henczi Emma \nSzundi – Ambrus Izabella \nMorgó – Becz Bernadett \nHapci – Bányavölgyi Donáta \nKuka – Wieszt Mercédesz/Sipos Balázs \nFarkasok – Katrics Tamás\, Bakos Attila \nKirály – Katrics Tamás \nKirályné – Kristóf Cintiai
URL:https://nemzetilovasszinhaz.hu/esemeny/hofeher-es-a-het-torpe-morahalom/
LOCATION:Mórahalom – Patkó Lovas Színház\, Patkó Lovas Színház\, Mórahalom\, Csongrád\, Magyarország
END:VEVENT
BEGIN:VEVENT
DTSTART;TZID=UTC:20170730T203000
DTEND;TZID=UTC:20170730T223000
DTSTAMP:20260423T094546
CREATED:20170324T112918Z
LAST-MODIFIED:20170530T110211Z
UID:2296-1501446600-1501453800@nemzetilovasszinhaz.hu
SUMMARY:Mágnás Miska - Mórahalom/ lovas előadás
DESCRIPTION:
URL:https://nemzetilovasszinhaz.hu/esemeny/magnas-miska-morahalom/
LOCATION:Mórahalom – Patkó Lovas Színház\, Patkó Lovas Színház\, Mórahalom\, Csongrád\, Magyarország
ATTACH;FMTTYPE=image/png:https://nemzetilovasszinhaz.hu/wp-content/uploads/2017/03/magnas-miska.png
END:VEVENT
BEGIN:VEVENT
DTSTART;TZID=UTC:20170805T200000
DTEND;TZID=UTC:20170805T220000
DTSTAMP:20260423T094546
CREATED:20170324T113054Z
LAST-MODIFIED:20170530T110240Z
UID:2298-1501963200-1501970400@nemzetilovasszinhaz.hu
SUMMARY:A fekete álarcos lovag – Bikal / lovas előadás
DESCRIPTION:Megannyi történet\, szerelem és kaland. Ki ne ismerné az álarcos jótevő lovagot? Aki elvesz a zsarnokoktól és ad a szegényeknek. Aki Z betűt karcol a falba\, és akitől minden nő elalél. A Nemzeti Lovas Színház mindenki által ismert slágerek segítségével kelti életre a feketébe öltözött\, fekete lovon vágtató hőst\, hogy mindenkit elvarázsoljon\, és az egész családnak kellemes és izgalmas kikapcsolódást nyújtson.
URL:https://nemzetilovasszinhaz.hu/esemeny/alarcos-lovag-bikal-3/
LOCATION:Bikal\, Bikal\, Magyarország
END:VEVENT
BEGIN:VEVENT
DTSTART;TZID=UTC:20170811T210000
DTEND;TZID=UTC:20170811T230000
DTSTAMP:20260423T094546
CREATED:20170530T111135Z
LAST-MODIFIED:20170530T111135Z
UID:2595-1502485200-1502492400@nemzetilovasszinhaz.hu
SUMMARY:Trója - Szilvásvárad / lovas előadás
DESCRIPTION:
URL:https://nemzetilovasszinhaz.hu/esemeny/troja-szilvasvarad-lovas-eloadas/
LOCATION:Szilvásvárad\, Szilvásvárad\, Magyarország
END:VEVENT
BEGIN:VEVENT
DTSTART;TZID=UTC:20170812T200000
DTEND;TZID=UTC:20170812T220000
DTSTAMP:20260423T094546
CREATED:20170324T113311Z
LAST-MODIFIED:20170809T103114Z
UID:2300-1502568000-1502575200@nemzetilovasszinhaz.hu
SUMMARY:A fekete álarcos lovag - Bikal / lovas előadás
DESCRIPTION:Megannyi történet\, szerelem és kaland. Ki ne ismerné az álarcos jótevőt? Aki elvesz a zsarnokoktól és ad a szegényeknek. A Nemzeti Lovas Színház mindenki által ismert slágerek segítségével kelti életre a feketébe öltözött\, fekete lovon vágtató hőst\, hogy mindenkit elvarázsoljon\, és az egész családnak kellemes és izgalmas kikapcsolódást nyújtson.
URL:https://nemzetilovasszinhaz.hu/esemeny/alarcos-lovag-bikal-2/
LOCATION:Bikal\, Bikal\, Magyarország
END:VEVENT
BEGIN:VEVENT
DTSTART;TZID=UTC:20170818T200000
DTEND;TZID=UTC:20170818T220000
DTSTAMP:20260423T094546
CREATED:20170324T113700Z
LAST-MODIFIED:20170530T110759Z
UID:2302-1503086400-1503093600@nemzetilovasszinhaz.hu
SUMMARY:Honfoglalás - Kalocsa / lovas előadás
DESCRIPTION:
URL:https://nemzetilovasszinhaz.hu/esemeny/honfoglalas-kalocsa/
LOCATION:Kalocsa\, Kalocsa\, Magyarország
ATTACH;FMTTYPE=image/png:https://nemzetilovasszinhaz.hu/wp-content/uploads/2017/03/honfoglalas.png
END:VEVENT
BEGIN:VEVENT
DTSTART;TZID=UTC:20170820T193000
DTEND;TZID=UTC:20170820T220000
DTSTAMP:20260423T094546
CREATED:20170719T081552Z
LAST-MODIFIED:20170719T081617Z
UID:2621-1503257400-1503266400@nemzetilovasszinhaz.hu
SUMMARY:István\, a király - rockopera/Mórahalom
DESCRIPTION:
URL:https://nemzetilovasszinhaz.hu/esemeny/istvan-a-kiraly-rockopera/
LOCATION:Mórahalom – Patkó Lovas Színház\, Patkó Lovas Színház\, Mórahalom\, Csongrád\, Magyarország
ATTACH;FMTTYPE=image/jpeg:https://nemzetilovasszinhaz.hu/wp-content/uploads/2017/07/ik.jpg
END:VEVENT
BEGIN:VEVENT
DTSTART;TZID=UTC:20170821T193000
DTEND;TZID=UTC:20170821T220000
DTSTAMP:20260423T094546
CREATED:20170719T082004Z
LAST-MODIFIED:20170719T082103Z
UID:2627-1503343800-1503352800@nemzetilovasszinhaz.hu
SUMMARY:István\, a király - rockopera/Mórahalom
DESCRIPTION:
URL:https://nemzetilovasszinhaz.hu/esemeny/istvan-a-kiraly-rockoperamorahalom/
LOCATION:Mórahalom – Patkó Lovas Színház\, Patkó Lovas Színház\, Mórahalom\, Csongrád\, Magyarország
ATTACH;FMTTYPE=image/jpeg:https://nemzetilovasszinhaz.hu/wp-content/uploads/2017/07/ik.jpg
END:VEVENT
BEGIN:VEVENT
DTSTART;TZID=UTC:20170825T193000
DTEND;TZID=UTC:20170825T220000
DTSTAMP:20260423T094546
CREATED:20170719T082218Z
LAST-MODIFIED:20170719T082218Z
UID:2629-1503689400-1503698400@nemzetilovasszinhaz.hu
SUMMARY:Csárdáskirálynő - operett/Mórahalom
DESCRIPTION:
URL:https://nemzetilovasszinhaz.hu/esemeny/csardaskiralyno-operettmorahalom/
LOCATION:Mórahalom – Patkó Lovas Színház\, Patkó Lovas Színház\, Mórahalom\, Csongrád\, Magyarország
ATTACH;FMTTYPE=image/jpeg:https://nemzetilovasszinhaz.hu/wp-content/uploads/2017/07/csárdáskirálynő2.jpg
END:VEVENT
BEGIN:VEVENT
DTSTART;TZID=UTC:20170826T193000
DTEND;TZID=UTC:20170826T220000
DTSTAMP:20260423T094546
CREATED:20170719T082311Z
LAST-MODIFIED:20170719T082311Z
UID:2632-1503775800-1503784800@nemzetilovasszinhaz.hu
SUMMARY:Csárdáskirálynő - operett/Mórahalom
DESCRIPTION:
URL:https://nemzetilovasszinhaz.hu/esemeny/csardaskiralyno-operettmorahalom-2/
LOCATION:Mórahalom – Patkó Lovas Színház\, Patkó Lovas Színház\, Mórahalom\, Csongrád\, Magyarország
ATTACH;FMTTYPE=image/jpeg:https://nemzetilovasszinhaz.hu/wp-content/uploads/2017/07/csárdáskirálynő2.jpg
END:VEVENT
BEGIN:VEVENT
DTSTART;TZID=UTC:20171013T190000
DTEND;TZID=UTC:20171013T210000
DTSTAMP:20260423T094546
CREATED:20170809T103545Z
LAST-MODIFIED:20171002T185832Z
UID:2703-1507921200-1507928400@nemzetilovasszinhaz.hu
SUMMARY:A fekete álarcos lovas - Kincsem park/lovas előadás
DESCRIPTION:Megannyi történet\, szerelem és kaland. Ki ne ismerné az álarcos jótevőt? Aki elvesz a zsarnokoktól és ad a szegényeknek. A Nemzeti Lovas Színház mindenki által ismert slágerek segítségével kelti életre a feketébe öltözött\, fekete lovon vágtató hőst\, hogy mindenkit elvarázsoljon\, és az egész családnak kellemes és izgalmas kikapcsolódást nyújtson.
URL:https://nemzetilovasszinhaz.hu/esemeny/a-fekete-alarcos-lovag-kincsem-parklovas-eloadas/
LOCATION:Kincsem Park\, Albertirsai út 2-4.\, Budapest\, 1101\, Magyarország
END:VEVENT
BEGIN:VEVENT
DTSTART;TZID=UTC:20171014T190000
DTEND;TZID=UTC:20171014T210000
DTSTAMP:20260423T094546
CREATED:20170809T103545Z
LAST-MODIFIED:20171002T190022Z
UID:2705-1508007600-1508014800@nemzetilovasszinhaz.hu
SUMMARY:A fekete álarcos lovas - Kincsem park/lovas előadás
DESCRIPTION:Megannyi történet\, szerelem és kaland. Ki ne ismerné az álarcos jótevőt? Aki elvesz a zsarnokoktól és ad a szegényeknek. A Nemzeti Lovas Színház mindenki által ismert slágerek segítségével kelti életre a feketébe öltözött\, fekete lovon vágtató hőst\, hogy mindenkit elvarázsoljon\, és az egész családnak kellemes és izgalmas kikapcsolódást nyújtson.
URL:https://nemzetilovasszinhaz.hu/esemeny/a-fekete-alarcos-lovag-kincsem-parklovas-eloadas-2017-10-14/
LOCATION:Kincsem Park\, Albertirsai út 2-4.\, Budapest\, 1101\, Magyarország
END:VEVENT
BEGIN:VEVENT
DTSTART;TZID=UTC:20171015T190000
DTEND;TZID=UTC:20171015T210000
DTSTAMP:20260423T094546
CREATED:20170809T103545Z
LAST-MODIFIED:20171002T190102Z
UID:2706-1508094000-1508101200@nemzetilovasszinhaz.hu
SUMMARY:A fekete álarcos lovas - Kincsem park/lovas előadás
DESCRIPTION:Megannyi történet\, szerelem és kaland. Ki ne ismerné az álarcos jótevőt? Aki elvesz a zsarnokoktól és ad a szegényeknek. A Nemzeti Lovas Színház mindenki által ismert slágerek segítségével kelti életre a feketébe öltözött\, fekete lovon vágtató hőst\, hogy mindenkit elvarázsoljon\, és az egész családnak kellemes és izgalmas kikapcsolódást nyújtson.
URL:https://nemzetilovasszinhaz.hu/esemeny/a-fekete-alarcos-lovag-kincsem-parklovas-eloadas-2017-10-15/
LOCATION:Kincsem Park\, Albertirsai út 2-4.\, Budapest\, 1101\, Magyarország
END:VEVENT
BEGIN:VEVENT
DTSTART;TZID=UTC:20171031T190000
DTEND;TZID=UTC:20171031T210000
DTSTAMP:20260423T094546
CREATED:20170907T110602Z
LAST-MODIFIED:20170907T110706Z
UID:2774-1509476400-1509483600@nemzetilovasszinhaz.hu
SUMMARY:Hair - Kincsem Park/musical
DESCRIPTION:A musical a hatvannyolcas életérzést tükrözte\, a hippik\, a „virággyermekek” életstílusát vitte színpadra. Lázadásukat a szexuális szabadságért\, tiltakozásukat a vietnami háború és harcukat a társadalmi kötöttségek ellen. Mindez ma már történelem\, azonban a musical azóta klasszikussá és világsikerré lett. A zseniális zene átmentette a Hair-t az utókornak\, és a darab napi aktualitása sem szűnik meg soha.
URL:https://nemzetilovasszinhaz.hu/esemeny/hair/
LOCATION:Kincsem Park\, Albertirsai út 2-4.\, Budapest\, 1101\, Magyarország
END:VEVENT
BEGIN:VEVENT
DTSTART;TZID=UTC:20171110T190000
DTEND;TZID=UTC:20171110T210000
DTSTAMP:20260423T094546
CREATED:20170809T103905Z
LAST-MODIFIED:20170809T103905Z
UID:2707-1510340400-1510347600@nemzetilovasszinhaz.hu
SUMMARY:Rózsa Sándor\, az alföldi betyár - Kincsem park/lovas előadás
DESCRIPTION:A betyárok világát egyféle romantika övezi\, s mivel a mindenki által gyűlölt hatalom üldözte őket\, némi rokonszenvet is ébresztettek. Legnagyobb hírnévre az alföldi\, Szeged környéki Rózsa Sándor tett szert közülük.  A darab a legendás betyárvilág korából meríti történetét\, cselekménye izgalmas\, szerelmi szálakkal tarkított kalandok sora. Az útonálló\, fosztogató szegénylegények már a Rákóczi-szabadságharc után megjelentek\, de csak a 19. század elején növekedett a számuk. A betyárok a földnélküli zsellérekből és a kegyetlen katonafogdosás elől\, vagy éppen a katonai szolgálatból menekülő legényekből\, csavargókból verbuválódtak. Világukat egyféle romantika övezte\, s mivel a mindenki által gyűlölt hatalom üldözte őket\, némi rokonszenvet is ébresztettek.
URL:https://nemzetilovasszinhaz.hu/esemeny/rozsa-sandor-az-alfoldi-betyar-kincsem-parklovas-eloadas/
LOCATION:Kincsem Park\, Albertirsai út 2-4.\, Budapest\, 1101\, Magyarország
END:VEVENT
BEGIN:VEVENT
DTSTART;TZID=UTC:20171111T190000
DTEND;TZID=UTC:20171111T210000
DTSTAMP:20260423T094546
CREATED:20170809T103905Z
LAST-MODIFIED:20171002T190242Z
UID:2709-1510426800-1510434000@nemzetilovasszinhaz.hu
SUMMARY:Rózsa Sándor\, az alföldi betyár - Kincsem park/lovas előadás
DESCRIPTION:A betyárok világát egyféle romantika övezi\, s mivel a mindenki által gyűlölt hatalom üldözte őket\, némi rokonszenvet is ébresztettek. Legnagyobb hírnévre az alföldi\, Szeged környéki Rózsa Sándor tett szert közülük.  A darab a legendás betyárvilág korából meríti történetét\, cselekménye izgalmas\, szerelmi szálakkal tarkított kalandok sora. Az útonálló\, fosztogató szegénylegények már a Rákóczi-szabadságharc után megjelentek\, de csak a 19. század elején növekedett a számuk. A betyárok a földnélküli zsellérekből és a kegyetlen katonafogdosás elől\, vagy éppen a katonai szolgálatból menekülő legényekből\, csavargókból verbuválódtak. Világukat egyféle romantika övezte\, s mivel a mindenki által gyűlölt hatalom üldözte őket\, némi rokonszenvet is ébresztettek.
URL:https://nemzetilovasszinhaz.hu/esemeny/rozsa-sandor-az-alfoldi-betyar-kincsem-parklovas-eloadas-2017-11-11/
LOCATION:Kincsem Park\, Albertirsai út 2-4.\, Budapest\, 1101\, Magyarország
END:VEVENT
BEGIN:VEVENT
DTSTART;TZID=UTC:20171112T190000
DTEND;TZID=UTC:20171112T210000
DTSTAMP:20260423T094546
CREATED:20170809T103905Z
LAST-MODIFIED:20171002T190302Z
UID:2710-1510513200-1510520400@nemzetilovasszinhaz.hu
SUMMARY:Rózsa Sándor\, az alföldi betyár - Kincsem park/lovas előadás
DESCRIPTION:A betyárok világát egyféle romantika övezi\, s mivel a mindenki által gyűlölt hatalom üldözte őket\, némi rokonszenvet is ébresztettek. Legnagyobb hírnévre az alföldi\, Szeged környéki Rózsa Sándor tett szert közülük.  A darab a legendás betyárvilág korából meríti történetét\, cselekménye izgalmas\, szerelmi szálakkal tarkított kalandok sora. Az útonálló\, fosztogató szegénylegények már a Rákóczi-szabadságharc után megjelentek\, de csak a 19. század elején növekedett a számuk. A betyárok a földnélküli zsellérekből és a kegyetlen katonafogdosás elől\, vagy éppen a katonai szolgálatból menekülő legényekből\, csavargókból verbuválódtak. Világukat egyféle romantika övezte\, s mivel a mindenki által gyűlölt hatalom üldözte őket\, némi rokonszenvet is ébresztettek.
URL:https://nemzetilovasszinhaz.hu/esemeny/rozsa-sandor-az-alfoldi-betyar-kincsem-parklovas-eloadas-2017-11-12/
LOCATION:Kincsem Park\, Albertirsai út 2-4.\, Budapest\, 1101\, Magyarország
END:VEVENT
BEGIN:VEVENT
DTSTART;TZID=UTC:20171124T190000
DTEND;TZID=UTC:20171124T220000
DTSTAMP:20260423T094546
CREATED:20171124T190207Z
LAST-MODIFIED:20171124T190207Z
UID:2913-1511550000-1511560800@nemzetilovasszinhaz.hu
SUMMARY:János vitéz
DESCRIPTION:
URL:https://nemzetilovasszinhaz.hu/esemeny/janos-vitez-4/
LOCATION:Környe Művelődési Ház\, Alkotmány u. 1.\, Környe\, 2851\, Magyarország
ATTACH;FMTTYPE=image/jpeg:https://nemzetilovasszinhaz.hu/wp-content/uploads/2017/11/környe.jpg
END:VEVENT
BEGIN:VEVENT
DTSTART;TZID=UTC:20171128T190000
DTEND;TZID=UTC:20171128T210000
DTSTAMP:20260423T094546
CREATED:20170907T110938Z
LAST-MODIFIED:20171124T190354Z
UID:2777-1511895600-1511902800@nemzetilovasszinhaz.hu
SUMMARY:Hair - Kincsem Park/musical
DESCRIPTION:A musical a hatvannyolcas életérzést tükrözte\, a hippik\, a „virággyermekek” életstílusát vitte színpadra. Lázadásukat a szexuális szabadságért\, tiltakozásukat a vietnami háború és harcukat a társadalmi kötöttségek ellen. Mindez ma már történelem\, azonban a musical azóta klasszikussá és világsikerré lett. A zseniális zene átmentette a Hair-t az utókornak\, és a darab napi aktualitása sem szűnik meg soha.
URL:https://nemzetilovasszinhaz.hu/esemeny/hair-kincsem-parkmusical/
LOCATION:Kincsem Park\, Albertirsai út 2-4.\, Budapest\, 1101\, Magyarország
ATTACH;FMTTYPE=image/jpeg:https://nemzetilovasszinhaz.hu/wp-content/uploads/2017/09/hair-original-99134.jpg
END:VEVENT
BEGIN:VEVENT
DTSTART;TZID=UTC:20171202T180000
DTEND;TZID=UTC:20171202T200000
DTSTAMP:20260423T094546
CREATED:20171124T190958Z
LAST-MODIFIED:20171124T190958Z
UID:2920-1512237600-1512244800@nemzetilovasszinhaz.hu
SUMMARY:Mikulásváró musicalek\, operettek lóhátról
DESCRIPTION: Látogassatok el Hozzánk egy mesebeli birodalomba\, ahol hercegnők\, tündérek\, manók szorgoskodnak és énekelnek. A Mikulás ezúttal “rénlovas” szánnal érkezik vágtató paripák kíséretében\, miközben sűrűn hull a fehér hó. A világhírű operett- és musical slágerek mellett felcsendül a száncsengő és Jégország közismert Disney dallamai!
URL:https://nemzetilovasszinhaz.hu/esemeny/mikulasvaro-musicalek-operettek-lohatrol/
LOCATION:Kincsem Park\, Albertirsai út 2-4.\, Budapest\, 1101\, Magyarország
ATTACH;FMTTYPE=image/jpeg:https://nemzetilovasszinhaz.hu/wp-content/uploads/2017/11/face-cover-828-x-315-miki1.jpg
END:VEVENT
BEGIN:VEVENT
DTSTART;TZID=UTC:20171210T110000
DTEND;TZID=UTC:20171210T140000
DTSTAMP:20260423T094546
CREATED:20171124T184809Z
LAST-MODIFIED:20171124T184809Z
UID:2903-1512903600-1512914400@nemzetilovasszinhaz.hu
SUMMARY:A dzsungel könyve - musical
DESCRIPTION:Ugyan ki tudná összefoglalni\, mi mindenről szól a farkasok közt nevelkedett Maugli\, az emberek ketrecéből szabadult Bagira\, a törvényt bölcsen oktató Balu\, a titokzatos Ká\, a bosszúra és embervérre szomjas Sír Kán története? Szól a születésről és a halálról\, a befogadásról és a kitaszításról\, a csapatról és a magányról\, a gyerekkor és a kamaszkor varázslatos időszakáról – vagyis mindarról\, ami egy „kölyökkel” megeshet\, akár farkasok\, akár emberek között nevelkedik.
URL:https://nemzetilovasszinhaz.hu/esemeny/a-dzsungel-konyve-musical/
LOCATION:Szigetszentmiklós\, VK
END:VEVENT
BEGIN:VEVENT
DTSTART;TZID=UTC:20171210T170000
DTEND;TZID=UTC:20171210T200000
DTSTAMP:20260423T094546
CREATED:20171124T185250Z
LAST-MODIFIED:20171124T185250Z
UID:2905-1512925200-1512936000@nemzetilovasszinhaz.hu
SUMMARY:A dzsungel könyve - musical
DESCRIPTION:Ugyan ki tudná összefoglalni\, mi mindenről szól a farkasok közt nevelkedett Maugli\, az emberek ketrecéből szabadult Bagira\, a törvényt bölcsen oktató Balu\, a titokzatos Ká\, a bosszúra és embervérre szomjas Sír Kán története? Szól a születésről és a halálról\, a befogadásról és a kitaszításról\, a csapatról és a magányról\, a gyerekkor és a kamaszkor varázslatos időszakáról – vagyis mindarról\, ami egy „kölyökkel” megeshet\, akár farkasok\, akár emberek között nevelkedik.
URL:https://nemzetilovasszinhaz.hu/esemeny/a-dzsungel-konyve-musical-2/
LOCATION:Szigetszentmiklós\, VK
END:VEVENT
END:VCALENDAR