BEGIN:VCALENDAR
VERSION:2.0
PRODID:-//Nemzeti Lovas Színház - ECPv6.14.2//NONSGML v1.0//EN
CALSCALE:GREGORIAN
METHOD:PUBLISH
X-ORIGINAL-URL:https://nemzetilovasszinhaz.hu
X-WR-CALDESC:Események Nemzeti Lovas Színház
REFRESH-INTERVAL;VALUE=DURATION:PT1H
X-Robots-Tag:noindex
X-PUBLISHED-TTL:PT1H
BEGIN:VTIMEZONE
TZID:UTC
BEGIN:STANDARD
TZOFFSETFROM:+0000
TZOFFSETTO:+0000
TZNAME:UTC
DTSTART:20180101T000000
END:STANDARD
END:VTIMEZONE
BEGIN:VEVENT
DTSTART;TZID=UTC:20180217T190000
DTEND;TZID=UTC:20180217T210000
DTSTAMP:20260422T215832
CREATED:20171124T191927Z
LAST-MODIFIED:20171124T192008Z
UID:2926-1518894000-1518901200@nemzetilovasszinhaz.hu
SUMMARY:Lúdas Matyi
DESCRIPTION:Nézze újra a magyar filmtörténet megunhatatlan alkotását élőben! A Nemzeti Lovas Színház népi rockopera keretében gondolta újra Lúdas Matyi örökérvényű történetét. \nKaland\, izgalom\, románc\, humor és persze minden korosztály számára érvényes tanulságok várják a nagyérdeműt. A színészeken kívül természetesen fontos szerepet kapnak a lovak. \nSzereposztás: \nLúdas Matyi- Mohácsi Márk \nMesélő- Pintér Tibor\, Döbrögi-Monori Balázs\, Galiba- Becz Bernadett\, Ispán- Bencze Sándor\, Lúdas Matyi szerelme-Ambrush Izabella\, Matyi édesanyja- Lőrincz Andrea\, fogathajtó- Borsos Zoltán
URL:https://nemzetilovasszinhaz.hu/esemeny/ludas-matyi/
LOCATION:Kincsem Park\, Albertirsai út 2-4.\, Budapest\, 1101\, Magyarország
ATTACH;FMTTYPE=image/jpeg:https://nemzetilovasszinhaz.hu/wp-content/uploads/2017/11/Lúdas-Matyi.jpg
END:VEVENT
BEGIN:VEVENT
DTSTART;TZID=UTC:20180414T190000
DTEND;TZID=UTC:20180414T220000
DTSTAMP:20260422T215832
CREATED:20171124T193430Z
LAST-MODIFIED:20171124T193430Z
UID:2933-1523732400-1523743200@nemzetilovasszinhaz.hu
SUMMARY:A fekete álarcos lovas
DESCRIPTION:Aki elvesz a zsarnokoktól és ad a szegényeknek\, akitől minden nő elalél. A Nemzeti Lovas Színház mindenki által ismert slágerek segítségével kelti életre a feketébe öltözött\, fekete lovon vágtató hőst\, hogy mindenkit elvarázsoljon\, és az egész családnak kellemes és izgalmas kikapcsolódást nyújtson.
URL:https://nemzetilovasszinhaz.hu/esemeny/a-fekete-alarcos-lovas/
LOCATION:Kincsem Park\, Albertirsai út 2-4.\, Budapest\, 1101\, Magyarország
ATTACH;FMTTYPE=image/jpeg:https://nemzetilovasszinhaz.hu/wp-content/uploads/2017/11/álarcos.jpg
END:VEVENT
BEGIN:VEVENT
DTSTART;TZID=UTC:20180512T190000
DTEND;TZID=UTC:20180512T220000
DTSTAMP:20260422T215832
CREATED:20171124T193819Z
LAST-MODIFIED:20171124T193819Z
UID:2936-1526151600-1526162400@nemzetilovasszinhaz.hu
SUMMARY:János Vitéz
DESCRIPTION:A magyar irodalom örökkön élő figurája a kukoricásban született János\, aki példamutató szerelmével és örök hűségével Iluska iránt\, klasszikus értékrendre tanít egy fantasztikus mesén keresztül\, természetesen lóhátról! \nFőbb szerepekben: Pintér Tibor\, Becz Bernadett\, Lőrincz Andrea/ Papadimitriu Athina\, Dancs János\, Pápai Kíra\, Bencze Sándor\, Mohácsi Márk valamint a Nemzeti Lovas Színház tánckara és musical stúdiójának növendékei
URL:https://nemzetilovasszinhaz.hu/esemeny/janos-vitez-5/
LOCATION:Kincsem Park\, Albertirsai út 2-4.\, Budapest\, 1101\, Magyarország
ATTACH;FMTTYPE=image/jpeg:https://nemzetilovasszinhaz.hu/wp-content/uploads/2017/11/jánosvitéz.jpg
END:VEVENT
BEGIN:VEVENT
DTSTART;TZID=UTC:20180519T210000
DTEND;TZID=UTC:20180519T230000
DTSTAMP:20260422T215832
CREATED:20180514T180644Z
LAST-MODIFIED:20180514T182703Z
UID:2974-1526763600-1526770800@nemzetilovasszinhaz.hu
SUMMARY:Honfoglalás - Kiskőrös
DESCRIPTION:A magyaság történelme elevenedik meg a vándorlástól a vérszerződésig – a Hét vezér hazatérése.
URL:https://nemzetilovasszinhaz.hu/esemeny/honfoglalas-4/
LOCATION:Kiskőrös
ATTACH;FMTTYPE=image/jpeg:https://nemzetilovasszinhaz.hu/wp-content/uploads/2017/11/honfoglalás.jpg
END:VEVENT
BEGIN:VEVENT
DTSTART;TZID=UTC:20180520T200000
DTEND;TZID=UTC:20180520T220000
DTSTAMP:20260422T215832
CREATED:20180514T182324Z
LAST-MODIFIED:20180514T182324Z
UID:2987-1526846400-1526853600@nemzetilovasszinhaz.hu
SUMMARY:Gladiátor - Diósgyőr
DESCRIPTION:
URL:https://nemzetilovasszinhaz.hu/esemeny/gladiator-diosgyor/
LOCATION:Diósgyőr\, Diósgyőr\, Magyarország
ATTACH;FMTTYPE=image/jpeg:https://nemzetilovasszinhaz.hu/wp-content/uploads/2018/05/gladlead.jpg
END:VEVENT
BEGIN:VEVENT
DTSTART;TZID=UTC:20180526T190000
DTEND;TZID=UTC:20180526T220000
DTSTAMP:20260422T215832
CREATED:20180514T183221Z
LAST-MODIFIED:20180514T183221Z
UID:2993-1527361200-1527372000@nemzetilovasszinhaz.hu
SUMMARY:Valahol Európában - Orosháza
DESCRIPTION:
URL:https://nemzetilovasszinhaz.hu/esemeny/valahol-europaban-oroshaza/
LOCATION:Orosháza
ATTACH;FMTTYPE=image/jpeg:https://nemzetilovasszinhaz.hu/wp-content/uploads/2018/05/valaholeurópában21.jpg
END:VEVENT
BEGIN:VEVENT
DTSTART;VALUE=DATE:20180602
DTEND;VALUE=DATE:20180603
DTSTAMP:20260422T215832
CREATED:20180514T194924Z
LAST-MODIFIED:20180514T194924Z
UID:2997-1527897600-1527983999@nemzetilovasszinhaz.hu
SUMMARY:Rózsa Sándor - Bugac
DESCRIPTION:Lovas jelenetek\, szekérrablások\, magyar virtus – a Kormorán zeneszerzőjének dalaival.
URL:https://nemzetilovasszinhaz.hu/esemeny/rozsa-sandor-bugac/
LOCATION:Bugac
ATTACH;FMTTYPE=image/jpeg:https://nemzetilovasszinhaz.hu/wp-content/uploads/2017/10/ugrat.jpg
END:VEVENT
BEGIN:VEVENT
DTSTART;TZID=UTC:20180609T200000
DTEND;TZID=UTC:20180609T220000
DTSTAMP:20260422T215832
CREATED:20180514T195134Z
LAST-MODIFIED:20180529T081740Z
UID:3000-1528574400-1528581600@nemzetilovasszinhaz.hu
SUMMARY:Honfoglalás - Szigetvár
DESCRIPTION:A magyaság történelme elevenedik meg a vándorlástól a vérszerződésig – a Hét vezér hazatérése.
URL:https://nemzetilovasszinhaz.hu/esemeny/honfoglalas-szigetvar/
LOCATION:Szigetvár\, Szigetvár\, Magyarország
ATTACH;FMTTYPE=image/jpeg:https://nemzetilovasszinhaz.hu/wp-content/uploads/2017/11/honfoglalás.jpg
END:VEVENT
BEGIN:VEVENT
DTSTART;TZID=UTC:20180616T190000
DTEND;TZID=UTC:20180616T220000
DTSTAMP:20260422T215832
CREATED:20180514T195703Z
LAST-MODIFIED:20180514T195741Z
UID:3002-1529175600-1529186400@nemzetilovasszinhaz.hu
SUMMARY:Mátyás\, az igazságos - Simonpuszta
DESCRIPTION:Magyarország legnagyobb királyának legendája a kamasz korától a felnőtté válásáig.
URL:https://nemzetilovasszinhaz.hu/esemeny/matyas-az-igazsagos-simonpuszta/
LOCATION:Simonpuszta
ATTACH;FMTTYPE=image/jpeg:https://nemzetilovasszinhaz.hu/wp-content/uploads/2018/05/mátyáslead.jpg
END:VEVENT
BEGIN:VEVENT
DTSTART;TZID=UTC:20180622T190000
DTEND;TZID=UTC:20180622T220000
DTSTAMP:20260422T215832
CREATED:20180514T195943Z
LAST-MODIFIED:20180514T195943Z
UID:3006-1529694000-1529704800@nemzetilovasszinhaz.hu
SUMMARY:János vitéz - Dunaharaszti
DESCRIPTION:Igazi tündérmese csodákkal\, próbatételekkel\, amelyben az árva juhász\, Tündérország királyává válik.
URL:https://nemzetilovasszinhaz.hu/esemeny/janos-vitez-dunaharaszti/
LOCATION:Dunaharaszti
ATTACH;FMTTYPE=image/jpeg:https://nemzetilovasszinhaz.hu/wp-content/uploads/2017/11/jánosvitéz.jpg
END:VEVENT
BEGIN:VEVENT
DTSTART;TZID=UTC:20180623T210000
DTEND;TZID=UTC:20180623T230000
DTSTAMP:20260422T215832
CREATED:20180529T083055Z
LAST-MODIFIED:20180529T083055Z
UID:3113-1529787600-1529794800@nemzetilovasszinhaz.hu
SUMMARY:Honfoglalás - Erdőszentgyörgy
DESCRIPTION:A magyaság történelme elevenedik meg a vándorlástól a vérszerződésig – a Hét vezér hazatérése.
URL:https://nemzetilovasszinhaz.hu/esemeny/honfoglalas-erdoszentgyorgy/
LOCATION:Erdőszentgyörgy
ATTACH;FMTTYPE=image/jpeg:https://nemzetilovasszinhaz.hu/wp-content/uploads/2017/11/honfoglalás.jpg
END:VEVENT
BEGIN:VEVENT
DTSTART;TZID=UTC:20180624T190000
DTEND;TZID=UTC:20180624T220000
DTSTAMP:20260422T215832
CREATED:20180514T200217Z
LAST-MODIFIED:20180515T074140Z
UID:3009-1529866800-1529877600@nemzetilovasszinhaz.hu
SUMMARY:Jimmy musical - Mórahalom
DESCRIPTION:Jimmy a név\, melyet mindenki ismer. Dalok\, melyeket sosem tévesztünk össze. A zenei élet meghatározó alakja volt\, akit valamennyien csak Királyként emlegetünk. Idézzük fel közösen slágereit\, emlékezzünk együtt legismertebb dalaival! Egy musical\, mely méltó módon állít emléket\, a magyar zenei élet Királyának\, az örök és megismételhetetlen Zámbó Jimmynek.
URL:https://nemzetilovasszinhaz.hu/esemeny/jimmy-musical-morahalom/
LOCATION:Mórahalom – Patkó Lovas Színház\, Patkó Lovas Színház\, Mórahalom\, Csongrád\, Magyarország
ATTACH;FMTTYPE=image/jpeg:https://nemzetilovasszinhaz.hu/wp-content/uploads/2018/02/IMG_3484.jpg
END:VEVENT
BEGIN:VEVENT
DTSTART;TZID=UTC:20180629T200000
DTEND;TZID=UTC:20180629T230000
DTSTAMP:20260422T215832
CREATED:20180514T200705Z
LAST-MODIFIED:20180514T200717Z
UID:3011-1530302400-1530313200@nemzetilovasszinhaz.hu
SUMMARY:Mátyás az igazságos - Mezőkövesd
DESCRIPTION:Magyarország legnagyobb királyának legendája a kamasz korától a felnőtté válásáig.
URL:https://nemzetilovasszinhaz.hu/esemeny/matyas-az-igazsagos-mezokovesd/
LOCATION:Mezőkövesd
ATTACH;FMTTYPE=image/jpeg:https://nemzetilovasszinhaz.hu/wp-content/uploads/2018/05/mátyáslead.jpg
END:VEVENT
BEGIN:VEVENT
DTSTART;TZID=UTC:20180706T200000
DTEND;TZID=UTC:20180706T220000
DTSTAMP:20260422T215832
CREATED:20180514T200934Z
LAST-MODIFIED:20180604T112320Z
UID:3014-1530907200-1530914400@nemzetilovasszinhaz.hu
SUMMARY:Honfoglalás - Bugac
DESCRIPTION:A magyaság történelme elevenedik meg a vándorlástól a vérszerződésig – a Hét vezér hazatérése.
URL:https://nemzetilovasszinhaz.hu/esemeny/honfoglalas-bugac/
LOCATION:Bugac
ATTACH;FMTTYPE=image/jpeg:https://nemzetilovasszinhaz.hu/wp-content/uploads/2017/11/honfoglalás.jpg
END:VEVENT
BEGIN:VEVENT
DTSTART;TZID=UTC:20180707T200000
DTEND;TZID=UTC:20180707T230000
DTSTAMP:20260422T215832
CREATED:20180514T201209Z
LAST-MODIFIED:20180514T201209Z
UID:3016-1530993600-1531004400@nemzetilovasszinhaz.hu
SUMMARY:Rózsa Sándor - Bikal
DESCRIPTION:Lovas jelenetek\, szekérrablások\, magyar virtus – a Kormorán zeneszerzőjének dalaival.
URL:https://nemzetilovasszinhaz.hu/esemeny/rozsa-sandor-bikal/
LOCATION:Bikal\, Bikal\, Magyarország
ATTACH;FMTTYPE=image/jpeg:https://nemzetilovasszinhaz.hu/wp-content/uploads/2017/10/ugrat.jpg
END:VEVENT
BEGIN:VEVENT
DTSTART;VALUE=DATE:20180713
DTEND;VALUE=DATE:20180714
DTSTAMP:20260422T215832
CREATED:20180514T201336Z
LAST-MODIFIED:20180514T201336Z
UID:3018-1531440000-1531526399@nemzetilovasszinhaz.hu
SUMMARY:Jimmy\, a musical - Mikóháza
DESCRIPTION:Jimmy a név\, melyet mindenki ismer. Dalok\, melyeket sosem tévesztünk össze.
URL:https://nemzetilovasszinhaz.hu/esemeny/jimmy-a-musical-mikohaza/
LOCATION:Mikóháza
ATTACH;FMTTYPE=image/jpeg:https://nemzetilovasszinhaz.hu/wp-content/uploads/2018/02/IMG_3484.jpg
END:VEVENT
BEGIN:VEVENT
DTSTART;TZID=UTC:20180714T200000
DTEND;TZID=UTC:20180714T230000
DTSTAMP:20260422T215832
CREATED:20180514T201502Z
LAST-MODIFIED:20180514T201502Z
UID:3021-1531598400-1531609200@nemzetilovasszinhaz.hu
SUMMARY:Rózsa Sándor - Bikal
DESCRIPTION:Lovas jelenetek\, szekérrablások\, magyar virtus – a Kormorán zeneszerzőjének dalaival.
URL:https://nemzetilovasszinhaz.hu/esemeny/rozsa-sandor-bikal-2/
LOCATION:Bikal\, Bikal\, Magyarország
ATTACH;FMTTYPE=image/jpeg:https://nemzetilovasszinhaz.hu/wp-content/uploads/2017/10/ugrat.jpg
END:VEVENT
BEGIN:VEVENT
DTSTART;TZID=UTC:20180715T150000
DTEND;TZID=UTC:20180715T180000
DTSTAMP:20260422T215832
CREATED:20180514T201645Z
LAST-MODIFIED:20180601T153818Z
UID:3023-1531666800-1531677600@nemzetilovasszinhaz.hu
SUMMARY:Lúdas Matyi\, színpadi - Szigetvár
DESCRIPTION:A furfangos eszű libapásztor legény móresre tanítja Döbrögi uraságot.
URL:https://nemzetilovasszinhaz.hu/esemeny/ludas-matyi-szigetvar/
LOCATION:Szigetvár\, Szigetvár\, Magyarország
ATTACH;FMTTYPE=image/jpeg:https://nemzetilovasszinhaz.hu/wp-content/uploads/2017/11/Lúdas-Matyi.jpg
END:VEVENT
BEGIN:VEVENT
DTSTART;TZID=UTC:20180720T203000
DTEND;TZID=UTC:20180720T230000
DTSTAMP:20260422T215832
CREATED:20180514T201850Z
LAST-MODIFIED:20180515T080234Z
UID:3025-1532118600-1532127600@nemzetilovasszinhaz.hu
SUMMARY:A fekete álarcos lovas - Mórahalom
DESCRIPTION:Aki elvesz a zsarnokoktól és ad a szegényeknek\, akitől minden nő elalél. A Nemzeti Lovas Színház mindenki által ismert slágerek segítségével kelti életre a feketébe öltözött\, fekete lovon vágtató hőst\, hogy mindenkit elvarázsoljon\, és az egész családnak kellemes és izgalmas kikapcsolódást nyújtson.
URL:https://nemzetilovasszinhaz.hu/esemeny/a-fekete-alarcos-lovas-morahalom/
LOCATION:Mórahalom – Patkó Lovas Színház\, Patkó Lovas Színház\, Mórahalom\, Csongrád\, Magyarország
ATTACH;FMTTYPE=image/jpeg:https://nemzetilovasszinhaz.hu/wp-content/uploads/2017/11/álarcos.jpg
END:VEVENT
BEGIN:VEVENT
DTSTART;TZID=UTC:20180721T200000
DTEND;TZID=UTC:20180721T230000
DTSTAMP:20260422T215832
CREATED:20180514T202048Z
LAST-MODIFIED:20180514T202048Z
UID:3027-1532203200-1532214000@nemzetilovasszinhaz.hu
SUMMARY:Rózsa Sándor - Bikal
DESCRIPTION:Lovas jelenetek\, szekérrablások\, magyar virtus – a Kormorán zeneszerzőjének dalaival.
URL:https://nemzetilovasszinhaz.hu/esemeny/rozsa-sandor-bikal-3/
LOCATION:Bikal\, Bikal\, Magyarország
ATTACH;FMTTYPE=image/jpeg:https://nemzetilovasszinhaz.hu/wp-content/uploads/2017/10/ugrat.jpg
END:VEVENT
BEGIN:VEVENT
DTSTART;TZID=UTC:20180728T200000
DTEND;TZID=UTC:20180728T230000
DTSTAMP:20260422T215832
CREATED:20180514T202414Z
LAST-MODIFIED:20180514T202414Z
UID:3032-1532808000-1532818800@nemzetilovasszinhaz.hu
SUMMARY:Rózsa Sándor - Bikal
DESCRIPTION:Lovas jelenetek\, szekérrablások\, magyar virtus – a Kormorán zeneszerzőjének dalaival.
URL:https://nemzetilovasszinhaz.hu/esemeny/rozsa-sandor-bikal-4/
LOCATION:Bikal\, Bikal\, Magyarország
ATTACH;FMTTYPE=image/jpeg:https://nemzetilovasszinhaz.hu/wp-content/uploads/2017/10/ugrat.jpg
END:VEVENT
BEGIN:VEVENT
DTSTART;TZID=UTC:20180729T203000
DTEND;TZID=UTC:20180729T230000
DTSTAMP:20260422T215832
CREATED:20180514T202538Z
LAST-MODIFIED:20180515T074707Z
UID:3034-1532896200-1532905200@nemzetilovasszinhaz.hu
SUMMARY:Rózsa Sándor - Mórahalom
DESCRIPTION:A hajdani Szeged környékén\, vagyis a mai Mórahalom térségében játszódó – a  betyárok világán túl – történelmi utazásként is értékelhető a Rózsa Sándor legendáját felidéző darab. Hármas szerelmi szál\, látványos kaszkadőrjelenetek és érzelem gazdag zenei világ jellemzi a művet\, ahol a betyárkirály egyszerre szerethető\, mégis gyilkosként ábrázolt alakja gondolkodtathatja el a nézőt. A darabból az akción és romantikán túl a humor sem hiányzik.
URL:https://nemzetilovasszinhaz.hu/esemeny/rozsa-sandor-morahalom/
LOCATION:Mórahalom – Patkó Lovas Színház\, Patkó Lovas Színház\, Mórahalom\, Csongrád\, Magyarország
ATTACH;FMTTYPE=image/jpeg:https://nemzetilovasszinhaz.hu/wp-content/uploads/2017/10/ugrat.jpg
END:VEVENT
BEGIN:VEVENT
DTSTART;TZID=UTC:20180803T200000
DTEND;TZID=UTC:20180803T230000
DTSTAMP:20260422T215832
CREATED:20180515T064527Z
LAST-MODIFIED:20180515T072212Z
UID:3036-1533326400-1533337200@nemzetilovasszinhaz.hu
SUMMARY:Kincsem - Mórahalom
DESCRIPTION:Ki ne hallott volna a “csodakancáról”\, aki minden versenyét megnyerte\, és veretlenül vonult vissza. Az 1800-as évek vége felé járunk\, egy elbukott szabadságharc után Magyarországon\, ahol még mindig puskaporos a hangulat. \n \nA szerelem\, ármány és bosszú mind megtalálható ebben a darabban\, amit fantasztikus\, mindenki számára ismerős dalokkal írtak meg\, hogy megismerje Kincsem történetét és korát.
URL:https://nemzetilovasszinhaz.hu/esemeny/kincsem-morahalom/
LOCATION:Mórahalom – Patkó Lovas Színház\, Patkó Lovas Színház\, Mórahalom\, Csongrád\, Magyarország
ATTACH;FMTTYPE=image/jpeg:https://nemzetilovasszinhaz.hu/wp-content/uploads/2018/05/kincsembiankó.jpg
END:VEVENT
BEGIN:VEVENT
DTSTART;TZID=UTC:20180804T200000
DTEND;TZID=UTC:20180804T230000
DTSTAMP:20260422T215832
CREATED:20180515T064913Z
LAST-MODIFIED:20180515T074037Z
UID:3042-1533412800-1533423600@nemzetilovasszinhaz.hu
SUMMARY:Kincsem - Mórahalom
DESCRIPTION:Ki ne hallott volna a “csodakancáról”\, aki minden versenyét megnyerte\, és veretlenül vonult vissza. Az 1800-as évek vége felé járunk\, egy elbukott szabadságharc után Magyarországon\, ahol még mindig puskaporos a hangulat. \n \nA szerelem\, ármány és bosszú mind megtalálható ebben a darabban\, amit fantasztikus\, mindenki számára ismerős dalokkal írtak meg\, hogy megismerje Kincsem történetét és korát.
URL:https://nemzetilovasszinhaz.hu/esemeny/kincsem-morahalom-2/
LOCATION:Mórahalom – Patkó Lovas Színház\, Patkó Lovas Színház\, Mórahalom\, Csongrád\, Magyarország
ATTACH;FMTTYPE=image/jpeg:https://nemzetilovasszinhaz.hu/wp-content/uploads/2018/05/kincsembiankó.jpg
END:VEVENT
BEGIN:VEVENT
DTSTART;VALUE=DATE:20180811
DTEND;VALUE=DATE:20180812
DTSTAMP:20260422T215832
CREATED:20180515T065143Z
LAST-MODIFIED:20180515T065143Z
UID:3044-1533945600-1534031999@nemzetilovasszinhaz.hu
SUMMARY:Mátyás\, az igazságos - Diósgyőr
DESCRIPTION:Magyarország legnagyobb királyának legendája a kamasz korától a felnőtté válásáig.
URL:https://nemzetilovasszinhaz.hu/esemeny/matyas-az-igazsagos-diosgyor/
LOCATION:Diósgyőr\, Diósgyőr\, Magyarország
ATTACH;FMTTYPE=image/jpeg:https://nemzetilovasszinhaz.hu/wp-content/uploads/2018/05/mátyáslead.jpg
END:VEVENT
BEGIN:VEVENT
DTSTART;TZID=UTC:20180813T080000
DTEND;TZID=UTC:20180813T170000
DTSTAMP:20260422T215832
CREATED:20180813T134046Z
LAST-MODIFIED:20180813T134046Z
UID:3170-1534147200-1534179600@nemzetilovasszinhaz.hu
SUMMARY:
DESCRIPTION:A rockopera a magyar történelem egyik legendás alakjának történetét dolgozza fel. Mátyás királyt hazánk legnépszerűbb királyaként emlegetik\, akinek talán történelmünk során először sikerült úgy felvirágoztatni az országot\, hogy azt európai mércével mérve is elismerték. A darab Kinizsi Pál és Mátyás király barátságán keresztül\, a róla szóló legendás mesék elemeiből táplálkozva\, rendkívül látványos módon mutatja be a történelmi eseményeket.
URL:https://nemzetilovasszinhaz.hu/esemeny/3170/
END:VEVENT
BEGIN:VEVENT
DTSTART;TZID=UTC:20180816T200000
DTEND;TZID=UTC:20180816T220000
DTSTAMP:20260422T215832
CREATED:20180515T065454Z
LAST-MODIFIED:20180807T110444Z
UID:3048-1534449600-1534456800@nemzetilovasszinhaz.hu
SUMMARY:Honfoglalás - Szécsény/színpadi
DESCRIPTION:A magyaság történelme elevenedik meg a vándorlástól a vérszerződésig – a Hét vezér hazatérése.
URL:https://nemzetilovasszinhaz.hu/esemeny/honfoglalas-szecseny/
LOCATION:Szécsény
ATTACH;FMTTYPE=image/jpeg:https://nemzetilovasszinhaz.hu/wp-content/uploads/2017/11/honfoglalás.jpg
END:VEVENT
BEGIN:VEVENT
DTSTART;TZID=UTC:20180817T200000
DTEND;TZID=UTC:20180817T230000
DTSTAMP:20260422T215832
CREATED:20180515T065628Z
LAST-MODIFIED:20180515T065628Z
UID:3051-1534536000-1534546800@nemzetilovasszinhaz.hu
SUMMARY:Trója - Kalocsa
DESCRIPTION:Egy szerelemből robban ki a világtörténelem egyik legismertebb háborúja\, ami egy egész civilizációt elpusztít.
URL:https://nemzetilovasszinhaz.hu/esemeny/troja-kalocsa/
LOCATION:Kalocsa\, Kalocsa\, Magyarország
ATTACH;FMTTYPE=image/jpeg:https://nemzetilovasszinhaz.hu/wp-content/uploads/2018/05/troja-közép-1024x678.jpg
END:VEVENT
BEGIN:VEVENT
DTSTART;TZID=UTC:20180819T200000
DTEND;TZID=UTC:20180819T230000
DTSTAMP:20260422T215832
CREATED:20180515T073653Z
LAST-MODIFIED:20180717T094349Z
UID:3077-1534708800-1534719600@nemzetilovasszinhaz.hu
SUMMARY:Honfoglalás-Dunaszerdahely/színpadi
DESCRIPTION:A magyaság történelme elevenedik meg a vándorlástól a vérszerződésig – a Hét vezér hazatérése.
URL:https://nemzetilovasszinhaz.hu/esemeny/honfoglalas-dunaszerdahely/
LOCATION:Dunaszerdahely
ATTACH;FMTTYPE=image/jpeg:https://nemzetilovasszinhaz.hu/wp-content/uploads/2017/11/honfoglalás.jpg
END:VEVENT
BEGIN:VEVENT
DTSTART;TZID=UTC:20180820T193000
DTEND;TZID=UTC:20180820T230000
DTSTAMP:20260422T215832
CREATED:20180515T070037Z
LAST-MODIFIED:20180515T074422Z
UID:3053-1534793400-1534806000@nemzetilovasszinhaz.hu
SUMMARY:Honfoglalás - Mórahalom
DESCRIPTION:„A szállj\, szállj sólyom szárnyán” című dal szerzői és Pintér Tibor a darab rendezője\, gondoskodnak arról\, hogy az előadás egy feledhetetlen élmény legyen a nézőknek\, akik ellátogatnak előadásunkra! \n \nA Honfoglalás című magyar rockopera feltárja magyar honfoglalással kapcsolatos legújabb történelmi információkat\, üzenve a mai fiataloknak és a Kárpát-medencében élő összes magyarnak\, hogy alaposabban megismerkedhessenek a magyarok valódi történelmével. A produkció a legigényesebb zenei és prózai adaptáción keresztül látványos jelenetekkel\, minőségi szereposztással mutatja be a 7 vezér hazatérését.
URL:https://nemzetilovasszinhaz.hu/esemeny/honfoglalas-morahalom/
LOCATION:Mórahalom – Patkó Lovas Színház\, Patkó Lovas Színház\, Mórahalom\, Csongrád\, Magyarország
ATTACH;FMTTYPE=image/jpeg:https://nemzetilovasszinhaz.hu/wp-content/uploads/2017/11/honfoglalás.jpg
END:VEVENT
END:VCALENDAR