BEGIN:VCALENDAR
VERSION:2.0
PRODID:-//Nemzeti Lovas Színház - ECPv6.14.2//NONSGML v1.0//EN
CALSCALE:GREGORIAN
METHOD:PUBLISH
X-WR-CALNAME:Nemzeti Lovas Színház
X-ORIGINAL-URL:https://nemzetilovasszinhaz.hu
X-WR-CALDESC:Események Nemzeti Lovas Színház
REFRESH-INTERVAL;VALUE=DURATION:PT1H
X-Robots-Tag:noindex
X-PUBLISHED-TTL:PT1H
BEGIN:VTIMEZONE
TZID:UTC
BEGIN:STANDARD
TZOFFSETFROM:+0000
TZOFFSETTO:+0000
TZNAME:UTC
DTSTART:20260101T000000
END:STANDARD
END:VTIMEZONE
BEGIN:VEVENT
DTSTART;TZID=UTC:20260620T180000
DTEND;TZID=UTC:20260620T210000
DTSTAMP:20260426T004905
CREATED:20260330T083303Z
LAST-MODIFIED:20260330T083303Z
UID:6809-1781978400-1781989200@nemzetilovasszinhaz.hu
SUMMARY:Egy vérből valók vagyunk
DESCRIPTION:A Kárpátok öleléséből kiszakadva\, lélekben mégis összetartozva\, egyet mondunk\, egyet gondolunk. Új magyar musical a magyarságunk előtt tisztelegve.
URL:https://nemzetilovasszinhaz.hu/esemeny/egy-verbol-valok-vagyunk-2/
LOCATION:Kincsem Park\, Albertirsai út 2-4.\, Budapest\, 1101\, Magyarország
CATEGORIES:jegyeladás
ATTACH;FMTTYPE=image/jpeg:https://nemzetilovasszinhaz.hu/wp-content/uploads/2026/03/egy-ver-20262.jpg
END:VEVENT
BEGIN:VEVENT
DTSTART;TZID=UTC:20260621T150000
DTEND;TZID=UTC:20260621T180000
DTSTAMP:20260426T004905
CREATED:20260330T083415Z
LAST-MODIFIED:20260330T083415Z
UID:6812-1782054000-1782064800@nemzetilovasszinhaz.hu
SUMMARY:Egy vérből valók vagyunk
DESCRIPTION:A Kárpátok öleléséből kiszakadva\, lélekben mégis összetartozva\, egyet mondunk\, egyet gondolunk. Új magyar musical a magyarságunk előtt tisztelegve.
URL:https://nemzetilovasszinhaz.hu/esemeny/egy-verbol-valok-vagyunk-3/
LOCATION:Kincsem Park\, Albertirsai út 2-4.\, Budapest\, 1101\, Magyarország
CATEGORIES:jegyeladás
ATTACH;FMTTYPE=image/jpeg:https://nemzetilovasszinhaz.hu/wp-content/uploads/2026/03/egy-ver-20263.jpg
END:VEVENT
BEGIN:VEVENT
DTSTART;TZID=UTC:20260707T180000
DTEND;TZID=UTC:20260707T210000
DTSTAMP:20260426T004905
CREATED:20260330T083936Z
LAST-MODIFIED:20260330T083936Z
UID:6816-1783447200-1783458000@nemzetilovasszinhaz.hu
SUMMARY:Dallamvágta – musicalek és operettek lóhátról
DESCRIPTION:A műsor a világ legkedveltebb musicaljeinek lovas színházi adaptációit tartalmazza\, köztük a Rómeó és Júlia és a Disney-klasszikusok híres dalait.
URL:https://nemzetilovasszinhaz.hu/esemeny/dallamvagta-musicalek-es-operettek-lohatrol/
LOCATION:Kincsem Park\, Albertirsai út 2-4.\, Budapest\, 1101\, Magyarország
CATEGORIES:jegyeladás
ATTACH;FMTTYPE=image/jpeg:https://nemzetilovasszinhaz.hu/wp-content/uploads/2026/03/Dallamvagta.jpg
END:VEVENT
BEGIN:VEVENT
DTSTART;TZID=UTC:20260708T180000
DTEND;TZID=UTC:20260708T210000
DTSTAMP:20260426T004905
CREATED:20260330T084927Z
LAST-MODIFIED:20260330T084927Z
UID:6826-1783533600-1783544400@nemzetilovasszinhaz.hu
SUMMARY:Gallop of Melodies – Musicals and Operettas on Horseback
DESCRIPTION:The program features equestrian theatre adaptations of some of the world’s most beloved musical works\, including highlights from Romeo and Juliet and famous songs from Disney classics. English language performance.
URL:https://nemzetilovasszinhaz.hu/esemeny/gallop-of-melodies-musicals-and-operettas-on-horseback/
LOCATION:Kincsem Park\, Albertirsai út 2-4.\, Budapest\, 1101\, Magyarország
CATEGORIES:jegyeladás
ATTACH;FMTTYPE=image/jpeg:https://nemzetilovasszinhaz.hu/wp-content/uploads/2026/03/Gallop2.jpg
END:VEVENT
BEGIN:VEVENT
DTSTART;TZID=UTC:20260714T180000
DTEND;TZID=UTC:20260714T210000
DTSTAMP:20260426T004905
CREATED:20260330T084104Z
LAST-MODIFIED:20260330T084104Z
UID:6820-1784052000-1784062800@nemzetilovasszinhaz.hu
SUMMARY:Dallamvágta – musicalek és operettek lóhátról
DESCRIPTION:A műsor a világ legkedveltebb musicaljeinek lovas színházi adaptációit tartalmazza\, köztük a Rómeó és Júlia és a Disney-klasszikusok híres dalait.
URL:https://nemzetilovasszinhaz.hu/esemeny/dallamvagta-musicalek-es-operettek-lohatrol-2/
LOCATION:Kincsem Park\, Albertirsai út 2-4.\, Budapest\, 1101\, Magyarország
CATEGORIES:jegyeladás
ATTACH;FMTTYPE=image/jpeg:https://nemzetilovasszinhaz.hu/wp-content/uploads/2026/03/Dallamvagta2.jpg
END:VEVENT
BEGIN:VEVENT
DTSTART;TZID=UTC:20260715T180000
DTEND;TZID=UTC:20260715T210000
DTSTAMP:20260426T004905
CREATED:20260330T085055Z
LAST-MODIFIED:20260330T085055Z
UID:6829-1784138400-1784149200@nemzetilovasszinhaz.hu
SUMMARY:Gallop of Melodies – Musicals and Operettas on Horseback
DESCRIPTION:The program features equestrian theatre adaptations of some of the world’s most beloved musical works\, including highlights from Romeo and Juliet and famous songs from Disney classics. English language performance.
URL:https://nemzetilovasszinhaz.hu/esemeny/gallop-of-melodies-musicals-and-operettas-on-horseback-2/
LOCATION:Kincsem Park\, Albertirsai út 2-4.\, Budapest\, 1101\, Magyarország
CATEGORIES:jegyeladás
ATTACH;FMTTYPE=image/jpeg:https://nemzetilovasszinhaz.hu/wp-content/uploads/2026/03/Gallop3-1.jpg
END:VEVENT
BEGIN:VEVENT
DTSTART;TZID=UTC:20260723T203000
DTEND;TZID=UTC:20260723T230000
DTSTAMP:20260426T004905
CREATED:20260207T094315Z
LAST-MODIFIED:20260207T094334Z
UID:6710-1784838600-1784847600@nemzetilovasszinhaz.hu
SUMMARY:Sissi - Mórahalom
DESCRIPTION:Erzsébet királyné\, vagy ahogy mindenki ismeri\, Sissi\, a történelem egyik legkülönlegesebb alakja volt: szépsége\, szabadságvágya és legendás lovastudása tette igazán egyedivé. A Nemzeti Lovas Színház nagyszabású előadása most életre kelti a monarchia két meghatározó személyiségének\, Sissinek és Ferenc Józsefnek a történetét. A lenyűgöző lovas jelenetek és a felejthetetlen zenei élmény garantálja\, hogy a nézők egy valódi időutazáson vehetnek részt. Pillantson be a bécsi udvar intrikákkal\, szenvedéllyel és drámával teli világába\, és élje át ezt a különleges történetet!
URL:https://nemzetilovasszinhaz.hu/esemeny/sissi-3/
LOCATION:Mórahalom – Patkó Lovas Színház\, Patkó Lovas Színház\, Mórahalom\, Csongrád\, Magyarország
ATTACH;FMTTYPE=image/webp:https://nemzetilovasszinhaz.hu/wp-content/uploads/2026/02/Sissi-470x675k.webp
END:VEVENT
BEGIN:VEVENT
DTSTART;TZID=UTC:20260724T203000
DTEND;TZID=UTC:20260724T230000
DTSTAMP:20260426T004905
CREATED:20260207T094626Z
LAST-MODIFIED:20260207T094626Z
UID:6715-1784925000-1784934000@nemzetilovasszinhaz.hu
SUMMARY:Egy vérből valók vagyunk - Mórahalom
DESCRIPTION:A Kárpátok öleléséből kiszakadva\, lélekben mégis összetartozva\, egyet mondunk\, egyet gondolunk. Egy szétszakított ország romjai között egy szerelmespár és egy kötelesség és irgalom között őrlődő katona sorsán keresztül mesél arról\, hogyan próbálhat ember maradni az ember\, amikor a történelem határokat húz a szívek közé. Új magyar musical a magyarságunk előtt tisztelegve.
URL:https://nemzetilovasszinhaz.hu/esemeny/egy-verbol-valok-vagyunk-morahalom/
LOCATION:Mórahalom – Patkó Lovas Színház\, Patkó Lovas Színház\, Mórahalom\, Csongrád\, Magyarország
ATTACH;FMTTYPE=image/webp:https://nemzetilovasszinhaz.hu/wp-content/uploads/2026/02/Egy-verbol-valok-vagyunk-470x675k.webp
END:VEVENT
BEGIN:VEVENT
DTSTART;TZID=UTC:20260804T180000
DTEND;TZID=UTC:20260804T210000
DTSTAMP:20260426T004905
CREATED:20260330T084214Z
LAST-MODIFIED:20260330T084214Z
UID:6823-1785866400-1785877200@nemzetilovasszinhaz.hu
SUMMARY:Dallamvágta – musicalek és operettek lóhátról
DESCRIPTION:A műsor a világ legkedveltebb musicaljeinek lovas színházi adaptációit tartalmazza\, köztük a Rómeó és Júlia és a Disney-klasszikusok híres dalait.
URL:https://nemzetilovasszinhaz.hu/esemeny/dallamvagta-musicalek-es-operettek-lohatrol-3/
LOCATION:Kincsem Park\, Albertirsai út 2-4.\, Budapest\, 1101\, Magyarország
CATEGORIES:jegyeladás
ATTACH;FMTTYPE=image/jpeg:https://nemzetilovasszinhaz.hu/wp-content/uploads/2026/03/Dallamvagta3.jpg
END:VEVENT
BEGIN:VEVENT
DTSTART;TZID=UTC:20260805T180000
DTEND;TZID=UTC:20260805T210000
DTSTAMP:20260426T004905
CREATED:20260330T085213Z
LAST-MODIFIED:20260330T094555Z
UID:6832-1785952800-1785963600@nemzetilovasszinhaz.hu
SUMMARY:Gallop of Melodies – Musicals and Operettas on Horseback
DESCRIPTION:The program features equestrian theatre adaptations of some of the world’s most beloved musical works\, including highlights from Romeo and Juliet and famous songs from Disney classics. English language performance.
URL:https://nemzetilovasszinhaz.hu/esemeny/gallop-of-melodies-musicals-and-operettas-on-horseback-3/
LOCATION:Kincsem Park\, Albertirsai út 2-4.\, Budapest\, 1101\, Magyarország
CATEGORIES:jegyeladás
ATTACH;FMTTYPE=image/jpeg:https://nemzetilovasszinhaz.hu/wp-content/uploads/2026/03/Gallop-ENG-08-05.jpg
END:VEVENT
BEGIN:VEVENT
DTSTART;TZID=UTC:20260809T200000
DTEND;TZID=UTC:20260809T223000
DTSTAMP:20260426T004905
CREATED:20260207T094939Z
LAST-MODIFIED:20260207T095055Z
UID:6719-1786305600-1786314600@nemzetilovasszinhaz.hu
SUMMARY:Marica grófnő - Mórahalom
DESCRIPTION:Az operettirodalom egyik legsikeresebb alkotása\, Kálmán Imre legnépszerűbb operettje\, a Marica grófnő mindig ünnep egy színház és a közönség számára. Egy klasszikus nagyoperett minden kötelező kelléke jelen lesz – lóháton táncra pördülő\, remek hangú színészekkel. Az operett világa a lovas színház sajátja.
URL:https://nemzetilovasszinhaz.hu/esemeny/marica-grofno-8/
LOCATION:Mórahalom – Patkó Lovas Színház\, Patkó Lovas Színház\, Mórahalom\, Csongrád\, Magyarország
ATTACH;FMTTYPE=image/webp:https://nemzetilovasszinhaz.hu/wp-content/uploads/2026/02/Marica-470x675k.webp
END:VEVENT
BEGIN:VEVENT
DTSTART;TZID=UTC:20260813T200000
DTEND;TZID=UTC:20260813T223000
DTSTAMP:20260426T004905
CREATED:20260207T095237Z
LAST-MODIFIED:20260207T095237Z
UID:6723-1786651200-1786660200@nemzetilovasszinhaz.hu
SUMMARY:Rózsa Sándor - Mórahalom
DESCRIPTION:A betyárok világát egyféle romantika övezi\, s mivel a mindenki által gyűlölt hatalom üldözte őket\, némi rokonszenvet is ébresztettek. Legnagyobb hírnévre az alföldi\, Szeged környéki Rózsa Sándor tett szert közülük. A darab a legendás betyárvilág korából meríti történetét\, cselekménye izgalmas\, szerelmi szálakkal tarkított kalandok sora.
URL:https://nemzetilovasszinhaz.hu/esemeny/rozsa-sandor-morahalom-3/
LOCATION:Mórahalom – Patkó Lovas Színház\, Patkó Lovas Színház\, Mórahalom\, Csongrád\, Magyarország
ATTACH;FMTTYPE=image/webp:https://nemzetilovasszinhaz.hu/wp-content/uploads/2026/02/Rozsa-Sandor-470x675k.webp
END:VEVENT
BEGIN:VEVENT
DTSTART;TZID=UTC:20260814T200000
DTEND;TZID=UTC:20260814T203000
DTSTAMP:20260426T004905
CREATED:20260207T095439Z
LAST-MODIFIED:20260207T095439Z
UID:6726-1786737600-1786739400@nemzetilovasszinhaz.hu
SUMMARY:Aladdin - Mórahalom
DESCRIPTION:A mesés keletet idéző történetben megelevenedik Aladdin\, az ifjú\, aki rátalálva egy varázsgyűrűre\, majd egy különleges lámpásra\, annak megdörzsölésével egy dzsinnt idéz meg\, aki minden kívánságát teljesíti. A mese musicalben a jó és rossz harca\, a hihetetlen varázslatok és a misztikus keleti világ csodái váltakoznak\, melyet a Nemzeti Lovas Színház művészei tesznek igazán fordulatokban gazdaggá.
URL:https://nemzetilovasszinhaz.hu/esemeny/aladdin-morahalom-6/
LOCATION:Mórahalom – Patkó Lovas Színház\, Patkó Lovas Színház\, Mórahalom\, Csongrád\, Magyarország
ATTACH;FMTTYPE=image/webp:https://nemzetilovasszinhaz.hu/wp-content/uploads/2026/02/Aladdin-470x675k.webp
END:VEVENT
BEGIN:VEVENT
DTSTART;TZID=UTC:20260820T200000
DTEND;TZID=UTC:20260820T223000
DTSTAMP:20260426T004905
CREATED:20260207T100120Z
LAST-MODIFIED:20260207T100120Z
UID:6729-1787256000-1787265000@nemzetilovasszinhaz.hu
SUMMARY:István\, a király - Mórahalom
DESCRIPTION:Az István\, a király című rockopera a Nemzeti Lovas Színház lenyűgöző\, lovasszínházi feldolgozásában most Ön elé tárja Magyarország születésének drámai pillanatait. Magyarország születése nem csupán évszámok sorozata\, hanem egy drámai\, lelki és történelmi fordulópont\, amelynek súlyát mind a mai napig érezzük. Ez a különleges előadás arra hívja Önt\, hogy testközelből élje át az ezeréves kérdést: maradunk-e a múlt hitében\, vagy elindulunk egy új\, ismeretlen úton?
URL:https://nemzetilovasszinhaz.hu/esemeny/istvan-a-kiraly-morahalom/
LOCATION:Mórahalom – Patkó Lovas Színház\, Patkó Lovas Színház\, Mórahalom\, Csongrád\, Magyarország
ATTACH;FMTTYPE=image/webp:https://nemzetilovasszinhaz.hu/wp-content/uploads/2026/02/Istvan-a-Mi-urunnk-470x675k.webp
END:VEVENT
BEGIN:VEVENT
DTSTART;TZID=UTC:20260821T193000
DTEND;TZID=UTC:20260821T220000
DTSTAMP:20260426T004905
CREATED:20260207T100329Z
LAST-MODIFIED:20260207T100329Z
UID:6732-1787340600-1787349600@nemzetilovasszinhaz.hu
SUMMARY:Mágnás Miska - Mórahalom
DESCRIPTION:Miska\, a talpraesett lovászfiú pillanatok alatt s szemünk láttára válik előkelő arisztokratává. Tenyeres-talpas párjából\, Marcsából pedig estélyi ruhás dáma lesz\, aki Mary grófnőként vonul be az úri társaságba. Mindez azért történik\, mert a rátarti család hallani sem akar arról\, hogy Baracs\, az egyszerű tiszttartó lányukat\, Rolla grófnőt vegye feleségül. Óriási szerencse\, hogy a kleptomániás nagymama nem törődve efféle előítéletekkel\, a fiatalok mellé áll\, s így az operett felhőtlenül juthat el a vidám fináléig.
URL:https://nemzetilovasszinhaz.hu/esemeny/magnas-miska-morahalom-3/
LOCATION:Mórahalom – Patkó Lovas Színház\, Patkó Lovas Színház\, Mórahalom\, Csongrád\, Magyarország
ATTACH;FMTTYPE=image/webp:https://nemzetilovasszinhaz.hu/wp-content/uploads/2026/02/Magnas-Miska-470x675k.webp
END:VEVENT
BEGIN:VEVENT
DTSTART;TZID=UTC:20260822T193000
DTEND;TZID=UTC:20260822T220000
DTSTAMP:20260426T004905
CREATED:20260207T100603Z
LAST-MODIFIED:20260207T100603Z
UID:6735-1787427000-1787436000@nemzetilovasszinhaz.hu
SUMMARY:Csináljuk a fesztivált! - Mórahalom
DESCRIPTION:A „Csináljuk a fesztivált” lovas gála igazi különlegesség: zene\, tánc és lenyűgöző lovas művészet találkozik egy színpadon. Andalúz és spanyol lovak\, frízek és magyar lipicaiak mutatják be tudásuk legjavát\, miközben a legkiválóbb musical énekesek gondoskodnak a felejthetetlen hangulatról. A különleges előadásban négy műfaj egyesül: a szabadonidomítás misztikuma\, a trükklovaglás izgalma\, a díjlovaglás eleganciája és a díjugratás magasiskolája.
URL:https://nemzetilovasszinhaz.hu/esemeny/csinaljuk-a-fesztivalt-morahalom-2/
LOCATION:Mórahalom – Patkó Lovas Színház\, Patkó Lovas Színház\, Mórahalom\, Csongrád\, Magyarország
ATTACH;FMTTYPE=image/webp:https://nemzetilovasszinhaz.hu/wp-content/uploads/2026/02/Janos-Vitez-470x675k.webp
END:VEVENT
BEGIN:VEVENT
DTSTART;TZID=UTC:20260828T193000
DTEND;TZID=UTC:20260828T220000
DTSTAMP:20260426T004905
CREATED:20260207T100810Z
LAST-MODIFIED:20260207T100810Z
UID:6738-1787945400-1787954400@nemzetilovasszinhaz.hu
SUMMARY:Unikornis legendája - Mórahalom
DESCRIPTION:Az Unikornis legendája egy utazás a hit\, a tisztaság és a csodák világába. A darab a ló és az ember kapcsolatának mítoszát tárja elénk\, túlmutatva a földi határokon. Az unikornis nem csak egy lény\, hanem egy jelkép: a reményé\, az igazságé és annak az erőnek a megtestesülése\, amely bennünk él\, ha hiszünk benne.
URL:https://nemzetilovasszinhaz.hu/esemeny/unikornis-legendaja-morahalom/
LOCATION:Mórahalom – Patkó Lovas Színház\, Patkó Lovas Színház\, Mórahalom\, Csongrád\, Magyarország
ATTACH;FMTTYPE=image/webp:https://nemzetilovasszinhaz.hu/wp-content/uploads/2026/02/Unikornis-470x675k.webp
END:VEVENT
BEGIN:VEVENT
DTSTART;TZID=UTC:20260829T193000
DTEND;TZID=UTC:20260829T220000
DTSTAMP:20260426T004905
CREATED:20260207T101003Z
LAST-MODIFIED:20260207T101003Z
UID:6741-1788031800-1788040800@nemzetilovasszinhaz.hu
SUMMARY:Szépség és a Szörnyeteg - Mórahalom
DESCRIPTION:A Nemzeti Lovas Színház a klasszikus meséket egyedülálló módon\, nagyszerű énekes színészekkel és lovakkal mutatja be a közönségnek. A Szépség és a Szörnyeteg című előadás sem kivétel. A gyerekek belecsöppenek egy csodálatos mesevilágba\, míg a felnőttek újra átélhetik a gyermekkoruk egyik kedvenc történetét. A herceget egy gonosz varázslat szörnyeteggé változtatja\, az átok csak akkor törhet meg\, ha a Szörnyeteg megtalálja azt\, aki képes meglátni a szívében rejlő szépséget.
URL:https://nemzetilovasszinhaz.hu/esemeny/szepseg-es-a-szornyeteg-morahalom-2/
LOCATION:Mórahalom – Patkó Lovas Színház\, Patkó Lovas Színház\, Mórahalom\, Csongrád\, Magyarország
ATTACH;FMTTYPE=image/webp:https://nemzetilovasszinhaz.hu/wp-content/uploads/2026/02/Szepseg-es-a-szornyeteg-470x675-k.webp
END:VEVENT
END:VCALENDAR